BEGIN:VCALENDAR
VERSION:2.0
PRODID:-//https://techplay.jp//JP
CALSCALE:GREGORIAN
METHOD:PUBLISH
X-WR-CALDESC:CMSMix Sapporo Vol.2 : Movable Typeの回
X-WR-CALNAME:CMSMix Sapporo Vol.2 : Movable Typeの回
X-WR-TIMEZONE:Asia/Tokyo
BEGIN:VTIMEZONE
TZID:Asia/Tokyo
BEGIN:STANDARD
DTSTART:19700101T000000
TZOFFSETFROM:+0900
TZOFFSETTO:+0900
TZNAME:JST
END:STANDARD
END:VTIMEZONE
BEGIN:VEVENT
UID:626274@techplay.jp
SUMMARY:CMSMix Sapporo Vol.2 : Movable Typeの回
DTSTART;TZID=Asia/Tokyo:20170819T130000
DTEND;TZID=Asia/Tokyo:20170819T170000
DTSTAMP:20260423T113210Z
CREATED:20170628T101322Z
DESCRIPTION:イベント詳細はこちら\nhttps://techplay.jp/event/62627
 4?utm_medium=referral&utm_source=ics&utm_campaign=ics\n\n札幌のCMS（
 コンテンツ・マネージメント・システム）関連コミュ
 ニティの、オープンな交流を目的とした合同勉強会で
 す。\nDrupalさっぽろ（Drupal）・MT蝦夷（Movable Type）・a-s
 ap（a-blog cms）の3つのコミュニティの持ち回りで、二ヶ
 月に一度程度の開催を予定しています。\nテーマはあ
 りますが「もくもく会」のようなゆるい方向性です。\
 nCMSを勉強している・したい人ならどなたでもお集まり
 ください。\n今回の内容\n第2回となる今回は「Movable Typ
 e」がテーマです。\nhttps://www.sixapart.jp/movabletype/\n2年前
 にリリースとなってから注目を集める「MovableType.net」\
 nそして来年2018年始めにメジャーバージョンアップが
 予定されている「Movable Type」\nCMS界ではかなりの老舗
 ですが、今もなお進化し続けるMovable Typeシリーズを触
 ってみましょう！\n当日は、MovableType.netの製品企画マ
 ネジャーでもある、早瀬さんも会場に駆けつけ、初心
 者向けハンズオンを予定しています。初めての方も安
 心してご参加いただけますよ！\n参考→ https://developer.m
 ovabletype.net/themeguide/\nタイムテーブル\nイベントの状況
 により変更される可能性があります。\n13:30〜　MovableTy
 pe.netの案内（6A 早瀬さん）\n−　教材 https://developer.mova
 bletype.net/themeguide/\n14:00〜　CMSMix Sapporo Vol.2（もくもく
 会）\n−　同時開催：MT.netハンズオン\n17:30〜　懇親会\
 n注意事項（必ずお読みください）\n\n本編は自習形式
 です。パソコン等の開発ができる端末の持参が必須と
 なります。\n会場に電源・Wi-Fiを用意しますが、サーバ
 ーへのセキュア接続ができません（SSH・SFTPなど）。必
 要な場合はモバイルルーターなど持参ください。\n飲
 食可能です。ゴミは各自休憩室等に捨ててください。\
 n業務の宣伝目的の参加はご遠慮ください。\n
LOCATION:札幌産業振興センター 技能訓練棟 北海道札幌市
 白石区東札幌5条1丁目1-1
URL:https://techplay.jp/event/626274?utm_medium=referral&utm_source=ics&utm
 _campaign=ics
END:VEVENT
END:VCALENDAR
