BEGIN:VCALENDAR
VERSION:2.0
PRODID:-//https://techplay.jp//JP
CALSCALE:GREGORIAN
METHOD:PUBLISH
X-WR-CALDESC:クラウドサービスの基礎を学ぶ【AIDOR基礎知識
 ・クラウドサービス編・座学】 
X-WR-CALNAME:クラウドサービスの基礎を学ぶ【AIDOR基礎知識
 ・クラウドサービス編・座学】 
X-WR-TIMEZONE:Asia/Tokyo
BEGIN:VTIMEZONE
TZID:Asia/Tokyo
BEGIN:STANDARD
DTSTART:19700101T000000
TZOFFSETFROM:+0900
TZOFFSETTO:+0900
TZNAME:JST
END:STANDARD
END:VTIMEZONE
BEGIN:VEVENT
UID:626371@techplay.jp
SUMMARY:クラウドサービスの基礎を学ぶ【AIDOR基礎知識・
 クラウドサービス編・座学】 
DTSTART;TZID=Asia/Tokyo:20170823T180000
DTEND;TZID=Asia/Tokyo:20170823T210000
DTSTAMP:20260424T032842Z
CREATED:20170629T092639Z
DESCRIPTION:イベント詳細はこちら\nhttps://techplay.jp/event/62637
 1?utm_medium=referral&utm_source=ics&utm_campaign=ics\n\n\n\n\n AWS IoT
 を中心にクラウドサービスの技術と事例を学ぶクラウ
 ドサービスについての基礎を学び、クラウド上（AWS IoT
 ）のデータベースの作成と、IoTデバイスで得られた数
 値をクラウドにデータとして格納するまでの工程を座
 学として伝えます。実機を使用したデモの実演をご覧
 頂きます。\nAWS IoTプラットフォームhttps://aws.amazon.com/jp
 /iot-platform/how-it-works/\n◆ 講師 ◆アマゾン ウェブ サー
 ビス ジャパン 株式会社　ソリューション アーキテク
 ト藤原 吉規（ふじわら　よしのり） 氏\nビジネス向け
 チャットサービス事業を行う関西のスタートアップに6
 年間勤務。AWSを最大限活用し、事業の立ち上げ期から
 成長を支えてきました。現在はソリューション アーキ
 テクトとして、AWSの各種サービスの利用を推進してい
 ます。◆ 講座形式 ◆聴講型 ※筆記用具をご持参くだ
 さい\n◆ AIDORアクセラレーション基礎知識講座につい
 て ◆＊その他、基礎講座は有料となっております。詳
 細は、AIDORアクセラレーションWebサイトのプログラム
 概要をご確認ください。http://www.imedio.or.jp/acceleration/#Cu
 rriculum\nIoTを活用したサービスを作る上で必要な知識や
 事例と、開発に活用できる最新ツールを、座学とワー
 クショップで体得します。\n本講座は、IoT・ロボット
 ビジネス起業家育成プログラム『AIDORアクセラレーシ
 ョン』内の講座です。『AIDORアクセラレーション』に
 参加されない方も、本講座【基礎知識編】のみ、単体
 でのご参加が可能です。\nなお、基礎知識編のみの受
 講の場合は、『AIDORアクセラレーション』受講生資格
 はございません。アクセラレーションプログラムの面
 談やハンズオン支援など、ビジネスのブラッシュアッ
 プにともなう各種サービスをご希望の方は、AIDORアク
 セラレーションプログラムにお申し込み下さい。◆ AID
 ORアクセラレーションとは ◆\n『AIDORアクセラレーショ
 ン』は、IoT・ロボットテクノロジーを活用したビジネ
 スアイデアを持ち、起業をめざす方を対象に、そのア
 イデアをビジネスプラン構築とプロトタイプの開発へ
 と導き、投資家や大手企業を対象としたピッチイベン
 トなどを通じて、シードマネーの獲得やパートナー発
 掘の機会を提供するIoT特化型アクセラレーションプロ
 グラムです。\n※「AIDOR」は、AI and Data oriented Robotic serv
 ices の略称です。\nAIDORアクセラレーション オフィシャ
 ルサイトはこちら\n◆ 注意事項 ◆\n\nプログラム内容
 の詳細につきましては、予告なく変更する場合がござ
 いますので、ご了承ください。\nイベント後の情報発
 信のため写真・動画を撮影します。また、メディアの
 取材を受けることがあります。これらの写真・動画に
 参加者の肖像等が映り込む可能性に同意した上で、ご
 参加ください。\n大阪市委託事業「平成29年度 ソフト
 産業プラザ事業、IoT・RT関連ビジネス創出事業」とし
 て実施しています。\nご欠席される場合は必ず前日ま
 でにキャンセル処理をしていただきますようお願いい
 たします。\nお申し込み時にご連絡いただいたメール
 アドレスに、今後のイベントのご案内を差し上げる場
 合がございます。予めご了承ください。\n\n\n◆ 個人情
 報の取り扱いについて◆入力いただいた個人情報は、
 あらかじめ明示した収集目的の範囲内でのみ利用し、
 外部へ提供することはありません。公益財団法人大阪
 市都市型産業振興センターの個人情報保護方針はこち
 ら\n
LOCATION:ソフト産業プラザiMedio（大阪市住之江区南港北2-1
 -10　ATCビル ITM棟6階） 大阪市住之江区南港北2-1-10　ATC
 ビル ITM棟6階
URL:https://techplay.jp/event/626371?utm_medium=referral&utm_source=ics&utm
 _campaign=ics
END:VEVENT
END:VCALENDAR
