BEGIN:VCALENDAR
VERSION:2.0
PRODID:-//https://techplay.jp//JP
CALSCALE:GREGORIAN
METHOD:PUBLISH
X-WR-CALDESC:SELinuxの現状とLinuxセキュリティ
X-WR-CALNAME:SELinuxの現状とLinuxセキュリティ
X-WR-TIMEZONE:Asia/Tokyo
BEGIN:VTIMEZONE
TZID:Asia/Tokyo
BEGIN:STANDARD
DTSTART:19700101T000000
TZOFFSETFROM:+0900
TZOFFSETTO:+0900
TZNAME:JST
END:STANDARD
END:VTIMEZONE
BEGIN:VEVENT
UID:627428@techplay.jp
SUMMARY:SELinuxの現状とLinuxセキュリティ
DTSTART;TZID=Asia/Tokyo:20170726T190000
DTEND;TZID=Asia/Tokyo:20170726T210000
DTSTAMP:20260421T212949Z
CREATED:20170710T020048Z
DESCRIPTION:イベント詳細はこちら\nhttps://techplay.jp/event/62742
 8?utm_medium=referral&utm_source=ics&utm_campaign=ics\n\n2017年のIT分
 野における最大のトピックの一つといえば、セキュリ
 ティです。特に、2020年東京オリンピックに向けてサイ
 バー攻撃の増加が予測されています。2017年は、セキュ
 リティへの対策は企業にとって必須であると考えてい
 ます。\n特に、オープンソースがウェブサイト構築で
 デファクト環境となっている現在、オープンソースの
 導入とセキュリティへの対策は、切っても切れない状
 況です。それらのシステムでは、クレジットカード情
 報などの重要な顧客情報を保存するためにデータベー
 スが多く利用されています。そのため、データベース
 のセキュリティ対策は、企業にとって、必須の事項と
 いえます。\nそのなかで、Linuxディストリビューション
 に含まれているSELinuxは、強力なセキュリティ対策とな
 りますが、国内ではまだまだ十分に普及しているとは
 言えない状況です。その背景には何があるのでしょう
 か？ \nそこで、 OSSセキュリティナイター vol.6 として
 、SELinuxを取り上げ、\n『 SELinuxの現状とLinuxセキュリテ
 ィ 』\nと題してセミナーを開催することになりました
 。\n最新動向から実際の効果を含めて、ご紹介するこ
 とになりました。\n今回も、前回に引き続き、ゲスト
 講師としてSELinuxスペシャリストをお招きし講演をいた
 だきます。\nセキュリティ全般およびオープンソース
 ソフトウェアの最新セキュリティ動向、データベース
 セキュリティの実態や対策など、直ちに皆様のお役に
 立つ内容を用意しました。\nこの機会にどうぞご参加
 ください。\n(受付にあたり、名刺を2枚お持ちくださる
 ようにお願いいたします。)\n＜アジェンダ＞\n\n 19:00-19
 :10　ご挨拶 \n\n 19:10-19:25　サーバー/データベースにお
 けるOSSセキュリティ市場動向について \nセキュリティ
 市場全体の動き、オープンソースにおけるセキュリテ
 ィに対するLinux Foundationやデータベースのセキュリティ
 全般について簡単に紹介します。\nMKTインターナショ
 ナル株式会社　代表取締役社長　赤井 誠\n略歴： 日本
 ヒューレット・パッカード株式会社（日本HP）に入社
 後，ソフトウェアR&D，事業企画，マーケティング部門
 を歴任。2003年からLinuxビジネス立ち上げのリーダーと
 なり，日本HPをLinux No.1ベンダーに導く。また，x86サー
 バーを活用したハイパフォーマンス・コンピューティ
 ング（HPC）を立ち上げ，HPC No.1ベンダーに導く。2011年4
 月 MKTインターナショナル株式会社を起業し，現職。 
 著書：『MySQLクックブック』（オライリー・ジャパン
 ）、『できるPRO MySQL』（インプレス）等多数\n\n 19:25-20
 :05　企業システムにSELinuxを適用するときの検討事項に
 ついて \nOSSの脆弱性を利用した攻撃の拡大に伴い、そ
 の対策が急務となってきています。\nこのような中、
 企業システムおいては、システムの動作上の問題があ
 るとして定説的に無効化されていたSELinuxについて、有
 効化する必要性が出てきているものと考えています。\
 nこのセッションでは、企業システムにSELinuxを適用す
 る際に必要な事項について、SE観点で検証・検討した
 内容をご紹介します。\n日立製作所 OSSソリューション
 センタ　満 充師 氏\n略歴：日立製作所入社後、産業、
 金融、公共など多数の分野のシステム開発に従事。現
 在は、日立製作所OSSソリューションセンタに所属し、S
 ELinuxを中心に、セキュリティ分野のOSSの普及をSE視点
 で取り組み中。\n\n 20:05-20:45　最近のSELinuxの状況 \n最
 近のSELinuxの状況と、直近で注目された脆弱性に対して
 どの程度効果があるのか・あったのかをデモを交えて
 お話します。\nサイオステクノロジー株式会社　面 和
 毅\n略歴：OSSのセキュリティ専門家として20年近くの経
 験があり、主にOS系のセキュリティに関しての執筆や
 講演を行う。大手ベンダや外資系、ユーザ企業などの
 様々な立場を経験。2015年からサイオステクノロジーの
 OSS/セキュリティエバンジェリストとして活躍。\nCISSP: 
 #366942\n近著：『Linuxセキュリティ標準教科書 』(LPI-Japan
 )、『CentOSサーバ構築バイブル』(毎日コミュニケーシ
 ョンズ）等多数\n\n 20:45-21:00　Q/A & クロージング
LOCATION:サイオステクノロジー株式会社　セミナールーム
  東京都港区南麻布2-12-3　サイオスビル
URL:https://techplay.jp/event/627428?utm_medium=referral&utm_source=ics&utm
 _campaign=ics
END:VEVENT
END:VCALENDAR
