BEGIN:VCALENDAR
VERSION:2.0
PRODID:-//https://techplay.jp//JP
CALSCALE:GREGORIAN
METHOD:PUBLISH
X-WR-CALDESC:ノンプログラミングPaaS「Mendix」無料ハンズオ
 ン
X-WR-CALNAME:ノンプログラミングPaaS「Mendix」無料ハンズオ
 ン
X-WR-TIMEZONE:Asia/Tokyo
BEGIN:VTIMEZONE
TZID:Asia/Tokyo
BEGIN:STANDARD
DTSTART:19700101T000000
TZOFFSETFROM:+0900
TZOFFSETTO:+0900
TZNAME:JST
END:STANDARD
END:VTIMEZONE
BEGIN:VEVENT
UID:627564@techplay.jp
SUMMARY:ノンプログラミングPaaS「Mendix」無料ハンズオン
DTSTART;TZID=Asia/Tokyo:20170809T143000
DTEND;TZID=Asia/Tokyo:20170809T180000
DTSTAMP:20260422T213411Z
CREATED:20170711T053822Z
DESCRIPTION:イベント詳細はこちら\nhttps://techplay.jp/event/62756
 4?utm_medium=referral&utm_source=ics&utm_campaign=ics\n\nMendixとは\n\n
 これまではカスタマイズやスクラッチ開発でなければ
 対応できなかった複雑な画面や帳票つくり、最新の技
 術を習得しなければ始められなかったIoTやコグニティ
 ブ、スマートデバイス対応などが簡単につくれるアプ
 リ開発型プラットフォームです。\nhttps://mendix.buildsystem
 .jp/\n\nガートナーの2017年版マジッククアドラントで「
 ハイプロダクティビティPaaS」、「モバイルアプリケー
 ション開発PaaS」の2部門でリーダーの評価を得た米Mendi
 xが提供するaPaaSです。\n\nハンズオンでは\n\nPC上のMendix
  Modelerの中でモデルを定義することでシンプルなアプ
 リケーションをつくります。\n用意したPCで実際に動く
 ものをつくりながら不明点をその場で解決しながら完
 成させます。\n\nこんな人におすすめ\n\n・アプリケー
 ションを高速でつくりたい\n\n・システム開発を内製化
 したい\n\n・PaaSを使ってみたい\n\n・スクラム開発をス
 ムーズにすすめたい\n\n参加者のみなさまへ\n\n事前にMe
 ndixのIDを取得して頂く必要があります。\n取得方法な
 どについては参加申し込み後に事務局から連絡させて
 頂きますので2日以内に事務局あてにご返信ください。
 \n\n当日は筆記用具とお名刺1枚をお持ちください。\n
LOCATION:ビジネスセンター四谷 新宿区四谷1-8-14 四谷1丁目
 ビル6F
URL:https://techplay.jp/event/627564?utm_medium=referral&utm_source=ics&utm
 _campaign=ics
END:VEVENT
END:VCALENDAR
