BEGIN:VCALENDAR
VERSION:2.0
PRODID:-//https://techplay.jp//JP
CALSCALE:GREGORIAN
METHOD:PUBLISH
X-WR-CALDESC:トラストバリューチェーンで企業を進化させ
 よ！【増枠】
X-WR-CALNAME:トラストバリューチェーンで企業を進化させ
 よ！【増枠】
X-WR-TIMEZONE:Asia/Tokyo
BEGIN:VTIMEZONE
TZID:Asia/Tokyo
BEGIN:STANDARD
DTSTART:19700101T000000
TZOFFSETFROM:+0900
TZOFFSETTO:+0900
TZNAME:JST
END:STANDARD
END:VTIMEZONE
BEGIN:VEVENT
UID:627692@techplay.jp
SUMMARY:トラストバリューチェーンで企業を進化させよ！
 【増枠】
DTSTART;TZID=Asia/Tokyo:20170719T190000
DTEND;TZID=Asia/Tokyo:20170719T210000
DTSTAMP:20260422T050719Z
CREATED:20170712T100026Z
DESCRIPTION:イベント詳細はこちら\nhttps://techplay.jp/event/62769
 2?utm_medium=referral&utm_source=ics&utm_campaign=ics\n\nトラストバ
 リューチェーンで企業を進化させよ！\n企業がオウン
 ドメディアで成功するためには、（ユーザー）顧客と
 信頼関係を構築しなければなりません。\n信頼を得る
 ためには、UXでも利用されているカスタマージャーニ
 ーマップを用いてユーザーに響くコンテンツを作る必
 要があります。\nこのセッションでは、スピーカーの
 マティアスが実践し成功している企業文化を「ボトム
 アップ」型にするための事例をご紹介いたします。\n
 サイロ化(＊1)を解消するための事例とルール造り。\n
 ボトムアップ化の結果、マーケティング、セールス、
 そしてその他の部門向けのコンテンツがより簡単に\n
 そしてより多くのインパクトをもたらすよう制作する
 ことができるようになります。\n(＊1)サイロ化\nsiloと
 は家畜の飼料や穀物などの貯蔵庫ないしは弾道ミサイ
 ルの地下格納庫のことで、英語では「窓がなく周囲が
 見えない」という意味がある。ここから、組織が縦割
 り構造になっていて各業務部門の活動が連動を欠いて
 いることを「サイロ型業務」、コンピュータ業務シス
 テムにおいてアプリケーションやデータが部門や個人
 ごとに孤立していることを「サイロ型システム」「ア
 プリケーション・サイロ」「データ・サイロ」などと
 いう。\n\n\n参考[http://www.itmedia.co.jp/im/articles/0609/30/news01
 8.html]\n\n\n■開催日時\n\n2017年7月19日(水)　19時〜21時\n\n
 ■運営\n- 主催：The Content Shrinks\n- 協力：UX DAYS TOKYO (Web 
 Directions East)\n■アジェンダ\n\n企業とユーザーの信頼\n
 企業内スタッフの信頼\nボトムアップ型の事例\n\n■参
 加していただきたい方\n\nUXデザイナー\nコンテンツス
 トラテジスト\nデジタルマーケター\nディレクター\nそ
 の他、上記内容を知りたい型\n\n■参加枠\n\n一般参加
 者(初参加）：定員以上の場合は抽選となります。\nUXDT
 参加者：最新で参加されたお日にちをご記入ください
 。\nブログ枠：メディアをお持ちの方でレポートを記
 載していただける方。\n\n■習得できる情報・コンテン
 ツ\nサイロ型、縦軸企業の問題は日本だけの問題では
 ありません。\n日本で言う「組織化」のイベントにな
 ります。\nUXをより浸透させるためには横断型の仕組み
 がポイントになります。\n今回のイベントでは「ボト
 ムアップ」型の事例のご紹介と共に\nコンテンツスト
 ラテジーの内容を共にご紹介予定です。\n■スピーカ
 ー紹介\nマティアス・マール（ドイツ人）\n企業のコン
 テンツワークフロー改善を促進するコンサルタント「
 ザ・コンテント・シュリンクス」セラピスト\n言語学
 とコンピューターサイエンスを研究した後、サイコセ
 ラピー（心理療法）の実践を10年以上行っています。\n
 わずか数分・数秒のうちに信頼関係を構築できること
 は、セラピストの最も重要なスキルのひとつです。\n
 この知識は、コラボレーションを改善し、社員の行動
 やあり方を見直す手助けをする仕事を行なっています
 。\n受付方法\n\n１）1階　エスカレーター横のイベント
 受付にてセミナーカードをお受け取りください。\n２
 ）2階エレベーターより41階 イベント会場アカデミーホ
 ールにお越しください。\n   その際、セミナーカード
 番号とお名刺をご提示ください。\n３）※お帰りの際
 、セミナーカードは2階の返却ボックスに必ずご返納く
 ださい。\n\n＊ご注意＊\nカード紛失となりますと、1枚
 につき5000円の弁償となります。\nその際、お名刺のご
 住所にご請求となりますので予めご了承ください。\n
 お名刺をご持参されない場合、connpassの受付画面とご
 住所を記載していただきます。\n■プレゼントのご案
 内\nUX LONDONでプレゼントされた洋書（Jeff Gothelf さんとJ
 osh Seidenさんの）「Sense & Respond」を1冊抽選でプレゼン
 トいたします。（サイン付きです、すみません）\nhttp:
 //amzn.to/2vbSJRQ
LOCATION:リクルートライフスタイル　41階　アカデミーホ
 ール 〒100-6640 東京都千代田区丸の内1−9−2 グラント
 ウキョウサウスタワー
URL:https://techplay.jp/event/627692?utm_medium=referral&utm_source=ics&utm
 _campaign=ics
END:VEVENT
END:VCALENDAR
