BEGIN:VCALENDAR
VERSION:2.0
PRODID:-//https://techplay.jp//JP
CALSCALE:GREGORIAN
METHOD:PUBLISH
X-WR-CALDESC:fun-tech meetup #2 機械学習
X-WR-CALNAME:fun-tech meetup #2 機械学習
X-WR-TIMEZONE:Asia/Tokyo
BEGIN:VTIMEZONE
TZID:Asia/Tokyo
BEGIN:STANDARD
DTSTART:19700101T000000
TZOFFSETFROM:+0900
TZOFFSETTO:+0900
TZNAME:JST
END:STANDARD
END:VTIMEZONE
BEGIN:VEVENT
UID:627749@techplay.jp
SUMMARY:fun-tech meetup #2 機械学習
DTSTART;TZID=Asia/Tokyo:20170818T190000
DTEND;TZID=Asia/Tokyo:20170818T210000
DTSTAMP:20260425T101746Z
CREATED:20170713T021039Z
DESCRIPTION:イベント詳細はこちら\nhttps://techplay.jp/event/62774
 9?utm_medium=referral&utm_source=ics&utm_campaign=ics\n\n現場で機械
 学習にとりくむひとたちの最前線のお話をみんなで聴
 こう！\n目的\n\n現場で機械学習にとりくむひとたちの
 最前線のお話をみんなで聴こう！\n\n初心者から入門者
 まで、いろんなタイプの「初めて」の人に楽しんでい
 ただけるようなコンテンツにしていきたいと思います
 。\n\n最近Cognitive Serviceって流行ってるけどなんだろう
 ？\n機械学習興味ある\n機械学習やってるよ\n懇親会が
 勉強会の本番だぜ！\n\nみなさまお待ちしております！
 \n持ち物\nお名刺1枚（会場入館手続きのため）  \nお名
 刺をお持ちでない方は当日受付でフルネームの記帳を
 お願いします。\nスケジュール\n\n\n\n開始時間\nアジェ
 ンダ\n\n\n\n\n18:30\n受付開始\n\n\n19:00\nオープニング + 会
 場説明 + fun-techについて\n\n\n19:15\ntalk1: Azure/Bluemix/GCP の
 翻訳系APIについて比較してみた by 白木俊さん\n\n\n19:30\
 ntalk2: 機械学習モデルの汎化性能と評価 by 奥村恒介さ
 ん\n\n\n20:00\n休憩\n\n\n20:15\ntalk3: 機械学習のための数学
 のおさらい：微分法をイチから思い出そう（ディープ
 ラーニングと微分の話しもあるよ！） by 寺田英雄\n\n\n
 21:00\nクロージング->懇親会\n\n\n\n8/18 更新\n参加枠を20 
 → 25名に拡大しました！！
LOCATION:株式会社オープンストリーム 大会議室 東京都新
 宿区西新宿2-7-1 (小田急第一生命ビル9階)
URL:https://techplay.jp/event/627749?utm_medium=referral&utm_source=ics&utm
 _campaign=ics
END:VEVENT
END:VCALENDAR
