BEGIN:VCALENDAR
VERSION:2.0
PRODID:-//https://techplay.jp//JP
CALSCALE:GREGORIAN
METHOD:PUBLISH
X-WR-CALDESC:第11回 CoderDojo 嘉手納
X-WR-CALNAME:第11回 CoderDojo 嘉手納
X-WR-TIMEZONE:Asia/Tokyo
BEGIN:VTIMEZONE
TZID:Asia/Tokyo
BEGIN:STANDARD
DTSTART:19700101T000000
TZOFFSETFROM:+0900
TZOFFSETTO:+0900
TZNAME:JST
END:STANDARD
END:VTIMEZONE
BEGIN:VEVENT
UID:628125@techplay.jp
SUMMARY:第11回 CoderDojo 嘉手納
DTSTART;TZID=Asia/Tokyo:20170820T093000
DTEND;TZID=Asia/Tokyo:20170820T113000
DTSTAMP:20260421T181402Z
CREATED:20170718T042023Z
DESCRIPTION:イベント詳細はこちら\nhttps://techplay.jp/event/62812
 5?utm_medium=referral&utm_source=ics&utm_campaign=ics\n\nCoderDojoとは\
 nCoderDojo Japanより引用\n\nCoderDojo は7〜17歳の子どもを対
 象にしたプログラミング道場です。2011年にアイルラン
 ドで始まり、世界では70カ国・1\,200の道場、日本では
 全国に70以上の道場があります (2017年1月)。\n\n沖縄で
 は、南風原や宮古島でも開催されています。\n\nCoderDojo
  沖縄\nCoderDojo 宮古島\n\nCoderDojoは小中学生を対象にし
 た自習型の「プログラミング道場」です。 自主的に学
 習したり作品づくりをして、疑問点や質問があればメ
 ンターがアドバイスしてくれる場となっています。\n
 詳しくは、CoderDojoガイダンス（最新版） をご覧くださ
 い。\nCoderDojo嘉手納でやること\n初心者向けにScratchやCo
 de.orgを使ってプログラミングを体験・学習します。\n
 過去の様子は 開催レポート - CoderDojo 嘉手納 をご覧く
 ださい。\n第11回の内容\n参加者はそれぞれ自分のプロ
 ジェクトを進めていただきます。\nScratch入門者のお子
 様にはメンターの方で簡単な課題をご用意しますので
 、申込時にお知らせください。  \n参加資格\n\n対象年
 齢 : 小中学生（小学生は保護者の付き添い必須）\n持
 ち物：Wi-Fiが使えるノートパソコン、電源ケーブル、
 タッチパッドに不慣れな場合はマウスをご持参くださ
 い。\n事前準備：Scratchのユーザー登録と動作確認はご
 自宅で済ませておいてください。\n参考）Scratchのアカ
 ウント作成手順 - CoderDojo 嘉手納\n\n参加費\nお子様、保
 護者の方のCoderDojo参加費は無料です。\nタイムテーブ
 ル\n\n9:30 集合、受付、挨拶\n9:45 プログラミング開始！
 （※休憩は適宜各自自由に）\n11:00 発表タイム\n11:30 道
 場おわり。写真撮影、解散！\n\n申し込み手順\n\n当ペ
 ージで「このイベントに申し込む」を押してください
 。（メール、電話での受付は行っておりません。予め
 ご了承下さい。）\n投稿欄にお子さんの学年（必須）
 とやりたいことや作りたいものがありましたら、その
 旨ご記入下さい。\n\nメンター（先生）たちはどんな人
 ?\nプログラマやデザイナ、エンジニアなど、ソフトや
 ハードを作ることを専門にしている人たちによるボラ
 ンティアです。メンターとしてご参加いただける方や
 興味がある方は、ぜひ 主宰者 までお気軽にご連絡下
 さい！\n寄付について\nCoderDojo 嘉手納 継続のために、
 会場費用その他運営にかかる費用をサポートして頂け
 れば幸いです。\n\n会計報告 - CoderDojo 嘉手納\n\n注意事
 項\n\n小学生のお子さんが参加される場合、保護者の方
 は会場までの送迎と会場での付き添いをお願いします
 。\n\nお願い事項\nCoderDojo嘉手納の ブログ や募集ペー
 ジなどに実施当日の様子を紹介する写真を掲載するた
 め、道場で写真を撮影させていただきます。ご理解と
 ご協力をよろしくお願いします。
LOCATION:嘉手納町マルチメディアセンター 小会議室 沖縄
 県中頭郡嘉手納町水釜字412
URL:https://techplay.jp/event/628125?utm_medium=referral&utm_source=ics&utm
 _campaign=ics
END:VEVENT
END:VCALENDAR
