BEGIN:VCALENDAR
VERSION:2.0
PRODID:-//https://techplay.jp//JP
CALSCALE:GREGORIAN
METHOD:PUBLISH
X-WR-CALDESC:Scala関西Summit 2017
X-WR-CALNAME:Scala関西Summit 2017
X-WR-TIMEZONE:Asia/Tokyo
BEGIN:VTIMEZONE
TZID:Asia/Tokyo
BEGIN:STANDARD
DTSTART:19700101T000000
TZOFFSETFROM:+0900
TZOFFSETTO:+0900
TZNAME:JST
END:STANDARD
END:VTIMEZONE
BEGIN:VEVENT
UID:628209@techplay.jp
SUMMARY:Scala関西Summit 2017
DTSTART;TZID=Asia/Tokyo:20170909T100000
DTEND;TZID=Asia/Tokyo:20170909T180000
DTSTAMP:20260424T172022Z
CREATED:20170719T021028Z
DESCRIPTION:イベント詳細はこちら\nhttps://techplay.jp/event/62820
 9?utm_medium=referral&utm_source=ics&utm_campaign=ics\n\n関西の大規
 模Scalaイベント「Scala関西Summit 2017」のチケット購入ペ
 ージです。\n詳しい情報は公式サイトをご覧ください
 。\nご参加の方は必ず参加登録をお願いします。当日
 参加枠および当日キャンセル待ち枠はありません。\n
 チケットについて\n\n懇親会付きのチケットの返金は不
 可となっております。ご了承ください。\n懇親会付き
 のチケットは他のチケットより前に締め切る可能性が
 あります。\nスピーカーの方は、チケットのお申し込
 みは不要です。(本編+懇親会)\nスポンサーの方は、下
 記の人数分は用意がありますので、チケットのお申し
 込みは不要です。(本編+懇親会)\nプラチナスポンサー
 ：3名\nゴールドスポンサー：3名\nシルバースポンサー
 ：1名\nブロンズスポンサー：1名\n\n\n\nカンファレンス
 本編について\n\n場所：天満研修センター(受付：3F)\n時
 間：10:30〜18:00(開場：10:00)\n参加費：無料\n\n懇親会に
 ついて\n\n場所：さくらインターネット株式会社 (グラ
 ンフロント大阪タワーA 35F)\nJR大阪駅が最寄り駅です。
 \n本編会場からの経路：https://goo.gl/maps/RgR7qzAMWHQ2\n\n\n時
 間：18時開場 19時開始 \n参加費：\n一般￥4000-\n学生￥20
 00-\n\n\n\n※ クレジットカードをお持ちではないなどの
 理由で当サイトからの決済が難しい場合、 こちら よ
 りお問い合わせください。\n懇親会は多くのスポンサ
 ー・スピーカーのみなさまが参加予定で、LT大会も行
 われ例年大変盛り上がっております。\nぜひご参加く
 ださい。\n去年の懇親会の模様(写真)\n懇親会LT発表者
 募集について\n懇親会でLT大会を実施します！\nそれに
 伴い、LTしてくださる方を募集いたします。\n\n一人持
 ち時間3分\n先着5名\nテーマはScalaに関することであれ
 ば何でもOK\n\n懇親会でぜひしゃべりたい！という方は
 、下記の流れで参加表明をお願いします。\n参加表明
 方法\n\n懇親会付きのチケットにお申し込み\nすでにお
 申し込み済みの方は不要です\n\n\nこちらのイベントペ
 ージのフィード(コメント欄)に下記の項目を投稿\n「懇
 親会LT発表希望」の一文\n発表タイトル\n\n\n\nその他注
 意事項\n\n発表者はスタッフ確認の上、フィード投稿先
 着順とさせていただきます。\n決定しましたら、この
 説明欄にお名前(connpass名)を記載させていただきます。
 \nスタッフ確認時に懇親会付きチケット未購入の場合
 は、次の発表希望者に繰り上げさせていただきます。\
 nスポンサー枠で参加される方もお申し込みいただけま
 す。フィードへの投稿内容にスポンサー名を追加でご
 記入ください。アカウントをお持ちでない場合はメー
 ルでも大丈夫です。\nスピーカー枠で参加される方も
 お申し込みいただけます。フィードへの投稿内容にス
 ピーカー名を追加でご記入ください。アカウントをお
 持ちでない場合はメールでも大丈夫です。\n\n懇親会LT
 発表者\n\n\n\nお名前\nタイトル\n\n\n\n\nYoshitaka Fujii さん\
 nScalaを業務で使うためにした7つのこと\n\n\nザネリ さ
 ん\nScalaの奇妙なURL ～パーサコンビネータは砕けない
 ～\n\n\ntanishiking さん\nScala製インタプリタをブラウザで
 動かす3分クッキング\n\n\nmuojp さん\nScalaでASICやFPGA用の
 回路を設計する\n\n\n\n\n\n\n
LOCATION:天満研修センター 大阪市北区錦町2-21
URL:https://techplay.jp/event/628209?utm_medium=referral&utm_source=ics&utm
 _campaign=ics
END:VEVENT
END:VCALENDAR
