BEGIN:VCALENDAR
VERSION:2.0
PRODID:-//https://techplay.jp//JP
CALSCALE:GREGORIAN
METHOD:PUBLISH
X-WR-CALDESC:【さらに増枠・8/23(水)開催】夏だ祭りだ恋愛
 だ！ マッチングアプリのグロース特集！
X-WR-CALNAME:【さらに増枠・8/23(水)開催】夏だ祭りだ恋愛
 だ！ マッチングアプリのグロース特集！
X-WR-TIMEZONE:Asia/Tokyo
BEGIN:VTIMEZONE
TZID:Asia/Tokyo
BEGIN:STANDARD
DTSTART:19700101T000000
TZOFFSETFROM:+0900
TZOFFSETTO:+0900
TZNAME:JST
END:STANDARD
END:VTIMEZONE
BEGIN:VEVENT
UID:628333@techplay.jp
SUMMARY:【さらに増枠・8/23(水)開催】夏だ祭りだ恋愛だ！ 
 マッチングアプリのグロース特集！
DTSTART;TZID=Asia/Tokyo:20170823T190000
DTEND;TZID=Asia/Tokyo:20170823T220000
DTSTAMP:20260425T161254Z
CREATED:20170720T040034Z
DESCRIPTION:イベント詳細はこちら\nhttps://techplay.jp/event/62833
 3?utm_medium=referral&utm_source=ics&utm_campaign=ics\n\nイベント概
 要\n「Growth Hack Talks」は、アプリのディレクター・マー
 ケター・エンジニアなど、アプリの成長をミッション
 とする人たちがグロースハックのノウハウをシェアし
 合うイベントです。\nアプリの戦略立案・企画・運用
 まで総合的なサービス/ソリューションを提供する、モ
 バイルアプリの成長支援パートナー 「Repro」の主催で
 開催いたします。\nモバイルアプリ市場の拡大に伴い
 アプリの分析やマーケティング手法に関する情報への
 需要も高まっていますが、アプリの改善ノウハウはWeb
 サービスのそれと比べるとまだまだ少ないのが現状で
 す。ここ数年で今までWebを中心にサービスを提供され
 ていた企業のアプリシフトは益々進んでおり、先行し
 てアプリに投資し成果を得ている企業とそうでない企
 業の差は広がりつつあります。\n本イベントではそう
 いったギャップをなくすため、成功しているアプリの
 担当者やアプリに関して知見を持つ方にフランクに語
 ってもらっています。すでにアプリの開発・マーケテ
 ィングに携わっている方だけでなく、これからご検討
 されている方もぜひ積極的にご参加ください！\n第五
 回目のテーマ\n第五回目のテーマは「真夏のマッチン
 グアプリ特集！ ~ マネタイズからオフラインイベント
 まで、恋が生まれるメカニズム教えます~」です！\nカ
 ジュアルな出会いから結婚を前提としたお付き合いま
 で、群雄割拠のマッチングアプリ業界。華やかなアプ
 リの裏側では、マッチングしてもらうためのアルゴリ
 ズム変更やUX改善、プッシュ通知施策などディレクタ
 ー/エンジニア/マーケターたちによるグロースハック
 が日々行われています。\n今回のイベントでは、現在
 アプリ業界でもっとも盛り上がっている市場の一つで
 ある「マッチングアプリ」を開発・運営・マーケティ
 ングしている担当者をお招きし、ユーザー獲得や継続
 、マネタイズなどにどう取り組まれているかをお話し
 ていただきます。\nマッチングアプリ事業者のみなら
 ず、サブスクリプションモデルやC2C型のビジネスモデ
 ルを採用しているアプリ事業者はためになること間違
 いなしのイベントです！ 会場ではかき氷や浴衣など、
 夏を味わえるコンテンツの提供も予定しておりますの
 でぜひ気軽にご参加ください。マッチングアプリの特
 集にちなんで、ペアでご参加いただいた方には素敵な
 プレゼントを差し上げます(⋈◍＞◡＜◍)。✧♡\nイベ
 ントの対象者\n\nアプリの開発・運営・マーケティング
 に携わっている業界の方\nすでにWebサービスは運用し
 ているが、アプリはこれから注力していきたいと思っ
 ている方\nアプリに注力して成功している企業の事例
 が知りたい方\n新しいマーケティングのトレンドが知
 りたい方\n\n会場\nエキサイト株式会社\n東京都港区南
 麻布3丁目20‐１ 麻布グリーンテラス4Ｆ\n登壇者(予定)\
 n株式会社 ネットマーケティング　｜　アプリ「Omiai」
 \n\n登壇者：山中 美佳 様\nタイトル「CPM高騰の中でOmiai
 が会員数を増やした方法」\n\nエキサイト株式会社　｜
 　アプリ「AMIPLE(アミプル)」\n\n登壇者：山本 貴士 様\n
 タイトル「AMIPLEが実践する非恋愛系マッチングサービ
 スのプロモーション」\n\n株式会社Mrk & Co　｜　アプリ
 「Dine」\n\n登壇者：上條 景介 様\nタイトル「米国のマ
 ッチングアプリ事情とDineの戦略」\n\n株式会社Diverse　
 ｜　アプリ「Poiboy」\n\n登壇者：徳永 清詩(きよし) 様\n
 タイトル「Poiboyのグロース戦略と実例 〜リテンション
 10%UP〜」\n\n株式会社イグニス　｜　アプリ「with(ウィ
 ズ)」\n\n登壇者：石毛 健太郎 様、園田 励(れい) 様\nタ
 イトル「withの体験設計とグロース」\n\nRepro株式会社\n\
 n登壇者：佐々木 翼 (Repro株式会社 カスタマーサクセス
  マネージャー)\nタイトル：「アプリを成長させるイベ
 ント設計」\n\nタイムテーブル(予定)\n\n\n\n時刻\n詳細\n\
 n\n\n\n18:20-19:00\n受付\n\n\n19:00-19:10\n会場案内、注意事項
 など\n\n\n19:10-19:15\nイントロ & 乾杯\n\n\n19:15-19:30\n登壇
 ①\n\n\n19:30-19:45\n登壇②\n\n\n19:45-20:00\n登壇③\n\n\n20:00-20
 :10\n休憩\n\n\n20:10-20:25\n登壇④\n\n\n20:25-20:40\n登壇⑤\n\n\n
 20:40-20:55\n登壇⑥\n\n\n20:55-21:45\n懇親会\n\n\n21:45-22:00\n締
 め、撤収\n\n\n\nSNS\nイベントの当日の様子や資料共有な
 どはFacebookグループで行いますので、ご興味のある方
 はぜひご参加ください！\n\nFacebook community https://www.faceb
 ook.com/groups/reproio/\nTwitter #ght5 https://twitter.com/hashtag/GHT5?s
 rc=hash\n\n過去のイベントの様子\n過去のイベントの様子
 が気になる方はこちらをご覧ください。\n\n【第一回の
 様子】人気アプリは何をした？ペロリ・日経など4社が
 語る、アプリ立ち上げ～リリース初期のグロースハッ
 ク http://markezine.jp/article/detail/25003\n【第二回の様子】4
 社が語る「プッシュ通知」のグロースハック術。担当
 者はどこに着目し成功へ至ったのか？ https://moduleapps.co
 m/mobile-marketing/9955rpt/\n【第三回の様子】アプリの改善
 ノウハウをシェアするイベント「Growth Hack Talks by Repro #
 3」を開催しました！ http://blog.repro.io/entry/2017/03/13/163041
 \n【第四回の様子】男たちはどのように女子向けアプ
 リを作るか？『C CHANNEL』『LAURIER PRESS』登壇、Growth Hack 
 Talks #4レポート https://mag.app-liv.jp/archive/80634\n\n「ペア参
 加♡」枠について\n「こういったイベントに興味はあ
 るけど自分の会社で一緒に行く人が居ないので一人で
 行けない...」という方のために、ペア枠を用意しまし
 た！\n「ペア参加♡」枠の条件\n\n他社のご友人(できれ
 ば異性！)をお一人お誘いください。アプリに直接携わ
 る会社ではなかったり、IT業界ではなくても結構です
 。\n登録時アンケートの「その他事前にご質問があり
 ましたらご回答ください。」に、ご友人の会社名、フ
 ルネームをご記入ください。ご友人の方がconnpassから
 参加登録する必要はありません。\n 他社でも一緒に行
 く人がいらっしゃらない人は、 ハッシュタグ「#恋の
 グロースハック」をツイートして独り身フレンズを見
 つけてください！\n【※注意】ご同僚と一緒にいらっ
 しゃる方は通常の「一般参加枠」からお申込みくださ
 い。\n\nかき氷販売します。 paymo (ペイモ)登録で実質無
 料！　浴衣の方も無料！\n\n当日は夏の風物詩であるか
 き氷を販売します！限定50杯ほどなので会場入りはお
 早めに！\n話題のわりかんアプリ「paymo (ペイモ)」をDL
 ・登録すると、当日会場に設置のQRコードを読み取り
 、かき氷の購入が可能です。登録ボーナスポイントを
 使えば実質無料で食べることができます！（DLは  こち
 らから  ）\n\nブログ・メディア執筆枠について\n当日
 のイベントの様子を個人もしくは会社ブログに書いて
 くださる方を募集します！「ブログ・メディア執筆枠
 」として本ページからご応募ください。\nブログ・メ
 ディア執筆枠の条件\n\n個人や会社ブログなどにイベン
 トレポートを書いて下さい。（短いものでも構いませ
 んが、「FacebookやTwitterに感想を投稿して終わり」 とい
 う形式は認めておりません。）\nイベント開催日から
 ２週間以内に書いていただければと思います。\nブロ
 グを公開しましたら、Twitterアカウント「Growth Hack Journa
 l」](https://twitter.com/GrowthHackJnl) にブログのurl付きでメ
 ンションいただくか、 運営元のメールアドレス「media@
 repro.io」 にメールいただければと思います。\n\n持ち物
 、注意事項など\n\n会場はエキサイト株式会社になりま
 す。ビル正面入口より直接4Fまでお上がりください。\n
 会場内は禁煙になります。ご了承ください。\n事業会
 社様向けのイベントのため、代理店様、競合他社様の
 ご参加はお断りしております。\nご本人確認のため受
 付にて名刺を頂戴しますので、名刺をお持ちください
 。\n会場には十分な数の電源をご用意していないため
 、PCを充電してからお越しいただければと思います。\n
 会場にはFree Wifiをご用意しておりますが、当日は同時
 に大勢の方が接続するため通信速度が遅くなってしま
 う恐れがあります。心配な方はご自身でWifi環境をご用
 意ください。\nイベントの模様に関しては後日Reproやブ
 ログ・メディア枠で参加いただいた方のメディアで記
 事化させていただきますので予めご了承下さい。\n\n次
 回以降の登壇者募集！\n次回以降のイベントでLT（ライ
 トニングトーク）してくださる登壇者を募集していま
 す！テーマはアプリのグロースハックに関することや
 その周辺領域のお話であれば何でもokですが、宣伝主
 体となるLTはお控えください。　※内容に関しては事
 前に審査させていただきますのでご了承下さい。\nLTご
 希望の方は、下記ご確認のうえ件名に「LT登壇希望」
 と記載し 運営元のメールアドレス「media@repro.io」 にメ
 ールいただければと思います。\n<記載いただきたい内
 容>\n\n会社名\nご登壇者名\nアプリ名：担当/開発してい
 るアプリがあればご記載ください。\nLT内容のサマリー
 ：どういったお話をしたいと考えているか簡単にご記
 載ください。\n\n運営元の連絡先\n\n企業名：Repro株式会
 社\n担当者名：伊藤 直樹\nEmail:    media@repro.io\n
LOCATION:エキサイト株式会社 東京都港区南麻布3丁目20‐
 １ 麻布グリーンテラス4Ｆ
URL:https://techplay.jp/event/628333?utm_medium=referral&utm_source=ics&utm
 _campaign=ics
END:VEVENT
END:VCALENDAR
