BEGIN:VCALENDAR
VERSION:2.0
PRODID:-//https://techplay.jp//JP
CALSCALE:GREGORIAN
METHOD:PUBLISH
X-WR-CALDESC:Kubernetes Meetup Tokyo #6
X-WR-CALNAME:Kubernetes Meetup Tokyo #6
X-WR-TIMEZONE:Asia/Tokyo
BEGIN:VTIMEZONE
TZID:Asia/Tokyo
BEGIN:STANDARD
DTSTART:19700101T000000
TZOFFSETFROM:+0900
TZOFFSETTO:+0900
TZNAME:JST
END:STANDARD
END:VTIMEZONE
BEGIN:VEVENT
UID:628334@techplay.jp
SUMMARY:Kubernetes Meetup Tokyo #6
DTSTART;TZID=Asia/Tokyo:20170808T190000
DTEND;TZID=Asia/Tokyo:20170808T213000
DTSTAMP:20260419T212201Z
CREATED:20170720T040037Z
DESCRIPTION:イベント詳細はこちら\nhttps://techplay.jp/event/62833
 4?utm_medium=referral&utm_source=ics&utm_campaign=ics\n\nKubernetes Meetu
 p Tokyo #6 を開催します！ コンテナーをデプロイできる
 強力なシステム Kubernetesのことを詳しく聞く会です！ \
 nタイムテーブル\n19:00~19:30 Running Workloads in Kubernetes\nby J
 anet Kuo (Google)\nKubernetes is a platform for containerized application
  patterns. These patterns make applications easier to deploy\, to adminis
 ter\, to scale\, and to recover from failures. Each application pattern i
 s represented by one Kubernetes controller. In this talk\, I will provide
  an overview of 4 core\, built-in controllers in Kubernetes which make it
  easy to run different kinds of workloads.\n19:30~20:00  Kubernetes ス
 ケジューラーの詳細\nby Ian Lewis (Google)\nKubernetesスケジ
 ューラーのアーキテクチャや、内部の実装を話します
 。1.6の機能もご紹介しながら、より柔軟にスケジュー
 リングができる法を説明します。\n20:00~20:30 懇親タイ
 ム sponsored by Google\n食べながらの懇親タイムです。ピザ
 、ビール、ソフトドリンクを提供予定です。未成年お
 よび自動車を運転する予定方は絶対に飲酒しないでく
 ださい。\n20:30~21:30 LT 大会 (各10分)\n今回は LT を10分と
 しています。注意してください。\nLTは10分厳守です。L
 Tをやりたい方は、LT枠で参加した上、このフォームか
 らタイトルを入力してください。 フォームを入力され
 ていてもLT枠で参加できていないと発表できません。
 注意してください。 \n\nいろんなクラウドにKubernetesを
 簡単デプロイ by 門河 善也 (Kadokawa Yoshinari: Canonical\, Seni
 or Dedicated Services Engineer)\ncluster-autoscalerの新機能「node gr
 oup automatic discovery」の紹介 by mumoshu\nGKEではStackDriverLoggi
 ngへどうやってログを送っているか? by takumi_yoshida_22\n
 仮 Kubernetes 1.7 の概要 by tkusumi\nContinuous Delivery on Kubernete
 s with Spinnaker by helix_kaz\n\n参加枠\n一般枠\n抽選枠です。
 Kubernetes Meetup Tokyo で過去に登壇、LT経験のある方は優
 先して参加いただけます。 前回のアンケートによる登
 壇経験の申告は廃止し、主催側で判別する仕組みにし
 ました。登壇経験者も一般枠で申し込みください。\n
 遠方枠\n首都圏 (東京都、埼玉県、千葉県、神奈川県)
 以外のところに住んでいる方は遠方枠で参加できます
 。\n女子/LGBT枠\n女性の方、LGBTの方は女子/LGBT枠、もし
 くは一般枠で参加できます。男性の方は一般枠で参加
 してください。\n参加費\n無料\n当日の受付について\n\n
 時間：6:30pm 開場です。19:30 以降は入場できなくなりま
 す。\n場所：六本木ヒルズ 森タワー LL階臨時受付\n受
 付の際に「受付票」をスマートフォン等で提示をお願
 います。\n\n中継\n\nhttps://youtu.be/9jPMp_BdVVo\n\nYouTube Live 
 で配信を予定しています。顔が映り込む可能性があり
 ます。予めご了承ください。\n注意事項など\n\n受付票
 に記載の本人のみが参加できます。受付票をお持ちで
 ない方は入場できません。受付票はスマートフォンで
 の提示で入場できます。\n18:30 開場です。19:30 以降は
 入場できなくなります。\n無線 LAN が利用可能です。電
 源タップは数に限りがあります。\n会場は禁煙です。\n
 \n免責事項\n\n貴重品の管理は各自でお願いいたします
 。万一盗難・紛失等の事故が発生しても、主催者側で
 は一切責任を負えません。\n
LOCATION:Google東京オフィス 東京都港区六本木6-10-1
URL:https://techplay.jp/event/628334?utm_medium=referral&utm_source=ics&utm
 _campaign=ics
END:VEVENT
END:VCALENDAR
