BEGIN:VCALENDAR
VERSION:2.0
PRODID:-//https://techplay.jp//JP
CALSCALE:GREGORIAN
METHOD:PUBLISH
X-WR-CALDESC:はじめてのプログラミング　Excel VBAマクロで
 実践演習（全員できるまでサポート）
X-WR-CALNAME:はじめてのプログラミング　Excel VBAマクロで
 実践演習（全員できるまでサポート）
X-WR-TIMEZONE:Asia/Tokyo
BEGIN:VTIMEZONE
TZID:Asia/Tokyo
BEGIN:STANDARD
DTSTART:19700101T000000
TZOFFSETFROM:+0900
TZOFFSETTO:+0900
TZNAME:JST
END:STANDARD
END:VTIMEZONE
BEGIN:VEVENT
UID:628427@techplay.jp
SUMMARY:はじめてのプログラミング　Excel VBAマクロで実践
 演習（全員できるまでサポート）
DTSTART;TZID=Asia/Tokyo:20170819T100000
DTEND;TZID=Asia/Tokyo:20170819T120000
DTSTAMP:20260423T043753Z
CREATED:20170720T161153Z
DESCRIPTION:イベント詳細はこちら\nhttps://techplay.jp/event/62842
 7?utm_medium=referral&utm_source=ics&utm_campaign=ics\n\n概要\nもし
 もExcelマクロを使いこなせるようになれば、今まで繰
 り返しやってきた手作業が劇的に減り、作業ミスもな
 くなるかもしれません。\nマクロによって今までの作
 業の仕方が大きく変わる体験をぜひ実感してください
 。\nもちろん最初から高度なことはできませんが、一
 歩を踏み出すことでその道を切り開いてみましょう。\
 nまた、単なるプログラミング体験としても役立ちます
 。\n実はExcelは最も普及しているプログラミング開発環
 境の1つなんです。\n何かを新たにインストールするこ
 ともなく、プログラムを書いて動かし、その結果を目
 で見て確認できる入門者向け学習環境としても優れた
 ツールです。\n当研究会は普段プログラマー、SE向けの
 勉強会を提供しておりますが、そのノウハウを使って
 今回初めて未経験者向けExcelマクロの勉強会を開催し
 ます。\nぜひこの機会にご参加ください。\n主な対象者
 \n\n仕事などでExcelを使うのでもっと仕事が楽になる方
 法を探している人、事務職の方など\nExcelマクロに興味
 を持っていた人\nプログラミング未経験者\nプログラミ
 ングに興味があるが敷居が高くて手を出せていなかっ
 た人\n\nこれらに少しでも該当する人はまずは試しに参
 加してみてください。\n注意\n\nインターネット接続は
 ありません。必要ならご自分でテザリング環境などご
 用意ください。\n電源に限りがありますので可能であ
 ればバッテリー駆動お願いします。\n\n事前準備等\n\n
 ノートPCの持ち込み推奨（できればぜひご自分で手を
 動かして確認してください）\nExcel2003以上（Microsoft）\n
 \n講義内容\n\nExcelマクロとは？\nExcelマクロの動かし方
 ・基本文法\n課題・目的の設定（蔵書検索システム）\n
 プログラミング実践\n振り返り・フィードバック\n\n日
 時\n8月19日（土） 10:00 - 11:45\n場所\n大阪市立生涯学習
 センター 第6研修室\n※地図表示がズレることがありま
 すが、JR北新地駅の真上です。\n参加費\n1\,500円（会場
 支払い）\n五月雨スパイラル研究会について\nドイツの
 心理学者ヘルマン・エビングハウスが提唱した忘却曲
 線理論を応用した学習カリキュラムを考案し、無料勉
 強会の開催、有料スクールの運営を行っています。講
 師は10年以上の開発経験を持つ現役エンジニアがメイ
 ンで開発業務に即したリアルな指導をモットーにして
 おります。\n五月雨スパイラル研究会
LOCATION:大阪市立生涯学習センター 第6研修室 大阪市北区
 梅田1-2-2-500 （大阪駅前第2ビル5階）
URL:https://techplay.jp/event/628427?utm_medium=referral&utm_source=ics&utm
 _campaign=ics
END:VEVENT
END:VCALENDAR
