BEGIN:VCALENDAR
VERSION:2.0
PRODID:-//https://techplay.jp//JP
CALSCALE:GREGORIAN
METHOD:PUBLISH
X-WR-CALDESC:HR tech Live #01 ～technologyで新卒採用を根本から
 アップデート～
X-WR-CALNAME:HR tech Live #01 ～technologyで新卒採用を根本から
 アップデート～
X-WR-TIMEZONE:Asia/Tokyo
BEGIN:VTIMEZONE
TZID:Asia/Tokyo
BEGIN:STANDARD
DTSTART:19700101T000000
TZOFFSETFROM:+0900
TZOFFSETTO:+0900
TZNAME:JST
END:STANDARD
END:VTIMEZONE
BEGIN:VEVENT
UID:628500@techplay.jp
SUMMARY:HR tech Live #01 ～technologyで新卒採用を根本からアッ
 プデート～
DTSTART;TZID=Asia/Tokyo:20170802T163000
DTEND;TZID=Asia/Tokyo:20170802T193000
DTSTAMP:20260419T194457Z
CREATED:20170721T100403Z
DESCRIPTION:イベント詳細はこちら\nhttps://techplay.jp/event/62850
 0?utm_medium=referral&utm_source=ics&utm_campaign=ics\n\n概要\nHR tech
 という言葉が浸透し始めて1年くらいかと思います。\n
 実質的にテクノロジーをHRに活用するにはどのような
 土台が必要なのか。\n今回は旧態依然とした文化がま
 だまだ根強い新卒採用領域において、\nドラスティッ
 クに採用戦略を変え、成果を出してきた企業の\n採用
 責任者/役員をパネリストに招き、あらゆる角度から\n
 「2019卒で成功するために必要な採用戦略」を語ってい
 ただきます。\n今回は新卒領域におけるHRtech事業を推
 進する、株式会社ギブリーと、株式会社リーディング
 マーク共同での主催となっており、株式会社タレンテ
 ィオに会場協力をいただいいます。\nキャパシティの
 問題もあり、抽選とさせていただきますが、ご了承く
 ださいませ。第二回も開催したいと思っております！\
 nパネルディスカッションのあとには、今回の主催＆協
 力の3社よりピッチタイム（今つくっているHRtechプロダ
 クトの簡単なプレゼン）と、見本市（各プロダクトの
 詳細を聞けるブース形式説明会）兼交流会があります
 ので、ぜひ最後までお付き合いください！ビールは冷
 やしておきます！！\nタイムライン\n16:30　開場\n16:45　
 開会(採用市況についてトレンドについて)\n17:00　パネ
 ルディスカッション\n17:55　HR techプロダクト ピッチ大
 会\n18:25　各プロダクト見本市（ブース形式説明会）兼
 交流会\n19:30　終了\nパネルディスカッションについて\
 nパネリスト\n\nアクセンチュア株式会社　人事部　佐
 藤 優介 氏\n株式会社LITALICO　取締役　中俣 博之 氏\n株
 式会社コーチ・エィ　執行役員　長田 祐典 氏\n\nモデ
 レータ\n\n株式会社ギブリー　取締役　山川 雄志\n\nテ
 ーマ（変更の可能性あり）\n\n「ナビに依存しない母集
 団形成と効果的なつなぎとめ施策」\n「最新テクノロ
 ジーを活用した新卒採用のあり方」\n「新卒採用のあ
 り方をどう変えるか」\n\n参加対象者\n\n新卒採用ご責
 任者の方\n19卒新卒採用の新たな打ち手/他社とは違っ
 た施策を検討中の戦略人事の方\n\n会場/入場方法\n会場
 ：\n株式会社フリークアウト・ホールディングス\n\n日
 比谷線 「六本木駅」 徒歩約 2 分\n大江戸線 「六本木
 駅」 徒歩約 5 分\n千代田線 「乃木坂駅」 徒歩約 9 分\n
 \n住所：\n〒106-0032　東京都港区六本木 6-3-1\n六本木ヒ
 ルズクロスポイント 5F\n入場方法：\n受付は5Fで行いま
 す。\n参加費\n無料\nその他\n当日受付にて名刺を2枚回
 収させて頂きます。
LOCATION:株式会社フリークアウト・ホールディングス 東
 京都港区六本木 6-3-1(六本木ヒルズクロスポイント 5F)
URL:https://techplay.jp/event/628500?utm_medium=referral&utm_source=ics&utm
 _campaign=ics
END:VEVENT
END:VCALENDAR
