BEGIN:VCALENDAR
VERSION:2.0
PRODID:-//https://techplay.jp//JP
CALSCALE:GREGORIAN
METHOD:PUBLISH
X-WR-CALDESC:フロントエンド夏祭り in 広島
X-WR-CALNAME:フロントエンド夏祭り in 広島
X-WR-TIMEZONE:Asia/Tokyo
BEGIN:VTIMEZONE
TZID:Asia/Tokyo
BEGIN:STANDARD
DTSTART:19700101T000000
TZOFFSETFROM:+0900
TZOFFSETTO:+0900
TZNAME:JST
END:STANDARD
END:VTIMEZONE
BEGIN:VEVENT
UID:628717@techplay.jp
SUMMARY:フロントエンド夏祭り in 広島
DTSTART;TZID=Asia/Tokyo:20170819T140000
DTEND;TZID=Asia/Tokyo:20170819T173000
DTSTAMP:20260424T133615Z
CREATED:20170724T120021Z
DESCRIPTION:イベント詳細はこちら\nhttps://techplay.jp/event/62871
 7?utm_medium=referral&utm_source=ics&utm_campaign=ics\n\nフロントエ
 ンド夏祭り in 広島とは？\n広島でフロントエンドに関
 わる方達が集まり、わいわいとLTを聞きながら交流し
 、広島を盛り上げていくことを目指して開催します。\
 nこんな人にオススメ！\n\n\nフロントエンドエンジニア
 \n\n\nマークアップエンジニア\n\n\nデザイナー\n\n\n将来W
 EBに関わる仕事がしたい学生\n\n\nこれからフロントエ
 ンドを勉強したい人\n\n\nイベント内容\nドリンク付き
 ！\n軽食飲み物あります。  \n1人5分のLT(ライトニング
 トーク)を行います！  \nLT登壇者募集！！\nレベルは不
 問です。  \nテーマはフロントエンドに関することなら
 何でもOK！\n登壇したことない人も気軽に登壇してくだ
 さい！  \nLT内容（随時更新）\nLT.01  JS初心者がReact+Redux
 を触れれるようになるまで / 向井 咲人 (ヤフー株式会
 社)\nLT.02  React Nativeで始めるiOSアプリ開発 / 小西 雄大 (
 株式会社ワンダーナッツ)\nLT.03  React.jsと東南アジア方
 面でのフロントエンド事情 / 安藤 光昭 (ビットリバー
 株式会社)\nLT.04  WebUSBでLチカしてみた / 満田 遼 (Atlassia
 n ユーザーグループ 中国地方)\nLT.05  これからはじめる
 CSS Grid Layout Module / 井上 拓 (広島フロントエンド勉強会
 )\nLT.06  ウェブの基本のキをもう一度（仮） / 大林 正
 典 (ファナフェクト株式会社)\nLT.07  ちょっとサンノゼ
 までAngularしに行った /   佐川 夫美雄 (アシラス株式会
 社)\nLT.08\nLT.09\nLT.10\n当日のタイムテーブル\n\n\n\n時間\n
 セッション\n登壇者/タイトル\n\n\n\n\n13:30\n会場オープ
 ン\n\n\n\n14:00～14:05\n開催挨拶LT\n主催者\n\n\n14:05～14:10\n
 会場紹介LT\nLIG\n\n\n14:10～15:00\nLT 第1部\n\n\n\n15:00～15:10\n
 休憩\n\n\n\n15:10～16:00\nLT 第2部\n\n\n\n16:00～16:10\n休憩\n\n\
 n\n16:10～16:30\nLT 第3部\n\n\n\n16:30～17:30\n交流タイム\n参
 加者同士の情報交換、飛び入りLTなど\n\n\n18:00〜\n懇親
 会(別会場)\n\n\n\n
LOCATION:いいオフィス広島 広島県広島市中区東千田町1-1-6
 1 (hitoto広島 ナレッジスクエア1F)
URL:https://techplay.jp/event/628717?utm_medium=referral&utm_source=ics&utm
 _campaign=ics
END:VEVENT
END:VCALENDAR
