BEGIN:VCALENDAR
VERSION:2.0
PRODID:-//https://techplay.jp//JP
CALSCALE:GREGORIAN
METHOD:PUBLISH
X-WR-CALDESC:量子情報勉強会 |45>
X-WR-CALNAME:量子情報勉強会 |45>
X-WR-TIMEZONE:Asia/Tokyo
BEGIN:VTIMEZONE
TZID:Asia/Tokyo
BEGIN:STANDARD
DTSTART:19700101T000000
TZOFFSETFROM:+0900
TZOFFSETTO:+0900
TZNAME:JST
END:STANDARD
END:VTIMEZONE
BEGIN:VEVENT
UID:628842@techplay.jp
SUMMARY:量子情報勉強会 |45>
DTSTART;TZID=Asia/Tokyo:20170819T130000
DTEND;TZID=Asia/Tokyo:20170819T170000
DTSTAMP:20260424T180112Z
CREATED:20170725T180016Z
DESCRIPTION:イベント詳細はこちら\nhttps://techplay.jp/event/62884
 2?utm_medium=referral&utm_source=ics&utm_campaign=ics\n\n集合\n13:00　
 会場　（株）ねこねこエンジニアリング\n概要\n量子情
 報、量子コンピュータについて、教科書を読み進める
 スタイルの勉強会です。\n教科書を通して、内容の理
 解、数式の解釈、物理的なイメージ、最近の研究動向
 などを話し合いながら勉強しています。\n量子情報に
 興味をお持ちの方、物理学科出身の方、新しいアーキ
 テクチャのコンピュータに興味をお持ちの方、エンジ
 ニアの方、学生さんなど、どなたでも参加して頂けま
 す。\n人数もそれほど多くないので、質問など積極的
 にして頂いて、議論しながら進めていきます。\n教科
 書\n\n量子コンピュータと量子通信〈1〉量子力学とコ
 ンピュータ科学\n\n似た内容の本として、量子アルゴリ
 ズム\,量子コンピュータの基礎数理などがあります。\n
 \n\n量子コンピュータと量子通信〈2〉量子コンピュー
 タとアルゴリズム\n\n\n量子コンピュータと量子通信〈3
 〉量子通信・情報処理と誤り訂正\n ← 今ココ！\n\n\n英
 語版：Quantum Computation and Quantum Information\n\n\n今回範囲\n\
 n第9章 9.2.2 忠実度\n\n参考サイト・参考書\n\n\n竹内 繁
 樹(著)量子コンピュータ―超並列計算のからくり (ブル
 ーバックス)\n\n\n機械学習への活用も期待される、今話
 題の量子アニーリングってなに？(CodeZine)\n\n\n量子コン
 ピュータの仕組みをエクセルで理解してみよう(CodeZine)
 \n\n\n中山 茂 (著) 量子アルゴリズム\n\n\n上坂 吉則 (著) 
 量子コンピュータの基礎数理\n\n\nその他\n量子情報勉
 強会のgoogleグループです。\n\nhttps://groups.google.com/forum/#
 !forum/quantum-info\n\n承認制になっています、承認されな
 い場合はコメント欄にご連絡ください。
LOCATION:（株）ねこねこエンジニアリング 〒101-0032 東京
 都千代田区岩本町２丁目１０−９
URL:https://techplay.jp/event/628842?utm_medium=referral&utm_source=ics&utm
 _campaign=ics
END:VEVENT
END:VCALENDAR
