BEGIN:VCALENDAR
VERSION:2.0
PRODID:-//https://techplay.jp//JP
CALSCALE:GREGORIAN
METHOD:PUBLISH
X-WR-CALDESC:【入退場自由】いろいろ初心者もくもく勉強
 会の日 in JUSO Coworking #Linux #CentOS7 #WordPress #PHP #シェルス
 クリプト #VPS #初心者 #さくらクラブ
X-WR-CALNAME:【入退場自由】いろいろ初心者もくもく勉強
 会の日 in JUSO Coworking #Linux #CentOS7 #WordPress #PHP #シェルス
 クリプト #VPS #初心者 #さくらクラブ
X-WR-TIMEZONE:Asia/Tokyo
BEGIN:VTIMEZONE
TZID:Asia/Tokyo
BEGIN:STANDARD
DTSTART:19700101T000000
TZOFFSETFROM:+0900
TZOFFSETTO:+0900
TZNAME:JST
END:STANDARD
END:VTIMEZONE
BEGIN:VEVENT
UID:628846@techplay.jp
SUMMARY:【入退場自由】いろいろ初心者もくもく勉強会の
 日 in JUSO Coworking #Linux #CentOS7 #WordPress #PHP #シェルスクリ
 プト #VPS #初心者 #さくらクラブ
DTSTART;TZID=Asia/Tokyo:20170816T150000
DTEND;TZID=Asia/Tokyo:20170816T210000
DTSTAMP:20260425T171428Z
CREATED:20170726T000017Z
DESCRIPTION:イベント詳細はこちら\nhttps://techplay.jp/event/62884
 6?utm_medium=referral&utm_source=ics&utm_campaign=ics\n\n初心者のみ
 なさん、いっしょにもくもく勉強しましょう！\n\n以下
 のようないろいろなテーマの初心者が集まって、個別
 にもくもく勉強しつつ、分からないことがあったら相
 談し合ったりできる会です。\n\n【テーマ】\n\n\n Linux\nC
 entOS7\nUNIXコマンド\ngit\nWordPress(開発環境構築やサーバ
 ー保守など)\nPHPの文法\nシェルスクリプト\n正規表現\n\
 n\n※ 特に講演、セッションの開催は予定しておりませ
 ん。\n\n参加時と終了時に、勉強予定内容と成果を簡単
 に発表お願いします。途中入場、途中退出もご自由に
 。ご都合の良い時間にお越しいただき、「もくもくし
 たいだけして疲れたら帰る」でOKです。\n\n参加費\n\n\n
 会場利用料のみ（540円〜1080円）\n17:30以降のご入場は
 会場利用料なし・ワンドリンク制（300円〜）\n\n\n参加
 対象者\n\n\n上記の 【テーマ】 に関する初心者\n中・上
 級者の方でもくもくしながら初心者の方に教えていた
 だける方\n\n\nプログラム\n\n\n\n時間\n内容\n\n\n\n15:00\n開
 始\n\n\n21:00\n終了\n\n\n\n※途中入場、途中退出可。また
 食事や休憩なども自由にお取りください。\n\n持ち物\n\
 n\nノートパソコン\n\n\n※手を動かしながらもくもくす
 ると、勉強効果が一層上がります。ぜひお持ち込みく
 ださい。\n\n設備\n\n会場として利用させていただく JUSO
  Coworking で無線LAN・電源が使用することができます。\n
 \nワンポイントレクチャーします！\n\n\nWordPress関数で
 見るPHP文法のおさらい（約10分）\n\n\n※運営の都合上
 、内容の変更やレクチャーの中止などもございます。
 あらかじめご了承ください。\n\nもくもくするのにオス
 スメの参考資料\n\n2015/9/27開催「さくらクラブ大阪 さ
 くらのVPSを構築しよう。サーバー初心者勉強会」\n2016/
 2/28開催「さくらクラブ大阪 レンタルサーバーのWordPres
 sをVPSへ引越してみよう」\nもくもくワンポイントレク
 チャー（Youtubeチャンネル）\n\nお問い合わせ\n\n本イベ
 ントに関する問い合わせにつきましては、下記Twitterア
 カウントへDMを送信してください。\n\n\nhttps://twitter.com/
 echizenya_yota\n\n\n※ このイベントに関する問い合わせで
 あることが分かるように、必ず「イベント名、イベン
 ト開催日」の記載をお願いします。
LOCATION:JUSO Coworking 大阪市淀川区十三東1-17-13 水交ビル 1F
URL:https://techplay.jp/event/628846?utm_medium=referral&utm_source=ics&utm
 _campaign=ics
END:VEVENT
END:VCALENDAR
