BEGIN:VCALENDAR
VERSION:2.0
PRODID:-//https://techplay.jp//JP
CALSCALE:GREGORIAN
METHOD:PUBLISH
X-WR-CALDESC:福島ゲームジャム2017【熊本会場】
X-WR-CALNAME:福島ゲームジャム2017【熊本会場】
X-WR-TIMEZONE:Asia/Tokyo
BEGIN:VTIMEZONE
TZID:Asia/Tokyo
BEGIN:STANDARD
DTSTART:19700101T000000
TZOFFSETFROM:+0900
TZOFFSETTO:+0900
TZNAME:JST
END:STANDARD
END:VTIMEZONE
BEGIN:VEVENT
UID:628897@techplay.jp
SUMMARY:福島ゲームジャム2017【熊本会場】
DTSTART;TZID=Asia/Tokyo:20170819T090000
DTEND;TZID=Asia/Tokyo:20170820T200000
DTSTAMP:20260419T201817Z
CREATED:20170726T120431Z
DESCRIPTION:イベント詳細はこちら\nhttps://techplay.jp/event/62889
 7?utm_medium=referral&utm_source=ics&utm_campaign=ics\n\n福島Game Jam
 について\nNPO法人IGDA日本は2011年から毎年夏に開催し、
 第17回文化庁メディア芸術祭 エンターテインメント部
 門 審査員会推薦作品に選出されるなど国内外から高い
 評価を得た「福島GameJam」を本年も開催する運びとなり
 ました。IT/ICT産業が地理的な制約を受けることがない
 点に着目し、東北地域と他地域との広域連携をより国
 際的かつ密にすることで、国境を越えた産業連携によ
 り復興に寄与することを目的に開催いたします。\n\n開
 会式に提示されるテーマに沿ったデジタルコンテンツ
 を30時間に集中的に制作します。\n異なる属性の参加者
 が同チームで制作することで、ノウハウの共有や創発
 することを期待します。\n本イベントの制作物はデジ
 タルコンテンツに限定します。\n\n熊本会場について\n
 本年の開催では、サテライト会場を熊本にも開設し、I
 Tを通じた復興支援に参加します。事前勉強会を開催す
 るほか、熊本地域に限らず県外からの参加も歓迎しま
 す。\nIoMTラボ SOCKETにて行います。（熊本県熊本市北区
 飛田3-5-8）\n参加形態\n一般枠\n通常のゲームジャムと
 してご参加いただきます。\n\n時間は8月19日の朝9：00か
 ら8月20日の夜20：00まで30時間通しで行っていただきま
 す（休憩、仮眠、一時帰宅などは各自で適宜とってく
 ださい）\n初心者歓迎ですが、開発に必要なソフトウ
 ェアの操作やゲーム開発に関する事前の自習はして来
 てください。\n経験0ヶ月の方も開発チームに参加でき
 ますので、参加するかどうか迷っている方はお問い合
 わせください。\n参加者の方は、作業に使用するノー
 トPCをご持参ください。電源と無線LANは会場内で提供
 されます。\n当日会場は昼夜を通して開いています。
 参加者の方は泊まり込みでのゲーム制作も可能です。\
 n\nキッズ枠\n熊本会場では、キッズ枠を設ける予定で
 す。キッズ枠では、お子さんが主体となってゲームを
 企画し、Scratchなどのツールを作って制作、2日間（8月1
 9日20日）での完成を目指します。\n\n時間は19日の日中
 と20日の日中の二日間に分けて行います\n親子でのご参
 加も大歓迎です。チーム分けは当日のメンバーで行い
 ます。\n当日はプログラミング教室のスタッフやゲー
 ム制作の経験者のお兄さん、お姉さんがアドバイスし
 ます\n\n\n見学者として参加\n見学者としての参加もOKで
 す。お気軽にゲームジャムの雰囲気を楽しみに来てく
 ださい。試遊なども可能です。\nタイムスケジュール\n
 8/19(土)\n\n\n\n日時\n予定\n備考\n\n\n\n\n09:00-\n開場\n\n\n\n09
 :30-\n受付開始\n\n\n\n10:00-\n開会式\nテーマ、グループ発
 表\n\n\n10:30-\n製作開始\n(進行はチームごとに異なりま
 す)\n\n\n14:00-\n各チーム企画発表\nネット配信を行いま
 す\n\n\n-24:00\n開発\n後は1日中開発です\n\n\n\n8/20(日)\n\n\n
 \n日時\n予定\n備考\n\n\n\n\n09:00\nα版動作テスト\, β版開
 発\n\n\n\n09:00\nメイン会場\nβ版プレゼン\n\n\n12:00\n全国
 会場\n各会場運営者によるディスカッション\n\n\n13:00\n
 ユーザテスト\n一般の方の現場参観・テストプレイ開
 始\n\n\n16:30\n製作終了\n30時間経過，完成版をリリース
 します．\n\n\n17:00\n閉会式および試遊会\n\n\n\n20:00\n本イ
 ベント終了\n\n\n\n\n熊本会場運営・協力団体\n運営（熊
 ゆにスタッフ、協力団体スタッフ）\n協力団体（熊ゆ
 に、ワイズ・リーディング、Hackademy）\n主催・共催・
 協賛\n主催\nNPO法人国際ゲーム開発者協会日本（IGDA日
 本）\n共催\n国際ゲーム開発者協会東北（IGDA東北）\n協
 賛\nサイバーズ株式会社 / Cyberz Inc.\nBISHAMON\nOPTPiX SpriteSt
 udio\n株式会社サイバード / CYBIRD Co.\, Ltd.\n専門学校 国
 際アート＆デザイン大学校\n専門学校 WIZ国際情報工科
 自動車大学校\nステーションプラザホテル\nPlayCanvas\nユ
 ニティ・テクノロジーズ・ジャパン合同会社 / UnityTwitc
 h         \n株式会社ディー・エヌ・エー\nメディアパー
 トナー\nジーパラドットコム / Gpara.com\n機材協力\n株式
 会社サードウェーブデジノス / Diginnos
LOCATION:IoMTラボ・SOCKET 熊本県熊本市北区飛田3-5-8
URL:https://techplay.jp/event/628897?utm_medium=referral&utm_source=ics&utm
 _campaign=ics
END:VEVENT
END:VCALENDAR
