BEGIN:VCALENDAR
VERSION:2.0
PRODID:-//https://techplay.jp//JP
CALSCALE:GREGORIAN
METHOD:PUBLISH
X-WR-CALDESC:【VR勉強会】OthloEvent@ワンダープラネット #18
X-WR-CALNAME:【VR勉強会】OthloEvent@ワンダープラネット #18
X-WR-TIMEZONE:Asia/Tokyo
BEGIN:VTIMEZONE
TZID:Asia/Tokyo
BEGIN:STANDARD
DTSTART:19700101T000000
TZOFFSETFROM:+0900
TZOFFSETTO:+0900
TZNAME:JST
END:STANDARD
END:VTIMEZONE
BEGIN:VEVENT
UID:629056@techplay.jp
SUMMARY:【VR勉強会】OthloEvent@ワンダープラネット #18
DTSTART;TZID=Asia/Tokyo:20170824T180000
DTEND;TZID=Asia/Tokyo:20170824T210000
DTSTAMP:20260423T201523Z
CREATED:20170728T100433Z
DESCRIPTION:イベント詳細はこちら\nhttps://techplay.jp/event/62905
 6?utm_medium=referral&utm_source=ics&utm_campaign=ics\n\nはじめに\nOt
 hloTechでは、東海圏の学生エンジニア／デザイナーが集
 まり、情報の共有や学生同士の繋がりを広げるために
 月1回のペースで勉強会「OthloEvent」を開催しています
 。\n今回はワンダープラネット株式会社様のご協力に
 より、VR勉強会を開催することになりました！\n※学生
 限定のイベントです。既に卒業された方は申し訳あり
 ません。\nイベント内容\n\nモバイルVRとは\nUnityでのVR
 開発\n\nについての講義を行ったり、VRの体験会を行い
 ます！\n講義はワンダープラネット株式会社のCTO村田
 さんに登壇していただきます。\nそのあとは、ワンプ
 ラの社員さんや参加学生同士で楽しく交流しましょう
 ！\n▼こんな学生さんに向いています▼\n\nVRゲームを
 作りたいけど個人でどうやって作って良いかわからな
 い\nVRゲームをプレイしてみたい\nUnityを使ってどうVRゲ
 ームを作っていいか知りたい\n\nタイムテーブル\n\n\n\n
 時間\n内容\n\n\n\n\n17:45\n受付開始\n\n\n18:00\n会社説明\n\n\
 n18:10\nVR勉強会/解説\n\n\n18:50\n質疑応答\n\n\n19:00\n懇親会
 &体験会\n\n\n20:30\n完全撤収\n\n\n\n会場\n会場：ワンダー
 プラネット株式会社 \n住所：名古屋市中区錦3-23-31 栄
 町ビル11F \nURL: アクセス\nその他\n\nWi-Fiあり\n電源あり\
 n\n持ち物\n\n特に必要ありません。\n\n\nOthloTechについて
 \n私たちは、名古屋でクリエイティブな学生のコミュ
 ニティを作るために「OthloTech」を結成しました。専門
 技術を持った学生が集まり、勉強会や交流会を通して
 学校では学べない知識を共有しましょう。学生同士の
 横の繋がりを広げて、新しいサービスが生まれるきっ
 かけを作りたいと思っています。\n▼OthloTechのHP・SNS\nO
 thloTechホームページ\nFacebookページ\nTwitterアカウント @Ot
 hloTech\n▼8/6\,7に学生ハッカソンを開催しました\nhttp://h
 ack.othlo.tech\nFacebookアルバム\nTogetterまとめ\nワンダープ
 ラネットについて\n【楽しいね！を、世界中の日常へ
 。】をミッションとして掲げ、国内・海外向けスマー
 トフォンアプリゲームを提供しています。\n世界中の
 一人でも多くの人々の日常に、家族や友達と「楽しい
 ね！」と笑いあえるひとときを届けるために、誰もが
 楽しめるプロダクト・サービスを創り、コミュニケー
 ションを通じた「笑顔」を世界の隅々まで広げていき
 ます。\nWantedly：https://www.wantedly.com/companies/wonderplanet
LOCATION:ワンダープラネット株式会社 名古屋市中区錦3-23-
 31 栄町ビル11F
URL:https://techplay.jp/event/629056?utm_medium=referral&utm_source=ics&utm
 _campaign=ics
END:VEVENT
END:VCALENDAR
