BEGIN:VCALENDAR
VERSION:2.0
PRODID:-//https://techplay.jp//JP
CALSCALE:GREGORIAN
METHOD:PUBLISH
X-WR-CALDESC:VRハンズオン - Gear VRとコントローラーで遊ん
 でみよう♪
X-WR-CALNAME:VRハンズオン - Gear VRとコントローラーで遊ん
 でみよう♪
X-WR-TIMEZONE:Asia/Tokyo
BEGIN:VTIMEZONE
TZID:Asia/Tokyo
BEGIN:STANDARD
DTSTART:19700101T000000
TZOFFSETFROM:+0900
TZOFFSETTO:+0900
TZNAME:JST
END:STANDARD
END:VTIMEZONE
BEGIN:VEVENT
UID:629078@techplay.jp
SUMMARY:VRハンズオン - Gear VRとコントローラーで遊んでみ
 よう♪
DTSTART;TZID=Asia/Tokyo:20170819T130000
DTEND;TZID=Asia/Tokyo:20170819T173000
DTSTAMP:20260424T215126Z
CREATED:20170728T160527Z
DESCRIPTION:イベント詳細はこちら\nhttps://techplay.jp/event/62907
 8?utm_medium=referral&utm_source=ics&utm_campaign=ics\n\n概要\nGear VR
 と専用コントローラーを使った開発のハンズオンです
 。\nGear VR本体とコントローラーは、会場で十分な数を
 用意しています。PCだけ持って来ればOKです！\nGear VRア
 プリのビルド方法や基本的なVR操作の開発は、サンプ
 ルを使いながら説明するので、初心者の方でも大丈夫
 です。 開発環境はUnityを使います。\nコントローラー
 を使って一歩進んだモバイルVRを体験してみましょう
 ！\nタイムテーブル\n\n\n\n時間\n内容\n詳細\n\n\n\n\n13:00\n
 オープニング\n\n\n\n13:15\nハンズオン\nGear VRアプリの基
 本的な開発についてサンプルを使いながら説明します\
 n\n\n15:00\nもくもく会\n各自でテーマを決めてもくもく
 開発します\n\n\n16:00\nシェア会\n作ったものを共有し、
 お互いに遊んでみましょう\n\n\n16:30\n懇親会\n軽食、ア
 ルコールをご用意します\n\n\n17:30\n終了\n\n\n\n\n事前準
 備\nUnity\nUnityをインストールしたWindowsもしくはmacをお
 持ちください。\nUnityのバージョンは5.6.2を使います。\
 nAndroid ビルド環境\nUnityでAndroidアプリをビルドできる
 ようにしておいて下さい。\n設定方法はコチラが参考
 になります。\nhttps://techacademy.jp/magazine/2229\nアセットの
 ダウンロード\n下記のアセットを使用します。予めダ
 ウンロードしておくと当日がスムーズです。\nVR Samples 
 \nhttps://www.assetstore.unity3d.com/jp/#!/content/51519  \nOculus Utilit
 ies for Unity 5\nhttps://developer.oculus.com/downloads/package/oculus-ut
 ilities-for-unity-5/\n資料\nハンズオンではコチラ↓の資料
 を中心に進めるので、目を通しておいていただけると
 スムーズかと思います。\nhttp://qiita.com/takahi5/private/e4f8e
 de0c72e8f4380a0\n会場でご用意するもの\nWi-Fi、電源タップ
 、Gear VR、Gear VRコントローラーは会場で用意します。
LOCATION:Ducklings五反田オフィス 東京都品川区東五反田1-23-
 7 (メリス五反田2F)
URL:https://techplay.jp/event/629078?utm_medium=referral&utm_source=ics&utm
 _campaign=ics
END:VEVENT
END:VCALENDAR
