BEGIN:VCALENDAR
VERSION:2.0
PRODID:-//https://techplay.jp//JP
CALSCALE:GREGORIAN
METHOD:PUBLISH
X-WR-CALDESC:第12回CoderDojo大治(1/2)
X-WR-CALNAME:第12回CoderDojo大治(1/2)
X-WR-TIMEZONE:Asia/Tokyo
BEGIN:VTIMEZONE
TZID:Asia/Tokyo
BEGIN:STANDARD
DTSTART:19700101T000000
TZOFFSETFROM:+0900
TZOFFSETTO:+0900
TZNAME:JST
END:STANDARD
END:VTIMEZONE
BEGIN:VEVENT
UID:629167@techplay.jp
SUMMARY:第12回CoderDojo大治(1/2)
DTSTART;TZID=Asia/Tokyo:20170813T133000
DTEND;TZID=Asia/Tokyo:20170813T150000
DTSTAMP:20260425T200754Z
CREATED:20170730T120409Z
DESCRIPTION:イベント詳細はこちら\nhttps://techplay.jp/event/62916
 7?utm_medium=referral&utm_source=ics&utm_campaign=ics\n\n第12回　Coder
 Dojo大治　を開催します。\n下記注意事項をお読みの上
 、お申込ください。\n\n※　参加人数が増えたため、今
 回は2回に分けます。この募集はその前半部です。\n後
 半部に空きがある場合、人数等の状況によっては、続
 けて参加できる可能性もあります。\n今回初参加の方
 は、後半部に申し込みください。\n\n対象：　小学生、
 中学生（原則、親御さん同伴でお願いします）\n日時
 ：　2017/8/13(日) 午後1:30-3:00\n場所：　大治町立公民館
 　2F和室(1)\n持参：　ノートPC（WinXP\,Vista\,7\,8\,10）\n<注
 意事項>\n１．\n参加されるお子さんが2名以上いる場合
 は、お子さんの名前を全てご記入ください。\n友達と
 一緒に来るとしても、家族別に登録をお願いします。\
 n２．\n不公平となってしまうので、PCは貸し出ししま
 せん。\nPC持参でお願いします。\n３．\n活動報告・記
 録用に写真を取らせて頂きます。\nこの写真はCoderDojo
 大治のFBページ等、\nCoderDojo大治用のwebページのみで公
 開します。\n基本的に子供達のみですが、親御さんも
 写ってしまう可能性もあります。\n撮影に支障のある
 方が見えましたら、事前通知をお願いします。\n４．\n
 事情により親御さん同伴できない場合はご相談くださ
 い。\nお子さんの年齢と、そのときの人員の状況で判
 断させて頂きます。\nその際、緊急連絡先を伺います
 。\n\n\n<前回から引き続き参加される方へ>\n午後1:30か
 らの参加となります。\n前回同様、自分の作品を作っ
 てもらい、最後に発表してもらう予定です。\n\n\n<初め
 て参加される方へ>\n午後3:00 からの参加となります。\n
 Scratchを触ったことのある方は、その旨お伝えください
 。\n習熟レベルとそのときの状況によって参加時間を
 判断させて頂きます。\n\n\nCoderDojo大治　の活動自体に
 関しては、本グループの説明：\nhttp://coderdojo-oharu.connpa
 ss.com/\nおよび下記FaceBookページをご参照ください。\nhtt
 ps://www.facebook.com/CoderDojo大治-558366577697188/
LOCATION:大治町公民館 大治町大字馬島字大門西10
URL:https://techplay.jp/event/629167?utm_medium=referral&utm_source=ics&utm
 _campaign=ics
END:VEVENT
END:VCALENDAR
