BEGIN:VCALENDAR
VERSION:2.0
PRODID:-//https://techplay.jp//JP
CALSCALE:GREGORIAN
METHOD:PUBLISH
X-WR-CALDESC:第2回 情シス女子会
X-WR-CALNAME:第2回 情シス女子会
X-WR-TIMEZONE:Asia/Tokyo
BEGIN:VTIMEZONE
TZID:Asia/Tokyo
BEGIN:STANDARD
DTSTART:19700101T000000
TZOFFSETFROM:+0900
TZOFFSETTO:+0900
TZNAME:JST
END:STANDARD
END:VTIMEZONE
BEGIN:VEVENT
UID:629381@techplay.jp
SUMMARY:第2回 情シス女子会
DTSTART;TZID=Asia/Tokyo:20170824T190000
DTEND;TZID=Asia/Tokyo:20170824T210000
DTSTAMP:20260420T144051Z
CREATED:20170801T080232Z
DESCRIPTION:イベント詳細はこちら\nhttps://techplay.jp/event/62938
 1?utm_medium=referral&utm_source=ics&utm_campaign=ics\n\n■情シス女
 子\n発信、共感、つながりによる情シス女子の交流会\n
 働き方の新時代、新しい社会貢献の活性を目指します
 ！\n■イベント説明\nあの情シス女子会が久々に開催！
 ！\n第1回の情シス女子会でのみなさんからいただいた
 アンケート結果を分析したところ\n「将来に向けて準
 備するべきことを知りたい」\n「もっと情シスとして
 活躍するにはどうしたらいいのか」\nという共感度が
 高い課題が見えてきました。\n当初ライトニングトー
 クをメインにしていましたが、\nせっかくなので、よ
 り深く話し合えるディスカッションコンテンツを設け\
 nこの課題を解決するためのヒントをみつけていきたい
 と思っています！\nディスカッションのテーマはコレ
 ！\n1. 給料アップしたい！！\n2. 自信をもちたい！！\n3
 . 女子力あげたい！！\n普段話せない他社のIT業界で働
 く女子との本音トークで\n私たちのキャリアについて
 一緒に考えていきましょう！\nコンテンツのあとは交
 流会もありますので、\nぜひぜひご参加ください☆\n■
 参加費\n無料\n■開催日時\n2017年 8月 24日 木曜日 19:00 
 開始 ( 18:30 受付 ) 21:00 終了\n■開催場所\n〒102-0093 東京
 都千代田区平河町2-5-3 Nagatacho GRID\n■コンテンツ\n\n\nデ
 ィスカッション 予定のテーマ\n\n\n給料アップしたい！
 ！\n    →「こうやったら評価された、給料があがった
 、昇格した」という体験談を共有\n\n\n自信をもちたい
 ！！\n    →知識を深めるために何をしている？どんな
 本や資格がおすすめ？\n\n\n女子力あげたい！！\n    →
 仕事と趣味や家庭をどうやって両立しているの？\n\n\n\
 n\n交流会（飲み物、食べ物ご用意します）\n\n\n■もち
 もの\n名刺 + カジュアルな服装と心意気！\n■参加者対
 象\n\n女性限定（シス・トランス問わず！）\n企業で情
 シスをやっているひと\n情シスっぽいことをやってい
 るひと\n情シスに興味があるひと\nそれをめざしている
 人\n\n■注意事項\n\n本イベントは、「発信、共感、つ
 ながりによる情シス女子の交流会」を目的としたイベ
 ントです。\n"女子会"とありますが、特別それ以外の性
 別を差別する意味合いのものではなく、今後の働きか
 たの多様性とその新しい働きか方を促進することを目
 的とおります。\n受付時に名刺交換をお願いしており
 ます。何卒ご協力をお願いします。\nいろいろな方と
 名刺交換OKです。けれどもその際における機密情報、
 個人情報の取扱いは自責にてお願い致します。\n当日
 の様子のお写真をSNSやウェブサイトで公開する可能性
 があります。(個人が特定されるような掲載にならない
 ように配慮いたします)\n前回は動画公開をしましたが
 、今回はございません。\n
LOCATION:Nagatacho GRID 地下1Fイベントスペース 東京都千代田
 区平河町2-5-3
URL:https://techplay.jp/event/629381?utm_medium=referral&utm_source=ics&utm
 _campaign=ics
END:VEVENT
END:VCALENDAR
