BEGIN:VCALENDAR
VERSION:2.0
PRODID:-//https://techplay.jp//JP
CALSCALE:GREGORIAN
METHOD:PUBLISH
X-WR-CALDESC:Microsoft Cognitive Services Overview & HandsOn
X-WR-CALNAME:Microsoft Cognitive Services Overview & HandsOn
X-WR-TIMEZONE:Asia/Tokyo
BEGIN:VTIMEZONE
TZID:Asia/Tokyo
BEGIN:STANDARD
DTSTART:19700101T000000
TZOFFSETFROM:+0900
TZOFFSETTO:+0900
TZNAME:JST
END:STANDARD
END:VTIMEZONE
BEGIN:VEVENT
UID:629454@techplay.jp
SUMMARY:Microsoft Cognitive Services Overview & HandsOn
DTSTART;TZID=Asia/Tokyo:20170824T170000
DTEND;TZID=Asia/Tokyo:20170824T203000
DTSTAMP:20260421T050658Z
CREATED:20170802T020243Z
DESCRIPTION:イベント詳細はこちら\nhttps://techplay.jp/event/62945
 4?utm_medium=referral&utm_source=ics&utm_campaign=ics\n\nMicrosoft Cognit
 ive Services Overview & HandsOn\nMicrosoft Cognitive Servicesは開発者
 に機械学習の知識がなくても、感情検知や画像認識、
 音声認識、自然言語理解など様々な機能を利用するこ
 とができるREST APIのサービス群です。最近はやりのIntel
 ligentな機能をアプリやサービスに組み込むことができ
 ます。\nこのイベントではそんなMicrosoft Cognitive Services
 の概要を知り、実際に触ってみるハンズオン（もくも
 くと作業を行うもくもく会を想定）の2部構成で行いま
 す。\nセッション概要\nCognitive Services 概要セッション\n
 スピーカー: 日本マイクロソフト 大森 様\nタイムテー
 ブル\n\n\n\n時間\n内容\n\n\n\n\n16:30\n開場\n\n\n17:00\nCognitive
  Services 概要セッション\n\n\n18:00\n休憩\n\n\n18:10\nハンズ
 オン/もくもく会\n\n\n20:00\nLT発表\n\n\n20:30\n解散\n\n\n\nLT
 （ライトニングトーク）について\nこのイベントでは
 最後にLT枠を設けます。Azureについてなら内容はなんで
 もOK、時間は5分程度で気軽に発表できる場です。\n長
 時間の大きな発表は大変で難しいけど、少しでも共有
 したい・言いたいことがあったりする方はぜひこの機
 会にチャレンジしてみてください。ハンズオンを改造
 してこんなことをしてみたよ・こんなところが気にな
 ったよなどテーマはなんでもOKです！ 堅苦しいスライ
 ドも不要です。当日飛込発表も歓迎します！\nハンズ
 オン環境について\n基本的に主催側でPC等の用意は行い
 ません。参加者皆様でハンズオンが行えるPCをご用意
 ・持参ください。\n↓Visual Studio Community (win)\, Visual Studi
 o Code (win/mac/linux) は無料で利用可能です。\nVisual Studio 
 ダウンロード\nハンズオンコンテンツ\n■Emotion API × Web
 アプリ (JavaScript\, C#(.NET Core))\n\nhttp://qiita.com/annie/items/96
 b37ef94885510c1b6b\nhttp://qiita.com/annie/items/5fc35b71dbf2b2ee81ee\n\n
 ■Custom Vision (× Bot Framework)\n\nhttp://qiita.com/annie/items/29352
 5901020685ad5f6\n\n■LUIS (× Bot Framework)\n\nhttp://qiita.com/annie/i
 tems/c55101720aee1c6d7ad6\nhttp://qiita.com/annie/items/23b821108f9d32a08
 32e\n\n■Cognitive Services Sample (Intelligent Kiosk)\n\nhttps://github
 .com/Microsoft/Cognitive-Samples-IntelligentKiosk\n\nAzure & Cognitive Se
 rvices 開発環境について\nCognitive Services だけなら下記の
 手順で利用可能です。\nMicrosoft アカウント & Cognitve Serv
 ices サブスクリプション 申込手順\n一部のAPIは Azure サ
 ブスクリプションから申し込みになります。\nAzure 30日
 評価版、または通常の Azure サブスクリプションを事前
 にご用意ください。\nAzure 30日評価版 サブスクリプシ
 ョン 申込\n設備について\n\nWiFiはマイクロソフト様の
 ゲスト用をお借りする予定です。（ただし回線状況を
 考えてご自分のWiFiルーター等お持ちの方は用意された
 ほうが良いかもしれません）\n電源はありますがコン
 セント数が多くないため、可能であれば電源タップ的
 なものを持参頂き譲り合いながら利用頂けると助かり
 ます。\n
LOCATION:日本マイクロソフト 関西支店 大阪府大阪市福島
 区福島 5-6-16 ラグザタワーノースオフィス 5F
URL:https://techplay.jp/event/629454?utm_medium=referral&utm_source=ics&utm
 _campaign=ics
END:VEVENT
END:VCALENDAR
