BEGIN:VCALENDAR
VERSION:2.0
PRODID:-//https://techplay.jp//JP
CALSCALE:GREGORIAN
METHOD:PUBLISH
X-WR-CALDESC:【赤坂】第4回　大人の自由研究！真夏のハニ
 ーポット構築！
X-WR-CALNAME:【赤坂】第4回　大人の自由研究！真夏のハニ
 ーポット構築！
X-WR-TIMEZONE:Asia/Tokyo
BEGIN:VTIMEZONE
TZID:Asia/Tokyo
BEGIN:STANDARD
DTSTART:19700101T000000
TZOFFSETFROM:+0900
TZOFFSETTO:+0900
TZNAME:JST
END:STANDARD
END:VTIMEZONE
BEGIN:VEVENT
UID:629480@techplay.jp
SUMMARY:【赤坂】第4回　大人の自由研究！真夏のハニーポ
 ット構築！
DTSTART;TZID=Asia/Tokyo:20170823T190000
DTEND;TZID=Asia/Tokyo:20170823T210000
DTSTAMP:20260424T020839Z
CREATED:20170802T040329Z
DESCRIPTION:イベント詳細はこちら\nhttps://techplay.jp/event/62948
 0?utm_medium=referral&utm_source=ics&utm_campaign=ics\n\n皆さんこん
 にちは！管理者の7F_Tokyoです。   \nご好評につき、第4
 回も”ハニーポットの構築”になります！    \n第4回も
 第3回と同様の内容を実施しますので、第3回を参加さ
 れた方の応募はご遠慮下さい。\n講義中の実技として
 ハニーポットが攻撃者にどう見えるかなど行います。\
 nどのハニーポットを構築するのかは当日のお楽しみ！
 \nセキュリティ初心者の方にも分かりやすい内容とな
 っておりますので、   \n初心者の方から経験者の方ま
 で気兼ねなくご応募ください！\n１．アジェンダ\n\nハ
 ニーポットとは\nハニーポットの構築\nハニーポットを
 覗いてみよう！\nハニーポットのログ解析\n\n２．スケ
 ジュール\n\n\n\n時間\n内容\n\n\n\n\n18:30\n開場\n\n\n19:00 - 19
 :15\n挨拶\n\n\n19:15 - 20:45\n勉強タイム\n\n\n20:45 - 21:00\n質
 問タイム\n\n\n21:00\n閉場\n\n\n\n３．持ち物\n\n受付表を印
 刷、もしくは受付にて画面の提示をお願い致します。\
 nwifi機能をパソコンを持参ください。\nVirtualboxもしく
 はVMwareの事前インストールをお願いします。\n\n４．対
 象\n\n情報セキュリティを学びたい方！\nエンジニア仲
 間を増やしたい方！\n学生さんの参加もお待ちしてお
 ります！\n\n５．アクセス\n東京都港区赤坂1-3-18 DGビル2
 2 7F  <詳細はこちら>\n溜池山王駅9番出口から徒歩1分で
 す！\n9番出口を出て真っ直ぐ進んで頂き、長い横断歩
 道を渡ってください。\n左側の大通りの方を進むと、
 １階に中華料理屋「農家宴」が見えますので、\n右に
 あるエレベータから7階に上がってください。　　    \n
 ６．注意事項\n会場内での食事は軽食程度であれば問
 題ございません。
LOCATION:7F_Tokyo 東京都港区赤坂1-3-18
URL:https://techplay.jp/event/629480?utm_medium=referral&utm_source=ics&utm
 _campaign=ics
END:VEVENT
END:VCALENDAR
