BEGIN:VCALENDAR
VERSION:2.0
PRODID:-//https://techplay.jp//JP
CALSCALE:GREGORIAN
METHOD:PUBLISH
X-WR-CALDESC:【未経験者向け】一緒にプログラミング始め
 ませんか？#03
X-WR-CALNAME:【未経験者向け】一緒にプログラミング始め
 ませんか？#03
X-WR-TIMEZONE:Asia/Tokyo
BEGIN:VTIMEZONE
TZID:Asia/Tokyo
BEGIN:STANDARD
DTSTART:19700101T000000
TZOFFSETFROM:+0900
TZOFFSETTO:+0900
TZNAME:JST
END:STANDARD
END:VTIMEZONE
BEGIN:VEVENT
UID:630079@techplay.jp
SUMMARY:【未経験者向け】一緒にプログラミング始めませ
 んか？#03
DTSTART;TZID=Asia/Tokyo:20170820T100000
DTEND;TZID=Asia/Tokyo:20170820T120000
DTSTAMP:20260421T062556Z
CREATED:20170803T160248Z
DESCRIPTION:イベント詳細はこちら\nhttps://techplay.jp/event/63007
 9?utm_medium=referral&utm_source=ics&utm_campaign=ics\n\n『勉強会掲
 示物』へのリンク\n\n勉強会前日までに、事前課題と準
 備があります。\n上記『勉強会掲示物』内の『次回勉
 強会までの課題と準備』欄で確認して下さい。\n準備
 が整っていないと当日何もできないかも。\n\n【概要】
 \nPython3というプログラム言語を元にプログラミングの
 基礎を勉強します。\nこの言語にした理由は、初心者
 向けで学びやすい言語な為です。（そしてタダ…）\n
 しかし初心者向けとは言っても、Google社、Facebook社も
 採用している最前線の言語なのです。\nまた、一つの
 言語を学んでおくと、方言のように他の言語にも応用
 が効くのでここから始めてみましょう。\n『Pythonは簡
 単に学べる強力なプログラム言語である。』－　Guido v
 an Rossum氏\n\n【代表者】\n講義ではなく、同じレベルで
 一緒に勉強しようという会です。\n一応、私はPython 3 
 エンジニア認定基礎試験とOJC-A(旧SJC-A)というJava言語の
 資格を有していますので、\nほんの少しだけ支援する
 ことは出来ます。\n\n【対象者】\n他の言語（Java \, C言
 語などなど）を含めてプログラミング未経験者。\n四
 則演算から始めますので、これまでに他の言語を学ば
 れた方には向いていません。\nエクセルやワード、ネ
 ットの閲覧が何とか操作できれば、参加資格達成です
 。\n\n【進め方】\nミーティング頻度は検討中ですが、
 月１回で場所を確保しています。\nその間は軽くて緩
 い課題を進めて次回に臨みます。\nメール、Skype、LINE
 、ハングアウトなどで随時フォローアップしていきま
 す。\n\n各回のテーマは、資料欄の勉強会掲示物より、
 次回の進行表をご確認ください。\n段取りは模索して
 いる所で不手際があると思いますが、\n互助会という
 ことで、ご容赦、ご協力お願い致します。\n\n色々な課
 題を解決しながら、必要な知識とスキルを積み重ねて
 いきます。\nプログラミングの基礎、統計の基礎、デ
 ータベースとSQL、WEBサービス、\n何を書いてるのか分
 からないと思いますが、\n読むよりやった方が分かり
 易いでしょう。\n\n【初参加の方】\n事前課題を終わら
 せてからご参加ください。\n上に記載している勉強会
 掲示物に説明があります。\n内容は簡単な文法を説明
 した３分動画集です。\n【必要物品】\nノートパソコン
 、会費５００円。他、費用負担なし。\n参考書籍を使
 用しますが、購入の必要はありません。\n\n【場所】\n\
 n※　入口には「勘定系男子渡邉くんが囲まれる会」ま
 たは「板橋区プログラミング勉強会」と掲示されてい
 ます。\n\n※　同会にてセットで部屋を確保しているた
 め、紛らわしく申し訳ございません。\n最寄駅は東上
 線大山駅・三田線板橋区役所前駅\n館内図や見取り図
 は、資料の勉強会掲示物内で確認できます。
LOCATION:板橋区立グリーンホール　５０１会議室 東京都
 板橋区栄町３６−１
URL:https://techplay.jp/event/630079?utm_medium=referral&utm_source=ics&utm
 _campaign=ics
END:VEVENT
END:VCALENDAR
