BEGIN:VCALENDAR
VERSION:2.0
PRODID:-//https://techplay.jp//JP
CALSCALE:GREGORIAN
METHOD:PUBLISH
X-WR-CALDESC:もくもく会 @ セプテーニオリジナル vol.8
X-WR-CALNAME:もくもく会 @ セプテーニオリジナル vol.8
X-WR-TIMEZONE:Asia/Tokyo
BEGIN:VTIMEZONE
TZID:Asia/Tokyo
BEGIN:STANDARD
DTSTART:19700101T000000
TZOFFSETFROM:+0900
TZOFFSETTO:+0900
TZNAME:JST
END:STANDARD
END:VTIMEZONE
BEGIN:VEVENT
UID:630217@techplay.jp
SUMMARY:もくもく会 @ セプテーニオリジナル vol.8
DTSTART;TZID=Asia/Tokyo:20170819T110000
DTEND;TZID=Asia/Tokyo:20170819T180000
DTSTAMP:20260420T013910Z
CREATED:20170805T060254Z
DESCRIPTION:イベント詳細はこちら\nhttps://techplay.jp/event/63021
 7?utm_medium=referral&utm_source=ics&utm_campaign=ics\n\nSepteni Original
  weekend mokumoku day !!\n※途中入退室は自由です\n8/19(土)に
 セプテーニグループのカフェスペースを借りて、自習
 するための場を提供します。\n(※wifi、電源、エアコン
 完備しています。)\n特にテーマを決めてもくもくする
 のではなく、各自やりたいことをもくもくする会にし
 たいと思います。\nセプテーニオリジナルのエンジニ
 アも参加しますので、日頃Scalaで開発していたり、Scala
 に興味のあるエンジニア、学生エンジニアの方にはオ
 ススメです！\nこんな方にオススメです\n・土曜日もく
 もくしたい方\n・セプテーニのカフェスペースを見て
 みたい方\n・Scalaに興味がある方\n・LTをしたい方\n※ゲ
 スト用のネットワークが切れやすいため、ssh等の作業
 はやりにくいかもしれません。\nスケジュール\n\n\n\n時
 間\nイベント\n内容\n\n\n\n\n11:00\n集合\nグランドタワー30
 F集合、カフェスペースにご案内\n\n\n11:15\n会場案内\nト
 イレや入退室、wifiの説明\n\n\n11:30\n自己紹介\n簡単な自
 己紹介、今日各自やりたいことの発表\n\n\n11:40\nスター
 ト\nもくもく会スタート\n\n\n13:00\nランチ\n参加者みな
 さんでランチに行きましょう！\n\n\n14:00\nもくもく\nも
 くもく\n\n\n18:00\n成果の発表、感想\n成果の発表、感想\
 n\n\n18:30\n撤収\nオフィスビルから撤収\n\n\n\n※集合場所
 は、ビルの30Fです。11:00〜11:15分までプラカードを持っ
 てお待ちしております。\n※ランチの時間は会場に入
 れませんので、13時前か14時以降の到着になるように調
 整のご協力お願いします。\n※イベント終了後は、イ
 ベントを改善していくためのアンケートをお願いして
 おりますのでご協力くださいませ。\n連絡方法\n参加の
 方に当日の緊急連絡先をお伝えしますので、当日の連
 絡は電話へお問い合わせください。\n会場\nセプテーニ
 グループのカフェスペース\n東京都新宿区西新宿8-17-1 (
 住友不動産新宿グランドタワー27F)
LOCATION:セプテーニグループ（27Fカフェスペース） 東京
 都新宿区西新宿8-17-1
URL:https://techplay.jp/event/630217?utm_medium=referral&utm_source=ics&utm
 _campaign=ics
END:VEVENT
END:VCALENDAR
