BEGIN:VCALENDAR
VERSION:2.0
PRODID:-//https://techplay.jp//JP
CALSCALE:GREGORIAN
METHOD:PUBLISH
X-WR-CALDESC:【一休 × JapanTaxi】サービスを支えるデータ分
 析基盤
X-WR-CALNAME:【一休 × JapanTaxi】サービスを支えるデータ分
 析基盤
X-WR-TIMEZONE:Asia/Tokyo
BEGIN:VTIMEZONE
TZID:Asia/Tokyo
BEGIN:STANDARD
DTSTART:19700101T000000
TZOFFSETFROM:+0900
TZOFFSETTO:+0900
TZNAME:JST
END:STANDARD
END:VTIMEZONE
BEGIN:VEVENT
UID:630218@techplay.jp
SUMMARY:【一休 × JapanTaxi】サービスを支えるデータ分析基
 盤
DTSTART;TZID=Asia/Tokyo:20170817T193000
DTEND;TZID=Asia/Tokyo:20170817T220000
DTSTAMP:20260425T115612Z
CREATED:20170805T060256Z
DESCRIPTION:イベント詳細はこちら\nhttps://techplay.jp/event/63021
 8?utm_medium=referral&utm_source=ics&utm_campaign=ics\n\nイベント概
 要\n「一休.com」を運営する株式会社一休と、スマート
 フォンアプリ「全国タクシー」でおなじみのJapanTaxi株
 式会社のコラボイベントです。\n今回はサービスの開
 発を支えるデータ分析基盤をテーマとして現場のエン
 ジニアにお話いただきながら、参加者の方との交流を
 通じて、様々な学びを得ることを目的とした合同イベ
 ントです。\nメインセッションのほかにLTや懇親会もあ
 りますので、奮ってご参加ください！\n【一休 × JapanTa
 xi】サービスを支えるデータ分析基盤\n\n日時: 8/17(木) 1
 9:30~21:30\n場所: 株式会社一休（本社オフィス）\n住所: 
 〒107-0051 東京都港区赤坂3-3-3　住友生命赤坂ビル 5F\n費
 用: 無料\n\nスピーカー\n株式会社一休　宿泊事業本部
 システム開発部長 エンジニアリングマネージャー 笹
 島祐介\n一休では主に宿泊事業のプロダクト開発を行
 っています。直近ではデータ分析基盤の構築とその基
 盤を活用したCRM施策の開発も担当しています。\n発表
 タイトル: 一休.com におけるデータ分析基盤とCRM運用（
 仮）\n一休ではデータ分析基盤を直近でクラウド環境
 上に再構築しました。主にはその移行プロジェクトに
 おける背景や課題などをお話させて頂こうと思います
 。また、その基盤を活用した宿泊事業におけるマーケ
 ティング施策もご紹介します。\nJapanTaxi株式会社　シ
 ステムデザイン事業部 部長 長谷川 直\nJapanTaxiの前身
 の会社で少ない人数で全国タクシーアプリを開発した
 のに興味を持ち\n2014年からジョインしています。\nJapan
 Taxiでは主にマネージャーとして各プロダクト開発に関
 わっています\n発表タイトル: タクシー会社を支えるデ
 ータ収集技術 〜AWS Kinesis Stream/IoT の導入事例〜\nタク
 シーの配車システムで使用される動態データが今まで
 クローズドになっていたのをAWS Kinesis Streamを利用する
 ことにより\n動態データを利用して需要予測システム
 やその他プロダクトで自由に動態データを扱えるよう
 に動態データをオープンな状態にした話です。\n余談
 として、AWS IoTを利用した事例も紹介します\nLT\n\n\n\n#\n
 発表者\nタイトル\n\n\n\n\n1\n田中康一さま\n「3分で作る
 ストリーム処理基盤 ～Kafka + Flink on Docker編～」\n\n\n2\nm
 otobrewさま\n「クラシルを支える分析基盤　を支える話
 」\n\n\n3\nShogo_Suzukiさま\n「SpinAppを支えるデータ収集基
 盤」\n\n\n4\nidobataさま\n「b→dashのデータ処理基盤」\n\n\
 n\nタイムテーブル\n\n\n\n時間\n内容\n\n\n\n\n19:10\n受付開
 始\n\n\n19:30~19:35\n主催者からの挨拶\n\n\n19:35~19:55\nセッ
 ション1\n\n\n19:55~20:15\nセッション2\n\n\n20:15~20:20\n休憩\n\
 n\n20:20~20:25\nLT1\n\n\n20:25~20:30\nLT2\n\n\n20:30~20:35\nLT3\n\n\n20:3
 5~20:40\nLT4\n\n\n20:40~21:45\n懇親会\n\n\n22:00頃\n終了\n\n\n\n注
 意事項\n\n電源のご用意はございませんのでフル充電で
 お越しいただくことをおすすめします\n受付で名刺を
 頂戴しますので、名刺をお持ちください。お持ちでな
 い場合、別紙に必要事項を記載いただきますので、受
 付に少々時間がかかることがあります。\nオフィス内
 は全面禁煙です\nWi-Fiの用意はありますが、人数の都合
 上、つながらない場合があります\nイベントの様子を
 写真や動画で撮影する場合がありますので、予めご了
 承ください\nエンジニアの方を対象としたイベントの
 ため、当イベント内でのリクルーティング活動につき
 ましてご遠慮いただいております\n参加人数に限りが
 ございますので、事前にご参加が難しくなった際はお
 早めにキャンセルのご協力をお願いいたします\n\nアク
 セス\n\n〒107-0051　東京都港区赤坂3-3-3　住友生命赤坂
 ビル 5F\n受付階：5階\nhttp://www.ikyu.co.jp/about/access/\n\n入
 館方法について\n19時以降は正面入口のドアがロックさ
 れてしまうため、弊社スタッフが受付開始の【19:10】
 より正面入口でお待ちしております。\n受付開始前の
 ご入館はお控え頂きますようお願い申し上げます。ま
 た、20:00以降、遅れて参加されます方は会場到着の際
 に弊社スタッフまでお電話くださいませ。ビル裏通用
 口までお迎えに伺います。\n\n連絡先: 090-6163-1160　担当
 : 井上（イノウエ）\n
LOCATION:株式会社一休 東京都港区赤坂3-3-3 (住友生命赤坂
 ビル5F)
URL:https://techplay.jp/event/630218?utm_medium=referral&utm_source=ics&utm
 _campaign=ics
END:VEVENT
END:VCALENDAR
