BEGIN:VCALENDAR
VERSION:2.0
PRODID:-//https://techplay.jp//JP
CALSCALE:GREGORIAN
METHOD:PUBLISH
X-WR-CALDESC:Meguro.es #11 @ oRo
X-WR-CALNAME:Meguro.es #11 @ oRo
X-WR-TIMEZONE:Asia/Tokyo
BEGIN:VTIMEZONE
TZID:Asia/Tokyo
BEGIN:STANDARD
DTSTART:19700101T000000
TZOFFSETFROM:+0900
TZOFFSETTO:+0900
TZNAME:JST
END:STANDARD
END:VTIMEZONE
BEGIN:VEVENT
UID:630222@techplay.jp
SUMMARY:Meguro.es #11 @ oRo
DTSTART;TZID=Asia/Tokyo:20170824T193000
DTEND;TZID=Asia/Tokyo:20170824T220000
DTSTAMP:20260421T022044Z
CREATED:20170805T080300Z
DESCRIPTION:イベント詳細はこちら\nhttps://techplay.jp/event/63022
 2?utm_medium=referral&utm_source=ics&utm_campaign=ics\n\nイベント概
 要\nMeguro.esは、目黒界隈でECMAScript\, 広くはJavaScriptのこ
 とをアレコレする勉強会です。\n第11回は8月24日に開催
 いたします！\n引き続きMeguro.esをよろしくおねがいし
 ます。\n目黒界隈ネット系ベンチャー地図2017年立春(外
 部サイト)に出てくる企業に勤めている方はもちろんの
 こと、お隣の恵比寿や五反田だけではなく、JavaScriptの
 ことを聞きたい/話したい方であれば誰でも参加は大歓
 迎です！\n今回は 株式会社オロ 様に会場提供いただき
 開催いたします！\n発表者枠募集！\n今回も登壇者を全
 力で募集しています！\nMeguro.esはちょっとだけ長めな10
 分設定の発表枠をご用意しております。\n玄人のJSerは
 もちろんのこと、初めてLTする方も歓迎しています！\n
 タイムテーブル\n\n\n\n時間\nテーマ\n発表者\n\n\n\n\n19:05-
 19:30\n開場・受付\n\n\n\n19:30-19:40\n趣旨説明・乾杯\nfuya\n\
 n\n\nTypeScript + WebGLでゲームを作って売った話\nJun\n\n\n\nE
 cmascript Bigint\nbrn0227\n\n\n\nSPAしないVueとRails\nBlackPrincessW\
 n\n\n\n\n(休憩)\n\n\n\nTyped Vuex\njoe_re\n\n\n\nJavaScript で VJ を
 やってみた\nKo-Yelie\n\n\n\nTBD\nTakayuki Sugita\n\n\n\nTBD\nZUL1171
 55\n\n\n21:00-21:50\n飛び込みLTありの懇親会\n\n\n\n22:00\n完
 全撤収\n\n\n\n\n会場\n\n株式会社オロ\n東京都目黒区目黒
 3-9-1 目黒須田ビル 4階\nhttps://www.oro.com/ja/corporate/locations
 /\n\n参加費\n無料\n会場提供・スポンサー\n株式会社オ
 ロ (会場提供・スポンサー)\nMeguro.es #11 の開催にあたり
 、オロ様のご支援・ご協力のもとスペースをご提供い
 ただきました。\nオロ 様ご紹介\noRoは“Technology x Creativ
 e”をスローガンに、ゆるキャラのようなかわいい企業
 ロゴを掲げながら、BtoBビジネスを展開するITベンチャ
 ーです。\nメイン事業として、Webを主軸に多様な方法
 で企業とエンドユーザーを前向きにつなぐコミュニケ
 ーションデザイン事業（https://www.oro.com/cd/ ）と、業務
 効率化や生産性向上を実現するERPを開発するビジネス
 ソリューション事業（https://www.oro.com/zac/ ）を展開して
 います。新規事業にもチャレンジしており、今後も最
 新のテクノロジーを用いて世の中に幸せ・喜びを届け
 られる企業を目指していきます。\n最近（やっと）エ
 ンジニアブログをはじめました　https://dev.oro.com/ \n参
 加できない方\n継続的なイベントの運用のため、下記
 に当てはまる方の参加をお断りいたします。\n\n宣伝・
 採用・飲食のみを目的とした方\n同時間帯に複数のイ
 ベントに申し込まれている方\n過去に無断キャンセル(
 キャンセル処理を行わずに欠席をすること)が目立つ方
 \n過去にイベントの進行に関しての問題を起こした方\n
 \n会場には定員がございますので、上記に該当する方
 は強制キャンセル処理を行います。\nその他\nMeguro.es 
 では、運営を手伝っていただけるスタッフを募集して
 おります。\nご興味のある方は twitter @meguroes までDMを
 お願いします。
LOCATION:株式会社オロ 東京都目黒区目黒3-9-1
URL:https://techplay.jp/event/630222?utm_medium=referral&utm_source=ics&utm
 _campaign=ics
END:VEVENT
END:VCALENDAR
