BEGIN:VCALENDAR
VERSION:2.0
PRODID:-//https://techplay.jp//JP
CALSCALE:GREGORIAN
METHOD:PUBLISH
X-WR-CALDESC:セミナー: ライブラリを使わないwebサービス構
 築方法
X-WR-CALNAME:セミナー: ライブラリを使わないwebサービス構
 築方法
X-WR-TIMEZONE:Asia/Tokyo
BEGIN:VTIMEZONE
TZID:Asia/Tokyo
BEGIN:STANDARD
DTSTART:19700101T000000
TZOFFSETFROM:+0900
TZOFFSETTO:+0900
TZNAME:JST
END:STANDARD
END:VTIMEZONE
BEGIN:VEVENT
UID:630289@techplay.jp
SUMMARY:セミナー: ライブラリを使わないwebサービス構築
 方法
DTSTART;TZID=Asia/Tokyo:20170814T153000
DTEND;TZID=Asia/Tokyo:20170814T173000
DTSTAMP:20260425T150930Z
CREATED:20170806T160256Z
DESCRIPTION:イベント詳細はこちら\nhttps://techplay.jp/event/63028
 9?utm_medium=referral&utm_source=ics&utm_campaign=ics\n\nセミナーテ
 ーマ：　ライブラリを使わないwebサービス構築方法\n\n
 \n内容： webサービス構築の事例と方法論のレクチャー\
 n\n\n日程： 2017/08/14（月） 15:30〜17:30\n\n\n講師： 株式会
 社MYNT　代表取締役　弓削田公司\n\n\n共催者： 大黒勇
 司、南條弘明\n\n\n\n対象者\n\n\nこれからwebサービスを
 作りたいと思っている初心者歓迎です。\n\n\nwebサービ
 ス構築でお困りの事がある開発部門の方など。\n\n\n以
 下のような人も歓迎しています。\n  webエンジニア初心
 者の方\n  会社のwebサービスで課題がある人\n  エンジ
 ニアの人たちと交流をしたい方\n\n\n会場\nマツヤマン
 スペース　（松山市千舟町5丁目3-17　JA松山市市駅前ビ
 ル３F）\nスケジュール\n 2017/08/14（月） \n 　15:00　　開
 場（受付開始）\n 　15:30〜15:35　　挨拶\n 　15:35〜16:10
 　　第1部： webサービス開発部門経験談\n 　16:10〜16:20
 　　休憩\n 　16:25〜17:00　　第2部： webサービスの作り
 方\n 　17:00〜17:30　　名刺交換など\nセミナー内容\n\n\n
 第1部： webサービス開発部門経験談\n WEBサービス開発
 における課題と対応の実施報告\n\n\n第2部： webサービ
 スの作り方\n WEBサービス構築の考え方\n 簡単なSPAサン
 プルツールの紹介\n\n\n参加費\n無料\n持参品\n筆記用具
 、名刺（任意）
LOCATION:マツヤマンスペース 愛媛県松山市千舟町5丁目3-17
 　JA松山市市駅前ビル３F
URL:https://techplay.jp/event/630289?utm_medium=referral&utm_source=ics&utm
 _campaign=ics
END:VEVENT
END:VCALENDAR
