BEGIN:VCALENDAR
VERSION:2.0
PRODID:-//https://techplay.jp//JP
CALSCALE:GREGORIAN
METHOD:PUBLISH
X-WR-CALDESC:【東京】【LTスピーカー募集】JJUG ナイト・セ
 ミナー 「ビール片手にLT&納涼会 2017」 8/23(水)開催 
X-WR-CALNAME:【東京】【LTスピーカー募集】JJUG ナイト・セ
 ミナー 「ビール片手にLT&納涼会 2017」 8/23(水)開催 
X-WR-TIMEZONE:Asia/Tokyo
BEGIN:VTIMEZONE
TZID:Asia/Tokyo
BEGIN:STANDARD
DTSTART:19700101T000000
TZOFFSETFROM:+0900
TZOFFSETTO:+0900
TZNAME:JST
END:STANDARD
END:VTIMEZONE
BEGIN:VEVENT
UID:630305@techplay.jp
SUMMARY:【東京】【LTスピーカー募集】JJUG ナイト・セミナ
 ー 「ビール片手にLT&納涼会 2017」 8/23(水)開催 
DTSTART;TZID=Asia/Tokyo:20170823T190000
DTEND;TZID=Asia/Tokyo:20170823T210000
DTSTAMP:20260424T021250Z
CREATED:20170807T000709Z
DESCRIPTION:イベント詳細はこちら\nhttps://techplay.jp/event/63030
 5?utm_medium=referral&utm_source=ics&utm_campaign=ics\n\n※こちらは
 スピーカーの募集ページです。聴講者募集は、後日別
 途ご案内いたしますので、お待ち下さい。\n\n8月のJJUG
 ナイトセミナーは、「ビール片手にLT&納涼会 2017」と
 題して、恒例となったLT大会を挙行します。まずはLTの
 スピーカーを募集いたします。\n\nLTの発表時間はひと
 り5分、内容については特段の制約はありません。ガチ
 ネタ・ゆるネタ問わず、ぜひご参加ください。皆様の
 ご応募をお待ちしております！\n\nなお、タイトルや発
 表順等についてスタッフより連絡をさせていただく場
 合がありますので、登録しているメールアドレスが最
 新のものであるかどうか、ご確認をお願いいたします
 。\n\n会場設備は次のとおりです。\n\n\nスクリーンサイ
 ズは1366*768です。\nVGA or Mini DisplayPort or HDMIで出力でき
 ます。\nハンドマイク or ピンマイクが使えます。\n
LOCATION:日本オラクル株式会社 本社 13階 東京都港区北青
 山2-5-8
URL:https://techplay.jp/event/630305?utm_medium=referral&utm_source=ics&utm
 _campaign=ics
END:VEVENT
END:VCALENDAR
