BEGIN:VCALENDAR
VERSION:2.0
PRODID:-//https://techplay.jp//JP
CALSCALE:GREGORIAN
METHOD:PUBLISH
X-WR-CALDESC:Arduinoファンもくもく会#011
X-WR-CALNAME:Arduinoファンもくもく会#011
X-WR-TIMEZONE:Asia/Tokyo
BEGIN:VTIMEZONE
TZID:Asia/Tokyo
BEGIN:STANDARD
DTSTART:19700101T000000
TZOFFSETFROM:+0900
TZOFFSETTO:+0900
TZNAME:JST
END:STANDARD
END:VTIMEZONE
BEGIN:VEVENT
UID:630409@techplay.jp
SUMMARY:Arduinoファンもくもく会#011
DTSTART;TZID=Asia/Tokyo:20170813T100000
DTEND;TZID=Asia/Tokyo:20170813T170000
DTSTAMP:20260425T183724Z
CREATED:20170807T160301Z
DESCRIPTION:イベント詳細はこちら\nhttps://techplay.jp/event/63040
 9?utm_medium=referral&utm_source=ics&utm_campaign=ics\n\nArduino好きな
 方々で集まって楽しく勉強しましょう。\n基本もくも
 く会ですが、分からないところを教え合ったり情報交
 換したり自分の作品を自慢したり(笑)、自由にやりま
 しょう。\n会場は#1〜#4まで利用させていただいた紀尾
 井町のYahoo! LODGEです。行かれたかたは分かると思いま
 すが、広々として明るく爽やかな空間です。\nhttps://lod
 ge.yahoo.co.jp/\nこの会はいつも初心者から玄人まで様々
 なかたがいらっしゃるので少しでも興味のあるかたは
 気軽にお越し下さい。\n「Arduino買ったけど何からやっ
 ていいか分からない」というかたには僕が先日雑誌に
 寄稿した初心者向けの記事なども参考にしていただけ
 るとよいかと思います。\nhttp://l-w-i.net/m/20170519_01.txt\n
 入場方法\n東京ガーデンテラス2Fにあるファミマ!!の斜
 め向かいからオフィス棟に入り、ゲート手前にいる守
 衛さんに「LODGEを使う」旨を告げ18Fまでエレベータで
 上がります。\n18Fに着いたら案内表示に従って受付ま
 で行き利用申請を記入して身分証を提示し1Dayパス(シ
 ール)を受け取って17Fに降りて下さい。\nインフォメー
 ションカウンターのかたに「Arduinoのもくもく会に来た
 」旨を伝えれば場所を案内してもらえるようにしてお
 きます。\nスケジュール\n\n10:00 開場 & もくもく開始(お
 昼はご自由にどうぞ)\n16:00 成果発表(やりたい方のみ)
 、製品・サービス・各種活動などの告知もOK、もちろ
 んもくもくしていてもOK\n16:45 片付け開始\n17:00 解散\n\n
 ※ 途中参加・途中退出OKです。\n持ち物\n\nArduino(互換
 機OK)\nPC、パーツ、周辺機器\nその他ガジェットもご自
 由に(むしろ持ってきて欲しいです)\n半田利用OK\n食べ
 物・飲み物(会場は飲食自由です。ビル2Fにスーパー、
 カフェ、コンビニなどがあります)\n\n会場で借りられ
 るもの\n\n電源\nWi-Fi\n\nオンラインでの交流\nArduinoファ
 ンというFacebookグループも運営していますのでもくも
 く会の参加有無に関わらず興味のあるかたはご参加下
 さい。\nhttps://www.facebook.com/groups/arduinofun/
LOCATION:Yahoo! LODGE 東京都千代田区紀尾井町1-3 17F
URL:https://techplay.jp/event/630409?utm_medium=referral&utm_source=ics&utm
 _campaign=ics
END:VEVENT
END:VCALENDAR
