BEGIN:VCALENDAR
VERSION:2.0
PRODID:-//https://techplay.jp//JP
CALSCALE:GREGORIAN
METHOD:PUBLISH
X-WR-CALDESC:第10回コーダー道場札幌東 開催！
X-WR-CALNAME:第10回コーダー道場札幌東 開催！
X-WR-TIMEZONE:Asia/Tokyo
BEGIN:VTIMEZONE
TZID:Asia/Tokyo
BEGIN:STANDARD
DTSTART:19700101T000000
TZOFFSETFROM:+0900
TZOFFSETTO:+0900
TZNAME:JST
END:STANDARD
END:VTIMEZONE
BEGIN:VEVENT
UID:630440@techplay.jp
SUMMARY:第10回コーダー道場札幌東 開催！
DTSTART;TZID=Asia/Tokyo:20170819T100000
DTEND;TZID=Asia/Tokyo:20170819T120000
DTSTAMP:20260423T073823Z
CREATED:20170808T020327Z
DESCRIPTION:イベント詳細はこちら\nhttps://techplay.jp/event/63044
 0?utm_medium=referral&utm_source=ics&utm_campaign=ics\n\n 第10回 CoderD
 ojo札幌東を開催します!\n＜参加は無料です＞  Scratchを
 使った自由研究のまとめ方を資料に掲載中\n◇ お申し
 込みは\n1. このページにある『このイベントに申し込
 む』の赤いボタンをクリックしてね。2. クリックした
 らアンケートにも答えてね。\n■ お子さまの学年と、
 ネームプレートに書くなまえ（ひらがな）を入力して
 ね。（ネームプレートはこちらでご用意します）\n  ※
 コンピュータのご経験についてもおしえてくださいね
 。\n■ 兄弟や姉妹で申し込まれる場合は別々に申し込
 んでね。\n■ キャンセルしたいときは「申し込みキャ
 ンセル」ボタンをクリックしてください。\n  ※ほかの
 キャンセル待ちの人のためにも、かならず「申し込み
 キャンセル」ボタンをクリックしてください。\n■ 見
 学を希望される方は、「イベントへのお問い合わせ」
 からお申し込みをお願いします。\n\n\n\n◇ 参加するに
 は\n■ 参加できるのは： 小学生～高校生ぐらいまで（
 みんなからニンジャって呼ばれるよ）\n  ※小学校1年
 生～中学1年生までは、必ず保護者さまの送り迎えをお
 願いします。\n■ 持ちもの：ノートパソコン（WiFi接続
 可能なWindows、Mac、Linux） 家族と共用のパソコンでも大
 丈夫だよ。\n　※iPadなどのタブレットの使用も可能で
 すが、ブラウザでの学習が中心となります。\n　（タ
 ブレットでは「Hour of Code」や「Scratch Jr」を主に使用し
 ます）\n　※PCのタッチパッドに不慣れな場合は、マウ
 スをお持ちください。ACアダプタも忘れずに。\n　※セ
 キュリティの関係上、Windows XPなど、サポートが終了し
 ているOS搭載PCの持ち込みはご遠慮ください。\n■ もし
 パソコンを持ってなくても、貸し出しすることもでき
 るよ。液晶モニタなんかも貸し出せるから、安心して
 相談してみてね。(アンケートに書いてみてね)\n■ い
 ちおう筆記用具も持ってきてね。\n\n\n\n定員：12名程度
  <参加は無料です>\n◇ 開催日時と会場について\n■ 開
 催日時： 2017年8月19(土) 10:00～12:00まで　（開場は 9:50
 です）\n■ 開催場所： イン夕—クロス・クリエイティ
 ブ・センター(ICC)\n                札幌市白石区東札幌5条1
 丁目1－1\n\n　※駐車場：会場には有料駐車場がありま
 すが、台数に限りがございます。\n\n\n\n★ 近隣の商業
 施設には、駐車場もあります。（１時間無料、¥1\,000-
 のお買い物で３時間無料です）\n◇ 保護者さまへ\n■ 
 ニンジャの参加状況に応じて席数に余裕があれば、お
 子様と一緒に参加することができますが、お子様の自
 立心を育む観点から、大変恐縮ですが、会場外のロビ
 ーやフロアなどでお待ちいただきたく存じます。\n\n\n\
 n★ 施設内にはお待ちいただけるスペースがあり、お
 向かいにはカフェもございます。\n会場内の飲食は、
 ペットボトルやお菓子程度のものであれば持ち込みは
 可能です。（食事はできません）\n◇ イベントの概要
 、利用するツールなど\n■ 初めて道場イベントに参加
 するお子さまには\nプログラミングとはどのようなモ
 ノなのかを体験できる「Hour Of Code(アワーオブコード)
 」という教材に取組んでいただきます。 ※ゼロからご
 指導しますので、予習は不要です。\n■ 2回目以降参加
 のお子さまは\n自分でテーマを決めてScratchに取り組ん
 でいただきます。Scratchは、世界中の子どもたちが「作
 品」をアップしています。他の人の作品の中身がどう
 なっているのか調べたり、自分好みに改良したり進化
 させたりもできますよ。動かしたい絵やグラフィック
 があれば持って来てね。紙でも写真でも良いよ。メン
 ターさんがやさしくヒアリングします。\n\n\n\n★ はじ
 めてScratchをご利用されるのお子さまは、こちらのクラ
 スページにご参加ください。
LOCATION:札幌産業振興センター 札幌市白石区東札幌5条1丁
 目1－1
URL:https://techplay.jp/event/630440?utm_medium=referral&utm_source=ics&utm
 _campaign=ics
END:VEVENT
END:VCALENDAR
