BEGIN:VCALENDAR
VERSION:2.0
PRODID:-//https://techplay.jp//JP
CALSCALE:GREGORIAN
METHOD:PUBLISH
X-WR-CALDESC:【緊急開催決定！】AWS・Azureとの違いを知りた
 い方へ。Google Cloud Platform セミナー（金沢）
X-WR-CALNAME:【緊急開催決定！】AWS・Azureとの違いを知りた
 い方へ。Google Cloud Platform セミナー（金沢）
X-WR-TIMEZONE:Asia/Tokyo
BEGIN:VTIMEZONE
TZID:Asia/Tokyo
BEGIN:STANDARD
DTSTART:19700101T000000
TZOFFSETFROM:+0900
TZOFFSETTO:+0900
TZNAME:JST
END:STANDARD
END:VTIMEZONE
BEGIN:VEVENT
UID:630451@techplay.jp
SUMMARY:【緊急開催決定！】AWS・Azureとの違いを知りたい
 方へ。Google Cloud Platform セミナー（金沢）
DTSTART;TZID=Asia/Tokyo:20170824T160000
DTEND;TZID=Asia/Tokyo:20170824T180000
DTSTAMP:20260420T230424Z
CREATED:20170808T020703Z
DESCRIPTION:イベント詳細はこちら\nhttps://techplay.jp/event/63045
 1?utm_medium=referral&utm_source=ics&utm_campaign=ics\n\n2016年11月8日
 、Google Cloud Platformの東京リージョンの開設が発表され
 ました！東京リージョンの開設により、GCPはさらに進
 化を遂げます。導入をご検討中の方、ぜひご参加いた
 だければと思います。\n\n　今回のセミナーでは、今と
 なってはなかなか聞けないGCPのはどんなものなのか、
 という基礎部分を中心に解説をするセミナーとなりま
 す。GCPの概要や、各種サービスの特徴といった基礎部
 分について、デモを交えながら分かりやすく解説しま
 す。\n　クラウドサービスの中からGCPを選択した理由
 、導入にあたってのポイントなどを始めとした導入事
 例紹介を、利用ユーザ様の生の声を中心にお届けいた
 します。\nまた、今回は共催の 株式会社TOKAIコミュニ
 ケーションズより、 クラウド時代に必要とされるネッ
 トワーク設計の考え方について、わかりやすく解説い
 たします。\n自社ビジネスで Google クラウドの活用を考
 えたい方のご参加を心からお待ちしております。\n\n第
 一部：株式会社タスクのご紹介（10分）\n講演者\nただ
 今調整中です。\n講演内容\nただ今調整中です。\n\n第
 二部：Google Cloud Platform のご紹介（70分）\n講演者\nクラ
 ウドエース株式会社 代表取締役 吉積 礼敏\n講演内容\n
 Google のインフラを簡単に利用する事が出来る Google Clou
 d Platform の概要について、用途や特徴などをデモを交
 えながら解説いたします。更に、Compute Engine について
 は、Amazon Web Service や Microsoft Azure との機能の違いにつ
 いても詳細に解説いたします。\n\n第三部：お客様事例
 紹介(20分)\n講演者   クラウドエース株式会社　営業部
 　佐々木杏子\n講演内容\nお客様事例を中心に、Google Cl
 oud Platform の実際の活用方法をご紹介します。\n\n※セ
 ミナー内容は一部変更となる場合がございます。ご了
 承下さい。\n\n対象者’\n・Google Cloud Platform を導入を検
 討されている企業の経営者、役員の方\n・Google Cloud Plat
 form を導入を検討されている企業の、クラウドを取り
 扱うご担当者様\n※Google Cloud Platform の導入を検討され
 ている、エンドユーザ企業の参加者を優先させて頂き
 ますのでご承知ください。\n※また、競合他社企業様
 の本セミナーへのご登録はお断りさせていただいてお
 りますのでご了承ください。
LOCATION:ITビジネスプラザ武蔵 6F 交流室2 石川県金沢市武
 蔵町14番31号
URL:https://techplay.jp/event/630451?utm_medium=referral&utm_source=ics&utm
 _campaign=ics
END:VEVENT
END:VCALENDAR
