BEGIN:VCALENDAR
VERSION:2.0
PRODID:-//https://techplay.jp//JP
CALSCALE:GREGORIAN
METHOD:PUBLISH
X-WR-CALDESC:第20回 Androidもくもく勉強会@Rettyオフィス
X-WR-CALNAME:第20回 Androidもくもく勉強会@Rettyオフィス
X-WR-TIMEZONE:Asia/Tokyo
BEGIN:VTIMEZONE
TZID:Asia/Tokyo
BEGIN:STANDARD
DTSTART:19700101T000000
TZOFFSETFROM:+0900
TZOFFSETTO:+0900
TZNAME:JST
END:STANDARD
END:VTIMEZONE
BEGIN:VEVENT
UID:630458@techplay.jp
SUMMARY:第20回 Androidもくもく勉強会@Rettyオフィス
DTSTART;TZID=Asia/Tokyo:20170823T190000
DTEND;TZID=Asia/Tokyo:20170823T210000
DTSTAMP:20260425T101826Z
CREATED:20170808T040433Z
DESCRIPTION:イベント詳細はこちら\nhttps://techplay.jp/event/63045
 8?utm_medium=referral&utm_source=ics&utm_campaign=ics\n\nRetty麻布十
 番に移転しました！！\n第20回 Androidもくもく勉強会@Ret
 ty を 2017/8/23(水) 19:00 – 21:00 に東京都港区麻布十番の
 「Retty株式会社」にて開催いたします。\nAndroidエンジ
 ニアの方やAndroidアプリを作っている方に向けた定期イ
 ベントで、いつもと雰囲気を変えて作業をしたりする
 場です！ もくもく作業するもよし、勉強するもよし！
 Kotlinも大歓迎です！楽しみながら開発をしましょう！
 初めての方もお久しぶりの方も気軽にご参加下さい！
 ※Android開発者であればどなたでも参加できます。途中
 参加・退出も自由です。 初心者もOKですが、ハンズオ
 ンとかはありませんのでご注意ください。\n【日時】20
 17/8/23(水) 19:00 – 21:00\n【場所】Retty株式会社（東京都
 港区三田1丁目4番1号住友不動産麻布十番ビル3F）\n http:
 //corp.retty.me/\n【参加費】 無料\n【定員】 10名\n【スケ
 ジュール】\n\n19:00 – 19:15　簡単な自己紹介\n19:15 – 21:
 00　もくもく勉強会\n21:00 – 時間があれば簡単な懇親
 会・質問タイム\n\n【その他】\n\nWifi、電源あります\n
 基本的には自分でコードを書く人のための勉強会のた
 め、それ以外のかたのご利用は、目的等、事前連絡く
 ださい\n参加時のコメントで、以下よりお飲み物のリ
 クエストを記載していただくとご用意します٩( 'ω' )و\
 n\npublic enum お飲物 {\n    エナドリ\,\n    ビール\,\n    お
 茶\,\n    ミネラルウォーター\n}\n
LOCATION:Retty株式会社 麻布十番オフィス 東京都港区三田1
 丁目4番1号 (住友不動産麻布十番ビル3F)
URL:https://techplay.jp/event/630458?utm_medium=referral&utm_source=ics&utm
 _campaign=ics
END:VEVENT
END:VCALENDAR
