BEGIN:VCALENDAR
VERSION:2.0
PRODID:-//https://techplay.jp//JP
CALSCALE:GREGORIAN
METHOD:PUBLISH
X-WR-CALDESC:NW X Security JAWS勉強会　#1
X-WR-CALNAME:NW X Security JAWS勉強会　#1
X-WR-TIMEZONE:Asia/Tokyo
BEGIN:VTIMEZONE
TZID:Asia/Tokyo
BEGIN:STANDARD
DTSTART:19700101T000000
TZOFFSETFROM:+0900
TZOFFSETTO:+0900
TZNAME:JST
END:STANDARD
END:VTIMEZONE
BEGIN:VEVENT
UID:630538@techplay.jp
SUMMARY:NW X Security JAWS勉強会　#1
DTSTART;TZID=Asia/Tokyo:20170901T183000
DTEND;TZID=Asia/Tokyo:20170901T220000
DTSTAMP:20260420T155051Z
CREATED:20170808T160439Z
DESCRIPTION:イベント詳細はこちら\nhttps://techplay.jp/event/63053
 8?utm_medium=referral&utm_source=ics&utm_campaign=ics\n\nNW-JAWSとSecuri
 ty-JAWSの　合　同　開　催　!!\n合同開催のコンセプト\n
 NWとSecurityがコラボするにあたって、OSI7階層モデルの
 レイヤー構成に準えて、各種レイヤーごとのセッショ
 ンを用意しました。ぜひ学んで、体験してもらって、
 持ち帰ってもらえると運営側として幸いです。\nNW-JAWS
 とは?\nありそうでなかったハイブリッドクラウドやネ
 ットワークエンジニアの為のUG！\nこのような方々を対
 象としています。\n\n\nAWSと接続しているデータセンタ
 ーさん\n\n\nネットワーク機器ベンダーさん\n\n\nエンタ
 ープライズ系ネットワークエンジニアさん\n\n\nこれか
 らAWSに取り組む中で、ネットワークに悩みを抱えてい
 るエンジニアさん\n\n\nネットワークに関わる方々であ
 れば、ぜひとも参加頂きたいUGです\nSecurity-JAWSとは?\nAW
 Sを活用する上でセキュリティは重要な要素となります
 。攻撃系・監査系・暗号化認証系など、様々な分野の
 スペシャリスト達が、どのようにしてAWSを活用してい
 るのか情報を共有し、より一層AWSを安全に使えるよう
 にしていく為のコミュニティです。\nhttps://s-jaws.doorkeep
 er.jp/\nハンズオンあります\n勉強会最後のセッションは
 ハンズオンです。\n勉強会にTシャツでお越し頂ける方
 で、前に出てハンズオンに参加いただけます方は、セ
 ッションの前に確認させていただきますので、その旨
 、申し出てください。\nただし、挙手制となり、皆様
 に体験頂ける訳ではございません。ハンズオンへのご
 参加は自己責任にてお願いいたします。体を動かしま
 す。きっと。運営側も読めないハンズオンです。\n懇
 親会について\n当日の受付時に確認させて頂きます。\n
 場所や予算は当日のご連絡といたします。\nアジェン
 ダ\n\n\n\n時間\n登壇者\nタイトル\n\n\n\n\n18:30\n開場\n\n\n\n
 18:55～19:00\nNW X Security-JAWS 運営メンバー\n前説\n\n\n19:00
 ～19:25\nエクイニクス・ジャパン　グローバル・ソリュ
 ーション・アーキテクト　内田 武志さん\nL1&L2 日本一A
 WSに近い場所。独自に進化を遂げたエクイニクス・ジ
 ャパンの現状（仮）\n\n\n19:25～19:50\nアマゾンウェブサ
 ービスジャパン　荒木 靖宏さん\nL3&L4　AWSにおけるIPv6
 対応状況\n\n\n19:50～20:00\n休憩\n\n\n\n20:00～20:25\nアマゾ
 ンウェブサービスジャパン　桐山 隼人さん\nL5&L6&L7　AW
 S WAF の話とSecurity Automation の紹介\n\n\n20:25～20:50\n東京
 海上日動火災保険 上田 哲也さん\nL7+：AWSユーザー向け
 サイバーリスク保険の概要および活用方法\n\n\n20:50～21
 :00\n休憩\n\n\n\n21:00～21:25\nWorks Mobile Japan 伊藤 成幸さん\
 nL0：絶対に覚えておきたい物理的標的型攻撃対策１０
 ＋３のコツ\n\n\n21:30\n撤収\n懇親会へGO!\n\n\n
LOCATION:トレンドマイクロ株式会社 東京都渋谷区代々木
 ２丁目１−１( 新宿マインズタワーオフィス棟 12F)
URL:https://techplay.jp/event/630538?utm_medium=referral&utm_source=ics&utm
 _campaign=ics
END:VEVENT
END:VCALENDAR
