BEGIN:VCALENDAR
VERSION:2.0
PRODID:-//https://techplay.jp//JP
CALSCALE:GREGORIAN
METHOD:PUBLISH
X-WR-CALDESC:熊ゆに 第８回 Unityもくもく会
X-WR-CALNAME:熊ゆに 第８回 Unityもくもく会
X-WR-TIMEZONE:Asia/Tokyo
BEGIN:VTIMEZONE
TZID:Asia/Tokyo
BEGIN:STANDARD
DTSTART:19700101T000000
TZOFFSETFROM:+0900
TZOFFSETTO:+0900
TZNAME:JST
END:STANDARD
END:VTIMEZONE
BEGIN:VEVENT
UID:630667@techplay.jp
SUMMARY:熊ゆに 第８回 Unityもくもく会
DTSTART;TZID=Asia/Tokyo:20170823T190000
DTEND;TZID=Asia/Tokyo:20170823T210000
DTSTAMP:20260425T023707Z
CREATED:20170809T160319Z
DESCRIPTION:イベント詳細はこちら\nhttps://techplay.jp/event/63066
 7?utm_medium=referral&utm_source=ics&utm_campaign=ics\n\n第８回を開
 催します\nUnityでゲームを作るもくもく会です！ゆるく
 やっています。\n熊ゆにでは以下のような活動を行っ
 ています。\n\nもくもく会（みんなで集まって思い思い
 の作業を行いUnityを使ったゲーム制作法を身につける
 ）\nGame A Weekをやってみる（一週間でゲームを作ってみ
 る）\nいろいろ報告会（作ってるプロジェクトのこと
 やアセットのことなど情報交換）\nUnityチュートリアル
 をやってみる\n\nなどです。\nタイムスケジュール\n19:00
 ~19:10　報告（進捗や今日の目標などあれば）\n19:10~20:50
 　もくもく会\n20:45~21:00　報告（報告することがあれば
 ）\n企画、スクリプティング、デザイン、ガジェット
 をいじるなど何でもOKです。\nUnityやってる、やってみ
 たい方はお気軽にご参加ください！\n対象者\nUnityやっ
 てる、やってみたい方（経験は問いません）\nゲーム
 制作に興味のある、社会人、学生（高校生は時間が遅
 いので事前に保護者の同意を得てください）\n必要な
 もの\nUnityを動かすPCは各自ご持参ください。\n会場協
 力\n未来会議室\n下通の未来会議室で開催します。\nSlac
 k\nSlackを使って連絡をとっています。\nSlackへの参加方
 法はもくもく会当日にお知らせします。
LOCATION:未来会議室 熊本県熊本市 中央区下通１丁目１２
 −２７
URL:https://techplay.jp/event/630667?utm_medium=referral&utm_source=ics&utm
 _campaign=ics
END:VEVENT
END:VCALENDAR
