BEGIN:VCALENDAR
VERSION:2.0
PRODID:-//https://techplay.jp//JP
CALSCALE:GREGORIAN
METHOD:PUBLISH
X-WR-CALDESC:Eureka English Evening
X-WR-CALNAME:Eureka English Evening
X-WR-TIMEZONE:Asia/Tokyo
BEGIN:VTIMEZONE
TZID:Asia/Tokyo
BEGIN:STANDARD
DTSTART:19700101T000000
TZOFFSETFROM:+0900
TZOFFSETTO:+0900
TZNAME:JST
END:STANDARD
END:VTIMEZONE
BEGIN:VEVENT
UID:630694@techplay.jp
SUMMARY:Eureka English Evening
DTSTART;TZID=Asia/Tokyo:20170824T190000
DTEND;TZID=Asia/Tokyo:20170824T213000
DTSTAMP:20260419T204306Z
CREATED:20170810T020332Z
DESCRIPTION:イベント詳細はこちら\nhttps://techplay.jp/event/63069
 4?utm_medium=referral&utm_source=ics&utm_campaign=ics\n\n今回のテー
 マ\nAt Eureka English Evening\, you’ll learn about technology-related 
 English from two instructors: James (an English engineer living in Japan 
 for 5 years) and Jun (a Japanese engineer fluent in English). We’ll hel
 p you improve your communication skills with foreign engineers\, and netw
 ork with people from other companies who are also studying English.\nEure
 ka English Eveningと称して、技術英語のワークショップを
 開催します！講師は日本に５年間住んでいるイギリス
 人のジェームズと同僚の坂田が行います。\nこのワー
 クショップでは、外国人とのコミュニケーションスキ
 ル向上と英語を勉強している人たちどうしの交流を目
 的にしています。\n概要\nThis time\, we’ll be teaching you abo
 ut doing code review in English. This includes learning some useful words
  and grammar and practicing in groups on some real code. We’ll also inc
 lude a conversation practice activity.\nWhen you apply\, please evaluate 
 your English level on the questionnaire. We'll make groups based on level
 \, so you don't have to feel uncomfortable even if you're a beginner!\n
 今回、第１回目のトピックは英語でのコードレビュー
 です。単語や文法を学び、実際にグループでのコード
 レビューを行います。また実際に口頭でのコミュニケ
 ーション練習も行います。\n※ 事前アンケートでの回
 答を元にグループ分けするので、自信の有無にかかわ
 らず興味のある方はご参加ください。\n「Pairs」につい
 て\nエウレカが開発・運営するオンライン・デーティ
 ングサービスの「Pairs」は、日本と台湾で合計500万人
 以上が利用しています。Facebookの登録情報を活用して
 いるので匿名性・機密性が高く、24時間365日テキスト
 ・画像の投稿監視により、安心・安全に利用すること
 ができます。マッチング数は、累計3200万組以上。今年
 は、新たに韓国・香港・シンガポールへの展開を予定
 しており、日本とアジアにおいて、オンラインデーテ
 ィングサービスを活用したパートナー探しのカルチャ
 ー作りに取り組んでいます。\nタイムスケジュール\n\n1
 9:00 - 開場＆受付開始\n19:30 - 単語・文法・フレーズを
 紹介して、練習\n19:50 - グループで英語のコードレビュ
 ー練習\n20:20 - 休憩\n20:30 - 会話練習アクティビティー\n
 21:00 - 懇親会\n\nファシリテーター紹介\nJames Neve（eureka\
 , Inc.）\n\nプロフィール\n株式会社エウレカ CTO管轄SREチ
 ームプリンシパルエンジニア。エウレカで主に機械学
 習をやっています。\nケンブリッジ大学でコンピュー
 ターサイエンスを専攻し、鳥取県で日本語を勉強しま
 した。東京で３年ぐらい働いています。\n得意なのは
 アーキテクチャ、画像処理、関数型開発です。\n坂田
 純（eureka\, Inc.）\n\nプロフィール\n2014年国際基督教大
 学卒業後、Webメディアの開発に携わった後にインフラ
 エンジニアに転向、自社サービスや社内ネットワーク
 の構築・運用に携わる。2017年4月株式会社エウレカのSR
 Eチームにジョイン。主にPairsのインフラを全般的に担
 当。好きなコマンドはtcpdump。\nサポートしている社員\
 n英語が得意エウレカの社員は初心者と中級グループに
 入って、みんなを手伝えます。\nJohn Estropia @JohnEstropia \
 , 恩田 拓也 @takuya_onda_3 \, 森川 拓磨 @tmorikawa\n開催概要
 及び会場\n\n場所：株式会社エウレカ セミナースペー
 ス\n住所：東京都港区南青山2-27-25 ヒューリック南青山
 ビル 5F　（旧ビル名は、オリックス南青山ビル）\n地
 図：About us – eureka\, Inc.\n費用：無料\n飲食：ビール・
 ピザや寿司などをご用意します\n備考：途中退出も可
 能です\n\n注意事項\n\n参加者は受付で参加チェックを
 する際に名刺を2枚ご提供ください。 ※名刺を忘れた
 場合はフルネームと所属先（会社名など）の記名、身
 分証明書の提示が必ず必要です。\n旧ビル名はオリッ
 クス南青山ビルです。ビル看板などは旧ビル名になっ
 ております。1階の成城石井が目印です。\n21時にはビ
 ル正面玄関の自動ドアが反応しなくなりますので、遅
 くともそれまでには会場へお越しください。\n未成年
 ならびに車などを運転される予定の方への酒類の提供
 はいたしません。\nイベントの様子を写真撮影し、SNS
 等に公開を予定していますので問題ある方はカメラマ
 ンにお申し付けください。\n個人的な撮影をされる方
 もご配慮願います。\nより多くの方へご参加いただき
 たいと考えています。今回当日都合が悪くなって来れ
 ないことが分かった方は、お手数ですが速やかにキャ
 ンセル処理をお願いします。\n
LOCATION:eureka\, Inc. 東京都港区南青山2-27-25 (ヒューリック
 南青山ビル5F)
URL:https://techplay.jp/event/630694?utm_medium=referral&utm_source=ics&utm
 _campaign=ics
END:VEVENT
END:VCALENDAR
