BEGIN:VCALENDAR
VERSION:2.0
PRODID:-//https://techplay.jp//JP
CALSCALE:GREGORIAN
METHOD:PUBLISH
X-WR-CALDESC:募集開始！第3回ノンプログラミングPaaS「Mendix
 」無料ハンズオン
X-WR-CALNAME:募集開始！第3回ノンプログラミングPaaS「Mendix
 」無料ハンズオン
X-WR-TIMEZONE:Asia/Tokyo
BEGIN:VTIMEZONE
TZID:Asia/Tokyo
BEGIN:STANDARD
DTSTART:19700101T000000
TZOFFSETFROM:+0900
TZOFFSETTO:+0900
TZNAME:JST
END:STANDARD
END:VTIMEZONE
BEGIN:VEVENT
UID:630718@techplay.jp
SUMMARY:募集開始！第3回ノンプログラミングPaaS「Mendix」
 無料ハンズオン
DTSTART;TZID=Asia/Tokyo:20170915T143000
DTEND;TZID=Asia/Tokyo:20170915T173000
DTSTAMP:20260422T092419Z
CREATED:20170810T051721Z
DESCRIPTION:イベント詳細はこちら\nhttps://techplay.jp/event/63071
 8?utm_medium=referral&utm_source=ics&utm_campaign=ics\n\nMendixとは\n\n
 これまではカスタマイズやスクラッチ開発でなければ
 対応できなかった複雑な画面や帳票つくり、最新の技
 術を習得しなければ始められなかったIoTやコグニティ
 ブ、スマートデバイス対応などが簡単につくれるアプ
 リ開発型プラットフォームです。 https://mendix.buildsystem.
 jp/ ガートナーの2017年版マジッククアドラントで「ハ
 イプロダクティビティPaaS」、「モバイルアプリケーシ
 ョン開発PaaS」の2部門でリーダーの評価を得た米Mendix
 が提供するaPaaSです。\n\nハンズオンでは\n\nPC上のMendix 
 Modelerの中でモデルを定義することでシンプルなアプリ
 ケーションをつくります。 用意したPCで実際に動くも
 のをつくりながら不明点をその場で解決しながら完成
 させます。\n\nこんな人におすすめ\n\n・アプリケーシ
 ョンを高速でつくりたい\n・システム開発を内製化し
 たい\n・PaaSを使ってみたい\n・スクラム開発をスムー
 ズにすすめたい\n\n参加者のみなさまへ\n\n事前にMendix
 のIDを取得して頂く必要があります。 取得方法などに
 ついては参加申し込み後に事務局から連絡させて頂き
 ますので2日以内に事務局あてにご返信ください。\n
LOCATION:ビジネスセンター四谷 新宿区四谷1-8-14 四谷1丁目
 ビル6F
URL:https://techplay.jp/event/630718?utm_medium=referral&utm_source=ics&utm
 _campaign=ics
END:VEVENT
END:VCALENDAR
