BEGIN:VCALENDAR
VERSION:2.0
PRODID:-//https://techplay.jp//JP
CALSCALE:GREGORIAN
METHOD:PUBLISH
X-WR-CALDESC:渋谷.rb[:20170816]
X-WR-CALNAME:渋谷.rb[:20170816]
X-WR-TIMEZONE:Asia/Tokyo
BEGIN:VTIMEZONE
TZID:Asia/Tokyo
BEGIN:STANDARD
DTSTART:19700101T000000
TZOFFSETFROM:+0900
TZOFFSETTO:+0900
TZNAME:JST
END:STANDARD
END:VTIMEZONE
BEGIN:VEVENT
UID:630731@techplay.jp
SUMMARY:渋谷.rb[:20170816]
DTSTART;TZID=Asia/Tokyo:20170816T193000
DTEND;TZID=Asia/Tokyo:20170816T213000
DTSTAMP:20260425T105759Z
CREATED:20170810T060758Z
DESCRIPTION:イベント詳細はこちら\nhttps://techplay.jp/event/63073
 1?utm_medium=referral&utm_source=ics&utm_campaign=ics\n\nShibuya.rbは、
 渋谷近郊のRubyが好きだったり、 \nRubyの周辺技術が気
 になっている人のための地域Rubyistコミュニティです\n\
 n内容\n\n決まったテーマやセッションは特にありませ
 ん\n\n\nLT希望者がいれば発表してもらい、それ以外は
 自由です。\n参加者それぞれが気になっているテーマ
 でディスカッションできたら面白いかなと考えていま
 す\n最近気になっているgemや、ソースコードリーディ
 ングしたいgem、るびま記事で気になった部分などをお
 持ちいただくと良いかもしれません :)\n突発LTは大歓迎
 ですが、事前にお知らせ頂けると助かります\n「こう
 いうのやりたい」や「こういう風にやろうよ」など、\
 nぜひネタやご意見をお持ちください\n\n\nご意見があり
 ましたらコメントお願いします\n\n会場について\n\n\n飲
 食は程々にお願いします。\nゴミはお持ち帰りくださ
 い。\nプロジェクタの入力はHDMIまたはMiniDisplayPortのみ
 になります。\n20時を回ると入館が面倒になるので出来
 る限り時間通りお集まりください。\n\n\n注意事項\n\n\n
 名札をお持ちの方は是非ご持参ください\n写真の撮影
 、録音録画は基本的に禁止しておりませんが、人物を
 含む撮影する場合は必ず被写体となる方へ事前に許可
 をお取り下さい\n被写体の肖像権等に関するトラブル
 について、Shibuya.rb は一切関知いたしません。当事者
 同士での解決をお願いします\nDoorkeeper有料化に伴い、
 参加費を徴収させていただくようにしましたが強制は
 しません\n初参加の方と学生の方は無料です\n\n\nその
 他\n\ntwitterハッシュタグ：#shibuyarb\nfacebookグループ：htt
 ps://www.facebook.com/groups/shibuya.rb/\ngoogleグループ：https://gr
 oups.google.com/group/shibuya_rb?hl=ja
LOCATION:ピクスタ株式会社 東京都渋谷区渋谷2-12-19 東建イ
 ンターナショナルビル本館 5F
URL:https://techplay.jp/event/630731?utm_medium=referral&utm_source=ics&utm
 _campaign=ics
END:VEVENT
END:VCALENDAR
