BEGIN:VCALENDAR
VERSION:2.0
PRODID:-//https://techplay.jp//JP
CALSCALE:GREGORIAN
METHOD:PUBLISH
X-WR-CALDESC:#Perl鍋 #20
X-WR-CALNAME:#Perl鍋 #20
X-WR-TIMEZONE:Asia/Tokyo
BEGIN:VTIMEZONE
TZID:Asia/Tokyo
BEGIN:STANDARD
DTSTART:19700101T000000
TZOFFSETFROM:+0900
TZOFFSETTO:+0900
TZNAME:JST
END:STANDARD
END:VTIMEZONE
BEGIN:VEVENT
UID:630741@techplay.jp
SUMMARY:#Perl鍋 #20
DTSTART;TZID=Asia/Tokyo:20170817T193000
DTEND;TZID=Asia/Tokyo:20170817T213000
DTSTAMP:20260425T144808Z
CREATED:20170810T080344Z
DESCRIPTION:イベント詳細はこちら\nhttps://techplay.jp/event/63074
 1?utm_medium=referral&utm_source=ics&utm_campaign=ics\n\n※画像はイ
 メージです。\n内容\nPerlで何か作る勉強会です。\nお題
 （ネタ）は各自で用意してきてください。\n特にネタ
 がない方は「CPANモジュールガイド」からモジュールを
 選んで、何か動くものを作ってみましょう。\n最後に1
 人あたり3分程度で、成果を発表しましょう。\n参加お
 申し込みについて\n参加時はハンドルで構いませんが
 、会場に入場する際に「お名前」および「電話番号ま
 たは会社（学校）名」を記入していただきます。\n記
 入された個人情報は会場のナレッジサロンを使用する
 際に必要になりますので、ご協力のほどよろしくお願
 いいたします。\n\nプライバシーポリシー - KNOWLEDGE CAPIT
 AL｜ナレッジキャピタル\n\n会場\nプロジェクトルームB\
 n禁止事項\n会場は会員制のサロンのため、飲食物の持
 ち込みは出来ません。ご協力をお願いいたします。\n
 会場にバーカウンターがございますので、ドリンクな
 どはこちらでご購入ください。
LOCATION:ナレッジサロン 大阪府大阪市北区大深町3−1 グ
 ランフロント大阪北館7F
URL:https://techplay.jp/event/630741?utm_medium=referral&utm_source=ics&utm
 _campaign=ics
END:VEVENT
END:VCALENDAR
