BEGIN:VCALENDAR
VERSION:2.0
PRODID:-//https://techplay.jp//JP
CALSCALE:GREGORIAN
METHOD:PUBLISH
X-WR-CALDESC:第68回 WordBench神戸（8月19日）
X-WR-CALNAME:第68回 WordBench神戸（8月19日）
X-WR-TIMEZONE:Asia/Tokyo
BEGIN:VTIMEZONE
TZID:Asia/Tokyo
BEGIN:STANDARD
DTSTART:19700101T000000
TZOFFSETFROM:+0900
TZOFFSETTO:+0900
TZNAME:JST
END:STANDARD
END:VTIMEZONE
BEGIN:VEVENT
UID:630744@techplay.jp
SUMMARY:第68回 WordBench神戸（8月19日）
DTSTART;TZID=Asia/Tokyo:20170819T140000
DTEND;TZID=Asia/Tokyo:20170819T170000
DTSTAMP:20260425T225140Z
CREATED:20170810T080350Z
DESCRIPTION:イベント詳細はこちら\nhttps://techplay.jp/event/63074
 4?utm_medium=referral&utm_source=ics&utm_campaign=ics\n\n2017年8月19日
 （土）14:00～17:00、WordBench神戸主催のWordPressの勉強会を
 開催いたします。\nWordBench神戸とは？\nWordPressの勉強会
 を毎月行なっている、神戸の地域コミュニティです。\
 n毎月の開催告知などの最新情報はコチラから：\nhttp://
 wordbench.org/groups/kobe/\n「こんな事して欲しい！」などの
 ご要望はコチラから：\nhttp://www.facebook.com/groups/wbkobe/\n
 過去の開催情報はコチラから：\nhttp://wbkobe.net/?cat=11\n
 参加条件と持物について\n参加条件はWordPressに興味を
 お持ちの方です^^\n初めての参加の方、制作者に限らず
 ユーザも大歓迎です！　\n時間と内容について\n開場：
 13:50\n開始：14:00\n本編終了：17:00\n自己紹介（15分）\n名
 前（ハンドルネームでもOK)\n職業\nWordPress歴\n①夏休み
 の寺子屋\n夏休み期間なのど緩い感じでいきます。\nい
 つもやっている何でも質問OKの寺子屋をしますが、基
 本的にはもくもく会となります。\n特記事項、注意点\n
 喫煙は決められた場所でお願いします。\n名刺がある
 と捗るかもしれませんね！\n勉強会内容は予告なく変
 更することがあります。\n毎回補欠者が出ますので、
 予定の変更があってキャンセルされる方は早めにキャ
 ンセル処理もしくは連絡をお願い致します。\n会場に
 迷惑がかかりますので、開場時間を必ず守って下さい
 。\n皆様の参加をお待ちしております!!!
LOCATION:DEP. 神戸市中央区三宮町3-1-16 三星ビル4F南室
URL:https://techplay.jp/event/630744?utm_medium=referral&utm_source=ics&utm
 _campaign=ics
END:VEVENT
END:VCALENDAR
