BEGIN:VCALENDAR
VERSION:2.0
PRODID:-//https://techplay.jp//JP
CALSCALE:GREGORIAN
METHOD:PUBLISH
X-WR-CALDESC:プログラミングスクール コプリ Swift Playgrounds
 無料体験授業【東明ビル・8/23（水）・小学１年生〜中
 学生】
X-WR-CALNAME:プログラミングスクール コプリ Swift Playgrounds
 無料体験授業【東明ビル・8/23（水）・小学１年生〜中
 学生】
X-WR-TIMEZONE:Asia/Tokyo
BEGIN:VTIMEZONE
TZID:Asia/Tokyo
BEGIN:STANDARD
DTSTART:19700101T000000
TZOFFSETFROM:+0900
TZOFFSETTO:+0900
TZNAME:JST
END:STANDARD
END:VTIMEZONE
BEGIN:VEVENT
UID:631197@techplay.jp
SUMMARY:プログラミングスクール コプリ Swift Playgrounds無料
 体験授業【東明ビル・8/23（水）・小学１年生〜中学生
 】
DTSTART;TZID=Asia/Tokyo:20170823T100000
DTEND;TZID=Asia/Tokyo:20170823T163000
DTSTAMP:20260421T053321Z
CREATED:20170817T020413Z
DESCRIPTION:イベント詳細はこちら\nhttps://techplay.jp/event/63119
 7?utm_medium=referral&utm_source=ics&utm_campaign=ics\n\nドローンを
 飛ばそう！アプリを作ろう！Swift Playgroundsコース／Swift
 コース無料体験授業\n\nプログラミングスクール コプ
 リ（PCN大阪）では、Appleの『Swift Playgrounds』と『Xcode』
 上でSwiftを学ぶ２つの新たなコースを、この夏から開
 始します。このコースへ通うことを検討して頂くため
 、無料体験授業を開催します。是非お気軽にご参加く
 ださい。\n\n体験授業 時間\n3つの実施時間のうち、い
 ずれかの時間にご参加頂きます。参加人数により調整
 しご連絡いたします。\n参加できない時間帯があれば
 、お申し込みフォームの質問・連絡欄にてお知らせく
 ださい。\n\n\n10:30〜\n13:00〜\n15:00〜\n\n\nSwift Playgroundsコ
 ース\n\n対象年齢 ：小学１年生〜中学生\n持ち物　：機
 材はお貸します。飲み物などは各自ご用意ください。\
 n内容\niPadでSwift Playgroundsを操作し、プログラミングし
 ましょう。\n\n\nキャラクターの動作をプログラミング
 して、画面上で宝石を集める簡単なパズルに挑戦しよ
 う\nドローンをコントロールして、自分でプログラム
 した通りに飛ばそう（ドローンは交代で使います）\n\n
 \nSwiftコース\n対象年齢 ：小学４年生〜中学生\n持ち物
 　：機材はお貸します。飲み物などは各自ご用意くだ
 さい。\n内容\nMacで、プロのアプリ開発者と同じXcodeと
 いうソフトを操作し、Swiftを使ってアプリ開発に挑戦
 しましょう。\n\nPCN大阪のプログラミングスクール「コ
 プリ」\n\n現在募集中のクラス\n\n\nSwift Playgroundsコース
 （毎月２回、土日または平日夕方）\nSwiftコース（毎月
 ２回、土日または平日夕方）\n\n\n※ 少人数制（１クラ
 ス４名）のため、募集人数には限りがあります。体験
 授業に参加された方でも、希望のコースに空きがない
 場合があります。ご了承ください。\n※ 開始時期と開
 催曜日／時間は仮申し込みの状況に応じて順次決定し
 ます。
LOCATION:東明ビル 会議室 大阪府大阪市中央区北久宝寺町4
 丁目2-10
URL:https://techplay.jp/event/631197?utm_medium=referral&utm_source=ics&utm
 _campaign=ics
END:VEVENT
END:VCALENDAR
