BEGIN:VCALENDAR
VERSION:2.0
PRODID:-//https://techplay.jp//JP
CALSCALE:GREGORIAN
METHOD:PUBLISH
X-WR-CALDESC:機械学習勉強会＠渋谷 #0
X-WR-CALNAME:機械学習勉強会＠渋谷 #0
X-WR-TIMEZONE:Asia/Tokyo
BEGIN:VTIMEZONE
TZID:Asia/Tokyo
BEGIN:STANDARD
DTSTART:19700101T000000
TZOFFSETFROM:+0900
TZOFFSETTO:+0900
TZNAME:JST
END:STANDARD
END:VTIMEZONE
BEGIN:VEVENT
UID:631522@techplay.jp
SUMMARY:機械学習勉強会＠渋谷 #0
DTSTART;TZID=Asia/Tokyo:20170822T203000
DTEND;TZID=Asia/Tokyo:20170822T223000
DTSTAMP:20260423T004052Z
CREATED:20170820T100338Z
DESCRIPTION:イベント詳細はこちら\nhttps://techplay.jp/event/63152
 2?utm_medium=referral&utm_source=ics&utm_campaign=ics\n\n概要\n機械
 学習勉強会＠渋谷 shmlは、機械学習の勉強会です。\n前
 回までは数回にわたって、Pythonではじめる機械学習―
 ―scikit-learnで学ぶ特徴量エンジニアリングと機械学習
 の基礎 を読み進めてきましたが、\n今回・次回はpython
 とscikit-learnを使って実際に分析や実装を行う実習を行
 います。\n各人あるいは共同で、実行環境を整備し、
 データを集め、前処理をして、scikit-learn等を使って、
 上記の本にあるテクニックを応用してみる実習をする
 予定です。詳細は参加者で相談しながら決めていきま
 す。\n参加について\n今まで友人や同僚などのみに声を
 かけていましたが、今後すこしずつ拡大していくため
 、ネットでも募集することにしました。\nはじめての
 方もぜひご参加ください。\n参加費用について\n参加費
 用を仮に700円としてありますが、貸し会議室等の費用
 を人数で割った金額になる予定です。\n参加人数によ
 って変動しますが、700円以下になる予定です。
LOCATION:ダイネス壱番館渋谷 904号室 〒150-0041 東京都渋谷
 区神南１丁目１１(ダイネス壱番館渋谷 904号室)
URL:https://techplay.jp/event/631522?utm_medium=referral&utm_source=ics&utm
 _campaign=ics
END:VEVENT
END:VCALENDAR
