BEGIN:VCALENDAR
VERSION:2.0
PRODID:-//https://techplay.jp//JP
CALSCALE:GREGORIAN
METHOD:PUBLISH
X-WR-CALDESC:アジャイルウェア・ドリンクアップ at RubyKaigi 
 2017
X-WR-CALNAME:アジャイルウェア・ドリンクアップ at RubyKaigi 
 2017
X-WR-TIMEZONE:Asia/Tokyo
BEGIN:VTIMEZONE
TZID:Asia/Tokyo
BEGIN:STANDARD
DTSTART:19700101T000000
TZOFFSETFROM:+0900
TZOFFSETTO:+0900
TZNAME:JST
END:STANDARD
END:VTIMEZONE
BEGIN:VEVENT
UID:631864@techplay.jp
SUMMARY:アジャイルウェア・ドリンクアップ at RubyKaigi 2017
DTSTART;TZID=Asia/Tokyo:20170919T190000
DTEND;TZID=Asia/Tokyo:20170919T213000
DTSTAMP:20260420T101424Z
CREATED:20170823T040621Z
DESCRIPTION:イベント詳細はこちら\nhttps://techplay.jp/event/63186
 4?utm_medium=referral&utm_source=ics&utm_campaign=ics\n\nドリンクア
 ップ at RubyKaigi 2017\n飲み放題に、広島お好み焼き！\nア
 ジャイルウェアが、今年もドリンクアップを開催しま
 す。\nもちろん飲み放題でパスタやピザなどの他に、
 広島名物！お好み焼きもご用意致します！\nお席に限
 りはございますが、 RubyKaigi本編の後、大いに盛り上が
 りましょう！\nLT（ライトニングトーク）大募集\n今年
 もLTをしてくれる方を大募集（限定５名）します。\nLT
 をしてくれた方にはアマゾンギフト券（1\,000円）をプ
 レゼント。\nテーマは、Rubyに限らずOK！！\nVRやIoTや人
 工知能\, その他最新情報など、面白いテーマなら大歓
 迎！\n皆様のご参加をお待ちしております。\nLT（順不
 同）\nLT1\n【タイトル】mruby で IoT 爆速プロトタイピン
 グ\n【内容】mruby を ESP32 マイコンモジュール上で動作
 するようにした「mruby-esp32」プロジェクトの紹介\n【講
 演】山本 雅也様（KLab株式会社）\nLT2\n【タイトル】Toke
 nization of Japanese Address　日本語住所のトークン化\n【内
 容】Using machine learning to parse Japanese address.　機械学習を
 利用した、日本語住所解析\n【講演】lulalala様\nLT3\n【
 タイトル】On Password Policies\n【内容】パスワードの定期
 変更をしてはいけないという話、また、実際に廃止に
 追い込んだ話\n【講演】梶原 龍様\nLT4\n【タイトル】Red
 mineのdiffをサクッと確認したい\n【内容】Redmineのプラ
 グイン開発をしていると、Redmine本体の変更をざっくり
 追いたいことがありますね。しかし既存のツールでは
 いろいろと不便なこともあります。Redmineに限らず、Rub
 yのコードのdiffをサクッと確認するための便利ツール
 をご紹介いたします。\n【講演】nstb832様\nLT5\n【タイト
 ル】Google Cloud Platformで実現するDMP\n【内容】弊社プロ
 ダクトにおけるデータの蓄積・分析のための基盤構築
 の事例として、Google Cloud Platformを活用した事例につい
 てご紹介します。\n【講演】長澤 修平様（株式会社オ
 プト）\nLT6\n【タイトル】添付ファイルのパスワードは
 別途お送りいたします。\n【内容】これに付き合うの
 がイヤで仕方なかったからどうにかした話。\n【講演
 】毛利 啓太様(株式会社Fusic)\n場所と日時\n【開催日】9
 /19（火）受付19:00〜　開始19:30（受付時からドリンク飲
 めます！）　終了21:30\n【場所】KeMBY's　（ケンビーズ
 ） （〒604-8145 広島県広島市中区大手町２-9-13）\n【食
 べログ】https://tabelog.com/hiroshima/A3401/A340101/34001871/\n【ア
 クセス】広島国際会議場から徒歩7分、広電宇品線袋町
 駅から徒歩1分\n【参加費】無料\n【持ち物】RubyKaigi 2017
  の名札をお持ちください\n二軒目のお知らせ\n「もっ
 と喋りたい！」という方のために、ドリンクアップ終
 了後に二軒目を用意しました。\nお申込みはこちらか
 ら。https://agileware.connpass.com/event/67119/\nアジャイルウェ
 アについて\nアジャイルとRubyによる開発を得意として
 いる、大阪の開発企業です。\n受託開発、プロジェク
 ト管理ツール「Lychee Redmine」、そして議事録作成・共
 有サービス「SIGN」を3つの柱とし、\nお客様と従業員の
 満足度向上に邁進しています。\n一緒に働く仲間を募
 集中！\nアジャイルウェアでは、一緒に働く仲間を募
 集しております。\n正社員はもちろん、契約社員、ア
 ルバイト、在宅勤務など自由な働き方ができます。\n
 ご興味がある方はお気軽にお問い合わせください。\nGr
 een\n\nプロジェクトマネージャー\nRailsプログラマ\nJavaSc
 riptプログラマ\nUIデザイナー\nパッケージソフト営業\n\
 nアジャイルウェア採用ページ\n\nアジャイルウェア採
 用ページ\n\nDrinkup at RubyKaigi 2017\nAgileware Inc. is the sponsor 
 of RubyKaigi 2017's Drinkup.\nThere will be of course all-you-can-drink a
 nd we'll serve pizza\, pasta and the local speciality\, Hiroshima-style o
 konomiyaki.\nLet's have a great time together!\nLightning Talk\nAlso we a
 re looking for people (max. 5) willing to hold a LT (Lightning Talk). Eve
 ry speaker will receive as a present a Amazon Giftcard(1\,000 JPY). The t
 opic of your talk does not have to be related to Ruby. You are very welco
 me to speak about IoT\, Tensorflow\, AI or other latest technology trends
 .\nWe are waiting for your registrations.\nDetails\nDate: 9/19 (Tue) open
  19:00\, start 19:30 (you can drink from 19:00!) finish 21:30\n.\nVenue: 
 KeMBY's (2-9-13\, Otemachi\, Naka-ku Hiroshima-shi\, Hiroshima\, 730-0051
 )\nhttps://tabelog.com/hiroshima/A3401/A340101/34001871/\nAccess: 7 minut
 es walk from International Conference Center Hiroshima\, 5 minutes walk f
 rom Fukuromachi station on Hiroden Ujina Line.\nParticipation fee: None\n
 Please bring your name tag of RubyKaigi2017 with you.\nabout Afterparty\n
 For everyone who wants to continue talking after the Drinkup\, we are now
  offering an afterparty.\nYou can sign up here: https://agileware.connpas
 s.com/event/67119/\nドリンクアップ会場までの道順Directions 
 to the Drinkup's place\n広島国際会議場から出発。\nDeparture f
 rom the Hiroshima International Conference Center.\n\n噴水を右手に
 見ながら、直進します。\nGo straight while seeing the fountain 
 on your right.\n\n噴水を通り過ぎたら、右に曲がります。\
 nAfter passing the fountain\, turn right.\n\n信号に向かって進み
 、「平和大橋西詰」に向かいます。\nWalk towards the traffi
 c lights and then head towards "Heiwa-ohashi Br. West" crossing.\n\n「
 平和大橋西詰」から橋を渡ります。\nThen cross the bridge.\
 n\n橋を越えたら、そのまま直進し、「平和大橋東詰」
 の横断歩道を渡り、さらに直進します。\nWhen you pass the
  bridge\, continue forward and cross the "Heiwa-ohashi Br. West" crossing
  and continue going straight.\n\n「NHK前」を左に曲がります。\
 nWhen you come the the "NHK" crossing\, turn left.\n\n「三菱地所レ
 ジデンス」を左手に見ながら、直進します。\nContinue st
 raight forward\, you should see "Gallery Hiroshima" on your left side.\n\
 n「タイムズ」の看板を右手に見ながら直進します。\nY
 ou will see the "Times Car" sign on your right. Continue straight.\n\nKeM
 BY’s到着！\nYou arrived at KeMBY's cafe!\n
LOCATION:KeMBY's　（ケンビーズ） 広島県広島市中区大手町
 ２-9-13
URL:https://techplay.jp/event/631864?utm_medium=referral&utm_source=ics&utm
 _campaign=ics
END:VEVENT
END:VCALENDAR
