BEGIN:VCALENDAR
VERSION:2.0
PRODID:-//https://techplay.jp//JP
CALSCALE:GREGORIAN
METHOD:PUBLISH
X-WR-CALDESC:DevOps先駆者Mitchell HashimotoとのMeetup
X-WR-CALNAME:DevOps先駆者Mitchell HashimotoとのMeetup
X-WR-TIMEZONE:Asia/Tokyo
BEGIN:VTIMEZONE
TZID:Asia/Tokyo
BEGIN:STANDARD
DTSTART:19700101T000000
TZOFFSETFROM:+0900
TZOFFSETTO:+0900
TZNAME:JST
END:STANDARD
END:VTIMEZONE
BEGIN:VEVENT
UID:633023@techplay.jp
SUMMARY:DevOps先駆者Mitchell HashimotoとのMeetup
DTSTART;TZID=Asia/Tokyo:20170925T193000
DTEND;TZID=Asia/Tokyo:20170925T210000
DTSTAMP:20260420T123729Z
CREATED:20170904T020353Z
DESCRIPTION:イベント詳細はこちら\nhttps://techplay.jp/event/63302
 3?utm_medium=referral&utm_source=ics&utm_campaign=ics\n\nはじめに\n9
 月25日(月)、HashiCorpの創業者兼CTO、Mitchell Hashimotoの来日
 に伴いMeetupを開催します。DevOpsのパイオニア的存在Mitc
 hell HashimotoはVagrantのクリエーターとして知られていま
 すが、Packer、Terraform、Consulの作者でもあります。この
 機会にHashimotoに会いに来ませんか？  \n彼はとても興味
 深い経歴を持ち、スタートアップは12歳の頃、そして10
 代の終わりに大人気DevOpsツールVagrant開発に携わります
 。今シリコンバレーで話題の彼は、今年のForbes誌の注
 目若手No1アントレプレナーに選出されました。下記リ
 ンクをぜひご覧ください。\nhttps://www.forbes.com/pictures/gjj
 h45khmk/mitchell-hashimoto-27/#6e57833a231e  \n日本人の父を持つMi
 tchell Hashimotoは、日本のルーツをシェアする者の1人と
 して、今回日本の皆さんとの交流を心待ちにしていま
 す。みなさんのご参加をぜひお待ちしております！\n
 日時\n2017/9/25（月）19:30 - 21:30 \n受付: 19:00\n会場\nImpact H
 ub Tokyo\n東京都目黒区目黒2-11-3 印刷工場1階\nアクセス
 ：目黒駅から徒歩8分  \n注意\n\n前日・当日のキャンセ
 ルはご遠慮下さい。キャンセルされる場合は、2日前ま
 でに当サイトからキャンセルをお願いします。\n必ず
 受付票と名刺をお持ち下さい。\n\n参加費\n勉強会: 無
 料  \nアジェンダ\n\n\n\n時間\nタイトル\n\n\n\n\n19:00 - 19:30
 \n 受付、ネットワーキング \n\n\n19:30 - 19:35\n 諸説明 \n\n
 \n19:35 - 20:30\n DevOps、HashiCorp 最新動向   DevOpsのパイオニ
 ア的存在Mitchell Hashimotoが、DevOps、HashiCorp 最新動向につ
 いてお話しします。 Mitchell Hashimoto\, Founder & Co-CTO\, Hashi
 Corp\n\n\n20:30 - 21:30\n ネットワーキング \n\n\n\nBlogger枠に
 ついて\n\n当日のイベントの様子を個人もしくは会社ブ
 ログに書いてくださる方を募集します！「Blogger枠」よ
 り、ブログサイトを記載しご応募ください。\nブログ
 を書いた後に、イベント資料一覧よりブログを登録く
 ださい。\n\nその他\n\n開催中の事故・天災・その他の
 事象によってもたらされたすべての不利益に関して、
 当勉強会、および会場提供者はその責任を負いかねま
 す。\n当日の様子のお写真をウェブサイトやSNSで公開
 する可能性があります。予めご了承ください。\n当イ
 ベントでは全ての参加者がこのイベントを楽しめるよ
 う、有志による運営のもと開催しています。そのため
 、以下のような行動を取られた方は、退室いただく場
 合があります。また次回以降の参加をお断りしますの
 でご了承下さい。\n講師および参加者に対して、勉強
 会の妨害と見られる言動や行動\n人材紹介、転職、マ
 ルチ商法、宗教など、本勉強会とは関係のない勧誘\n\n
 \n
LOCATION:Impact Hub Tokyo 東京都目黒区目黒2-11-3 印刷工場1階  
URL:https://techplay.jp/event/633023?utm_medium=referral&utm_source=ics&utm
 _campaign=ics
END:VEVENT
END:VCALENDAR
