BEGIN:VCALENDAR
VERSION:2.0
PRODID:-//https://techplay.jp//JP
CALSCALE:GREGORIAN
METHOD:PUBLISH
X-WR-CALDESC:【完全初心者向け】プログラミングがスキに
 なる！実践型体験会（過去600名以上参加）[無料]
X-WR-CALNAME:【完全初心者向け】プログラミングがスキに
 なる！実践型体験会（過去600名以上参加）[無料]
X-WR-TIMEZONE:Asia/Tokyo
BEGIN:VTIMEZONE
TZID:Asia/Tokyo
BEGIN:STANDARD
DTSTART:19700101T000000
TZOFFSETFROM:+0900
TZOFFSETTO:+0900
TZNAME:JST
END:STANDARD
END:VTIMEZONE
BEGIN:VEVENT
UID:633038@techplay.jp
SUMMARY:【完全初心者向け】プログラミングがスキになる
 ！実践型体験会（過去600名以上参加）[無料]
DTSTART;TZID=Asia/Tokyo:20170819T140000
DTEND;TZID=Asia/Tokyo:20170819T180000
DTSTAMP:20260420T222655Z
CREATED:20170904T040056Z
DESCRIPTION:イベント詳細はこちら\nhttps://techplay.jp/event/63303
 8?utm_medium=referral&utm_source=ics&utm_campaign=ics\n\n■こんなこ
 とやります\n\n\n\n\nJavaもしくはPHPを用いて、簡単な課
 題に取り組んでいただきます。\n誰でもプログラミン
 グを体験できるカリキュラムを用意しておりますので
 、パソコン初心者の方でもご安心ください！\n過去300
 名以上が参加し、満足度84.9%の実践型プログラミング
 体験会です。\n■こんな人におすすめ\n\n\n「プログラ
 ミング」に興味を持ったが、何から始めていいかわか
 らない\n\n\nプログラミングは自分でもできるのか知り
 たい\n\n\nとにかくプログラミングに触れてみたい！\n\n
 \nプログラミングを少し触った後に、フィードバック
 も欲しい\n\n\n■参加すると得られること\n\n\nプログラ
 ミングが自分に合うかどうかわかる\n\n\nプログラミン
 グがどういうものなのかわかる\n\n\nプログラミングの
 学習方法がわかる\n\n\n■開催概要\n当日は10:00にお越し
 ください。\n　※途中帰宅も可能です。\n\n\n\n時間\n実
 施内容\n所要時間\n\n\n\n\n14:00 - 15:00\nGEEK JOB キャンプの
 説明\n60分\n\n\n15:00 - 15:30\nパソコンの設定、課題実施\n6
 0分\n\n\n15:30 - 18:00\n課題実施　（※途中帰宅可）\n150分\
 n\n\n\n14時からはGEEK JOBについての説明をさせていただ
 き、説明会が終わり次第、\n課題に取り組んでいただ
 きます。\n18時まで実施しておりますが、途中で帰宅頂
 いても構いません。\n\n\n場所： \n九段下キャンプ（GEEK
  JOBの学習スペース）\n〒102-0073 東京都千代田区九段北1
 -12-6 守住ビル 5階　※九段下駅 徒歩5分（駅からの道の
 り）\n\n\n参加費： 0円\n\n\n運営： グルーヴ・ギア株式
 会社\n\n\n持ち物： 筆記用具、ノートパソコン1台\n\n\n
 ※ノートパソコンを借りたい場合は、「イベントへの
 お問い合わせ」よりご連絡ください。\n\n\n■GEEK JOB コ
 ース一覧\nGEEK JOBでは、状況に合わせてコースを選択す
 ることができます。\n現在では、転職/就職を目的とし
 たコースと、Webアプリ開発ができるようになるまでを
 ゴールにしたコースの2つをご用意しております。\nGEEK
  JOB サイトURL：https://learn.geekjob.jp\n詳しくは当日の11:00
 より行います、説明会にてお話させていただきます。\
 n転職/就職コース（社会人/大学生） ※完全無料\n\n\n\n
 第二新卒やフリーターを対象に、未経験からでも最短1
 ヶ月でプログラミングを学べ、プログラマーへの転職/
 就職ができるコースです。プログラミングの学習から
 就職支援まですべて無料です。\nここでは、全くの業
 界未経験者が何名もプログラマーへの転職/就職を実現
 しています。\n＜参加した方々＞\n\n美容師\n飲食店店
 長\n営業職\nWebデザイナー\n小学校教師\nフリーター\n\n
 ・・・等々\nWebアプリ学習コース（社会人/大学生）\n\n
 \n\n大学生～社会人を対象に、初心者からでも最短1週
 間～2か月の期間でWebアプリケーションを開発できるよ
 うになるコースです。\nオンライン（チャット）と通
 学（当社学習スペース）での学習により、ご自身の状
 況に合わせた学習ができるので、効率的かつ継続性の
 高いプログラミング学習を行うことができます。\n希
 望すれば、その後の就職支援も可能です。\n＜参加し
 た方々＞\n\nエンジニアと会話ができるようになりたい
 ディレクター\n今後起業を考えている金融業界勤務の
 方\n将来的にフリーランスとして働きたいと考えてい
 る方\nIT業界勤務希望の大学生\n\n・・・等々\n■GEEK JOB
 （九段下キャンプ）の様子\n\n\n\n\n
LOCATION:九段下キャンプ 東京都千代田区九段北1-12-6 (守住
 ビル 5階)
URL:https://techplay.jp/event/633038?utm_medium=referral&utm_source=ics&utm
 _campaign=ics
END:VEVENT
END:VCALENDAR
