BEGIN:VCALENDAR
VERSION:2.0
PRODID:-//https://techplay.jp//JP
CALSCALE:GREGORIAN
METHOD:PUBLISH
X-WR-CALDESC:第2回 Raspberry Pi もくもく会
X-WR-CALNAME:第2回 Raspberry Pi もくもく会
X-WR-TIMEZONE:Asia/Tokyo
BEGIN:VTIMEZONE
TZID:Asia/Tokyo
BEGIN:STANDARD
DTSTART:19700101T000000
TZOFFSETFROM:+0900
TZOFFSETTO:+0900
TZNAME:JST
END:STANDARD
END:VTIMEZONE
BEGIN:VEVENT
UID:635852@techplay.jp
SUMMARY:第2回 Raspberry Pi もくもく会
DTSTART;TZID=Asia/Tokyo:20171021T130000
DTEND;TZID=Asia/Tokyo:20171021T170000
DTSTAMP:20260420T110058Z
CREATED:20171001T120901Z
DESCRIPTION:イベント詳細はこちら\nhttps://techplay.jp/event/63585
 2?utm_medium=referral&utm_source=ics&utm_campaign=ics\n\nイベント概
 要\n基本的にはもくもく会ですので、各自やりたいこ
 とを持参して進めていく感じです。\nまた、Raspberry Pi
 買ったはいいけど、なにをしたらよいか分からない！
 という方のために、ハンズオンもご用意しています。\
 nハンズオンご希望の方は、事前準備が必要ですので、
 最後までご一読ください。\n\n\n前回の様子はこちら\n\n
 \nアンケート\n\n\n対象者\n持参したPCで、Raspberry pi へssh
 もしくはvncで接続できる方を対象としています。\nRaspb
 erry piのwi-fi接続ですが、ディスプレイ等の接続機器を
 こちらで準備しますので、それを使用して会場のWiFiに
 接続していただきます。\nスケジュール\n\n13:00 開場 \n1
 3:15 自己紹介 & Raspberry pi wi-fi接続設定\n13:30 もくもく　
 or ハンズオン開始\n16:30 成果発表（希望者のみ）\n\n持
 ち物\n\nPC\nRaspberry Pi\n電源供給のためのUSBケーブル/ア
 ダプタ\nその他、やりたいものに合わせてお持ちくだ
 さい。\nおやつ（必要な方）\n\nハンズオン内容（希望
 者のみ）\n\nハンズオン希望者は下記ご確認ください。
 \n\n「Raspberry Piで初めての電子工作」\nWebブラウザから
 、Raspberry Pi に接続された LED やブザーを操作します。 
  \n\nRaspberry Pi の GPIOポートを使用して、電子工作を体
 験します。\nPython を使って、部品を動作させるプログ
 ラムを作成します。\nWebブラウザから、Raspberry Pi にア
 クセスする環境を整えます。\n\nハンズオンはテキスト
 をご用意しますので、各自のペースで進めていただい
 てもいいですし、難しそうなので講師付きでやりたい
 ！という場合は、申込時にアンケート形式で聞いてお
 りますので、「講師付きハンズオン」を選択してくだ
 さい。\n参考までに当日使用するテキストを下記にUPし
 ています。  \nハンズオン資料\n※開催までにコードをp
 ython3に修正する予定です。\n※ハンズオンの内容は、GT
 UGGirls第32回GTUGGirls「初めてのRaspberry Pi電子工作」と同
 じ内容になります。\n当日使用する部品は先着12名様ま
 でキットを500円で販売いたします。\n今回使用する分
 だけ揃えたものになります。\nご自分で全て揃えるの
 は大変という方は、申し込み時に「キット購入」を選
 択してください。\n【ハンズオン参加者持ち物】\n\nPC\n
 Raspberry Pi 3（Raspberry Pi 2 + WiFiドングルでも可）\nRaspbian 
 Jessie またはStretch のインストールされたmicroSD\n電源供
 給のためのUSBケーブル/アダプタ\nブレッドボード/ジャ
 ンパー線(オスーメス）6本 /LED 1個 /抵抗 2個 /スイッチ1
 個 / 圧電サウンダ1個 \nキット購入の方は当日お渡しい
 たします!\n\n\n\n会場で借りられるもの\n\n電源\nWi-Fi\n\n
 入場方法\n永和システムマネジメント様に会議室を提
 供していただきました。ありがとうございます!\n\n場
 所 : 〒101‐0041 東京都千代田区神田須田町2-3-1 NBF神田
 須田町ビル7F （1階がファミリーマートのビルです。）
 \n開催日は休日のため、ビル自体が入館制限されてお
 り、関係者でないと入れません ので注意ください。\n\
 n参加者のみなさんは次の段取りに従って入館してくだ
 さい。\n\n13:00 前に同ビル1階のファミリーマートの飲
 食スペースあたりに集合してください。\n入館できる
 人が引率して、まとまって入館します。(12:45/13:00 にお
 迎えにいきます）\n遅参した場合は、ファミリーマー
 トに到着したら 下記連絡先へ連絡してください。別途
 入館を支援します。\n飲食は自由です。自動販売機が
 あります。（ゴミの後始末は各自でお願いします。）\
 n\nご質問\n\n参加希望の方でこれからRasbperry piを購入し
 たいという方や、インストールでつまづいたという方
 はできる限りサポートしますので、遠慮無くご連絡下
 さい。\nその他当勉強会についてご質問ありましたら
 ご連絡ください。\n\n連絡先\n下記どちらかの方法でお
 願いします。\n\nイベントへのお問い合わせ \n@ane45 (twit
 ter) \n\nRaspberry pi もくもく会とは\nRaspberry Piやっている
 人＆やりたい人(初心者/熟練者を問わず)で集まって楽
 しく勉強しましょう！\n\n各自好きなものを作っていい
 し\n参加者同士興味あるテーマで一緒に何か作っても
 いいし\n知っていることをお互い教えあう  \n\nみたい
 な情報共有の場になることを目指しています。\n是非
 気軽にご参加ください。
LOCATION:永和システムマネジメント様 東京都千代田区神
 田須田町2-3-1 (NBF神田須田町ビル7F)
URL:https://techplay.jp/event/635852?utm_medium=referral&utm_source=ics&utm
 _campaign=ics
END:VEVENT
END:VCALENDAR
