BEGIN:VCALENDAR
VERSION:2.0
PRODID:-//https://techplay.jp//JP
CALSCALE:GREGORIAN
METHOD:PUBLISH
X-WR-CALDESC:Vue.jsもくもく会 #4
X-WR-CALNAME:Vue.jsもくもく会 #4
X-WR-TIMEZONE:Asia/Tokyo
BEGIN:VTIMEZONE
TZID:Asia/Tokyo
BEGIN:STANDARD
DTSTART:19700101T000000
TZOFFSETFROM:+0900
TZOFFSETTO:+0900
TZNAME:JST
END:STANDARD
END:VTIMEZONE
BEGIN:VEVENT
UID:636211@techplay.jp
SUMMARY:Vue.jsもくもく会 #4
DTSTART;TZID=Asia/Tokyo:20171028T100000
DTEND;TZID=Asia/Tokyo:20171028T120000
DTSTAMP:20260421T073547Z
CREATED:20171004T080419Z
DESCRIPTION:イベント詳細はこちら\nhttps://techplay.jp/event/63621
 1?utm_medium=referral&utm_source=ics&utm_campaign=ics\n\nOutline (概要)
 \nLet's build applications using Vue.js.\nもくもくとVue.jsの勉強
 会です。\nWho can come? (対象者)\nAnyone is welcome\, come study s
 ome Vue.js with like minded individuals.\n学生、会社員、初級者
 、上級者でも大丈夫です。新しいことを学んだり、情
 報を交換して行きましょう。\nLocation (会場)\nThe event wil
 l be held at Yahoo Japan's coworking space\, "LODGE". More here: https://
 lodge.yahoo.co.jp/access_pc.html\nIf you have trouble finding the locatio
 n\, message the organiser on connpass.    \n\nClosest Station is Nagatach
 o station. From Hazomon-sen\, exit 7A is the closest. From Nanboku-sen\, 
 9a is the closest.\nWalk passed the Starbucks and cafes. On the right\, e
 nter the building and get the elevator to the 18th floor.\nOn the 18th fl
 oor\, check in at the desk and get a name tag.\nGo down the stairs to the
  17th floor to the coworking space.\n\nコワーキングスペース「L
 ODGE」のミーティングスペースで行います。\n※もし場
 所がわからない方は、connpassで主催者にメッセージし
 てください。\n最寄駅:\n1. 永田町\n半蔵門線は「7出口
 」。有楽町線、南北線は「9a出口」がおすすめです。\n
 2. 赤坂見附\n「D出口」より徒歩1分ほどです。\nhttps://lo
 dge.yahoo.co.jp/access_pc.html  \n東京ガーデンテラス紀尾井町
 からLODGEへ:\n1. 東京ガーデンテラス紀尾井町1Fのカフェ
 横にあるエスカレータから2Fに行きます。\n2. 2Fにエン
 トランスがあるのでエレベータで18Fに上がります。\n3.
  18FがLODGEの受付になっています。受付をして階段で17F
 に降ります。(ここがLODGEのスペースになります)\n4. LODG
 E内にあるプロジェクトスペースを事前に主催者が確保
 しておりますのでそちらでもくもくします。  \n参加費
 \nThe Lodge cooworking space is free!\nコワーキングスペース「L
 ODGE」の利用料をご負担いただきます。  \n※キャンペ
 ーンにより、2017年8月時点では無料で利用できます。  
 \n内容\n\n\n\nTime\nContent\n\n\n\n\n10:00 am\nSelf introduction (自
 己紹介）\n\n\n11:45 am\nShowcase work (成果報告l)\n\n\n12:00 pm\n
 Finish　(終了)\n\n\n\nOf course you are welcome to continue working af
 terwards.\n終わっても勉強しつつけても大丈夫です。\nFac
 ilities (設備)\nWi-Fi\nPower outlet 電源
LOCATION:Coworking space "LODGE"  〒102-0094 Tokyo\, Chiyoda\, Kioicho\, 
 １−2-17F
URL:https://techplay.jp/event/636211?utm_medium=referral&utm_source=ics&utm
 _campaign=ics
END:VEVENT
END:VCALENDAR
