BEGIN:VCALENDAR
VERSION:2.0
PRODID:-//https://techplay.jp//JP
CALSCALE:GREGORIAN
METHOD:PUBLISH
X-WR-CALDESC:よちよち.kotlin #6
X-WR-CALNAME:よちよち.kotlin #6
X-WR-TIMEZONE:Asia/Tokyo
BEGIN:VTIMEZONE
TZID:Asia/Tokyo
BEGIN:STANDARD
DTSTART:19700101T000000
TZOFFSETFROM:+0900
TZOFFSETTO:+0900
TZNAME:JST
END:STANDARD
END:VTIMEZONE
BEGIN:VEVENT
UID:636249@techplay.jp
SUMMARY:よちよち.kotlin #6
DTSTART;TZID=Asia/Tokyo:20171028T100000
DTEND;TZID=Asia/Tokyo:20171028T130000
DTSTAMP:20260421T020542Z
CREATED:20171004T120348Z
DESCRIPTION:イベント詳細はこちら\nhttps://techplay.jp/event/63624
 9?utm_medium=referral&utm_source=ics&utm_campaign=ics\n\nKotlin & Android
 の初学者を中心に助け合いながらもくもくする会です
 。\n2週に1回くらいのペースで運用予定です。\nサポー
 ターの方も大歓迎です。\n(サポーターは質問が来たら
 助けていただく感じで、質問がなければもくもくです)
 \n基本はもくもく会ですが、ネタがあればLTなども受け
 付けます。\n(事前にコメントをお願いします)\nshu_syu_sh
 先生はサポーターです。詰まったら遠慮なく質問する
 ことができます。\n内容\n\n10:00 自己紹介、今日やるこ
 と\nもくもく。LTや相談があることも。\n12:45 今日の成
 果発表\n(希望者で近くのインドカレー屋に行ったりす
 る)\n\n注意\n休日はビルの鍵が閉まっております。\n極
 力10:00にビル裏手に集合ください。\nもし間に合わなけ
 れば、迎えに行きますので Twitter @kaiba @yuyasat までご連
 絡をお願い致します。\nハッシュタグ\n#ycyc_kotlin\n場所\
 n休日はビルの鍵が閉まっております。\n極力10:00にビ
 ル裏手(写真)に集合ください。\nもし間に合わなければ
 、迎えに行きますので Twitter @kaiba @yuyasat までご連絡を
 お願い致します。\nピクスタ株式会社\n〒150-0002 東京都
 渋谷区渋谷二丁目12番19号 東建インターナショナルビ
 ル5階\nヒカリエから2階から出て、クロスタワーを経由
 するのが一番スムーズで、5分程度で着きます。\nhttps:/
 /goo.gl/sRqeZ8\n参加費\n無料\nその他\n\nWifiあります\n電源
 タップありますが全員分はないので譲り合ってご利用
 ください\n途中退室自由\n自販機あり\n飲食可\n
LOCATION:ピクスタ株式会社 東京都渋谷区渋谷二丁目12番19
 号 東建インターナショナルビル5階 
URL:https://techplay.jp/event/636249?utm_medium=referral&utm_source=ics&utm
 _campaign=ics
END:VEVENT
END:VCALENDAR
