BEGIN:VCALENDAR
VERSION:2.0
PRODID:-//https://techplay.jp//JP
CALSCALE:GREGORIAN
METHOD:PUBLISH
X-WR-CALDESC:「データベース・マイグレーションについて
 」- DBテクノロジーを学ぶ！三木会（さんもくかい）＠
 大阪
X-WR-CALNAME:「データベース・マイグレーションについて
 」- DBテクノロジーを学ぶ！三木会（さんもくかい）＠
 大阪
X-WR-TIMEZONE:Asia/Tokyo
BEGIN:VTIMEZONE
TZID:Asia/Tokyo
BEGIN:STANDARD
DTSTART:19700101T000000
TZOFFSETFROM:+0900
TZOFFSETTO:+0900
TZNAME:JST
END:STANDARD
END:VTIMEZONE
BEGIN:VEVENT
UID:636486@techplay.jp
SUMMARY:「データベース・マイグレーションについて」- DB
 テクノロジーを学ぶ！三木会（さんもくかい）＠大阪
DTSTART;TZID=Asia/Tokyo:20171019T183000
DTEND;TZID=Asia/Tokyo:20171019T203000
DTSTAMP:20260425T131635Z
CREATED:20171006T100252Z
DESCRIPTION:イベント詳細はこちら\nhttps://techplay.jp/event/63648
 6?utm_medium=referral&utm_source=ics&utm_campaign=ics\n\n はじめに\n
 情報があるところには後ろで支えている「システム」
 や、そのシステムの中心では「データベース」が必ず
 動いている。そしてシステムをスムーズに運用させ続
 けるためには、データベースに特化したエンジニアが
 必要不可欠。機械にしても、エンジニアにしても学習
 はいつまでも続くもの。ただ、もっと深いところを追
 及し続けるには一人では限界がある。同じような悩み
 を抱えたエンジニア同士、切磋琢磨しながら、解決策
 を見出しながら、新しい関係を築いていきませんか？
 お酒を片手に最新のDBテクノロジーを学ぶオープンな
 勉強会「三木会（さんもくかい）」。Oralce\, SQL Server\, 
 PostgreSQLやMySQL/MariaDBなどのデータベースのコアテクノ
 ロジー、データを分析するためのテクノロジーに注目
 し、更に幅広いデータベース事情を毎回お届けしてい
 ます！！ビール＆軽食をご用意して皆さまのお申し込
 みを楽しみにお待ちしております。\n タイムテーブル\
 n時間タイトル・概要\n\n\n18:15受付開始\n18:30-20:30ご挨拶
 ／乾杯「データベース・マイグレーションについて」
 藤井 元雄 氏 (株式会社シー・エス・イー)SQL Server、Orac
 le間のデータベース・マイグレーションを行うための
 無償ツールであるSQL Server Migration Assistant、および SQL De
 veloper のインストールと使い方の紹介。および、２つ
 のDBのSQLの動作やSQL関数の違いをいくつか紹介させて
 いただきます。\n\n※プログラム内容、タイトルは予告
 なしに変更する可能性があります。\n\n お申込み・詳
 細\n※参加申込は以下のURLからお願いいたします　TechP
 layでは受け付けておりません。https://www.db-tech-showcase.co
 m/events-seminars/db-tech-salon/20171019_3moku\n\n開催概要日 程：2
 017年10月19日(木)　18:30 - 20:30 (受付開始 18:15)会 場：株
 式会社インサイトテクノロジー 大阪支店大阪市北区大
 深町3-1　グランフロント大阪ナレッジキャピタルタワ
 ーC 11Fhttp://www.insight-tec.com/about/参加費：無料\n
LOCATION:株式会社インサイトテクノロジー 大阪支店 大阪
 市北区大深町3-1 グランフロント大阪ナレッジキャピタ
 ルタワーC 11F
URL:https://techplay.jp/event/636486?utm_medium=referral&utm_source=ics&utm
 _campaign=ics
END:VEVENT
END:VCALENDAR
