BEGIN:VCALENDAR
VERSION:2.0
PRODID:-//https://techplay.jp//JP
CALSCALE:GREGORIAN
METHOD:PUBLISH
X-WR-CALDESC:【増員】WebRTC Meetup Tokyo #17 Special Edition
X-WR-CALNAME:【増員】WebRTC Meetup Tokyo #17 Special Edition
X-WR-TIMEZONE:Asia/Tokyo
BEGIN:VTIMEZONE
TZID:Asia/Tokyo
BEGIN:STANDARD
DTSTART:19700101T000000
TZOFFSETFROM:+0900
TZOFFSETTO:+0900
TZNAME:JST
END:STANDARD
END:VTIMEZONE
BEGIN:VEVENT
UID:637372@techplay.jp
SUMMARY:【増員】WebRTC Meetup Tokyo #17 Special Edition
DTSTART;TZID=Asia/Tokyo:20171120T193000
DTEND;TZID=Asia/Tokyo:20171120T215000
DTSTAMP:20260421T195217Z
CREATED:20171014T123659Z
DESCRIPTION:イベント詳細はこちら\nhttps://techplay.jp/event/63737
 2?utm_medium=referral&utm_source=ics&utm_campaign=ics\n\nWebRTC Meetup To
 kyo #17 Special Edition\n\n概要\n\nWebRTC Meetup について\n\nWebRTC
  MeetupはWebRTCに興味がある全ての人向けの勉強会です。
 \n\n\n2014年4月東京で第1回勉強会を開催\n2017年8月大阪で
 初開催\n\n\n触ってみた的なネタから、ビジネスでの活
 用事例まで、コミュニティ・法人・営利・非営利問わ
 ず扱います（WebRTC技術の普及、活用サービスの普及に
 つながるものであれば原則なんでもOKです）\n\n全体的
 な技術レベルはちょっと高めです（初心者の方は是非 
 WebRTC Beginners Tokyoのイベント にもご参加下さい！）\n\n
 配信について\n\nYouTube で配信します https://www.youtube.com/
 watch?v=dsVDzh9sS1A\n\nWebRTC Meetup Tokyo #17 Special Edition につい
 て\n\n※98+2人に増員しました！(11/16)\n\n今回は、WebRTCの
 領域で活躍するスピーカーを海外から多数招いての、
 特別版として開催します！\n\n普段なかなか聞けない話
 を直接聞いて、質問することができます。（※同時通
 訳はありません。ご了承ください）\n\n\n異ブラウザ、
 異デバイス間の相互通信のテスト環境 KITE について\nWe
 bRTC向けサーバーサイドソリューション Janus について\n
 WebRTCやリアルタイム通信のためのWebメディア AllThingsRTC
 .org について\nゲームとWebRTCの話 Evasyst\nWebRTCのコアな
 イベント Kranky Geek WebRTC から主催者の1人が追加来日（1
 1/7 Update）\n\n\n今回の会場、申込みサイトについて\n\n\n
 今回の会場は通常と異なり、TECHPLAY SHIBUYAでの開催とな
 ります。お間違えないようご注意ください\n参加登録
 もTECLPLAYのイベントページをご利用ください\n食べ物、
 飲み物はご用意していません→TokBox社のご厚意で、1人
 1本のドリンクをご用意させていただくことになりまし
 た(11/15)\nアルコールを含む飲食の持ち込みは可能です
 。会場を汚さないようご注意ください\nゴミはお持ち
 帰りいただくようお願いします\n\n\n※通常の開催はこ
 ちらのWebRTC Meetupのページ(atnd)でイベントの案内と参加
 募集を行なっています。初めてのかたは、次回以降の
 ご案内のためぜひWebRTC Meetupのグループにもご参加くだ
 さい。\n\nLT発表の募集について\n\n※LTの募集は締め切
 りました(11/12)。どうもありがとうございます\n\n\nLTを
 募集しています（5～10分　× 2名）。日本語でOKです。
 （もちろん英語も歓迎します）\nイベント申し込み時
 に、LT枠でお申し込みください\n\n\nタイムスケジュー
 ル\n\n※2017/11/07 更新\n\n\n\n\n  時間\n  内容\n  登壇者\n\n\
 n\n\n  19:00〜\n  受付開始\n  \n\n\n  19:30〜19:35\n  オープニ
 ング\n  \n\n\n  19:35〜19:55\n  KITE: a new WebRTC Interoperability Te
 sting Engine\n  Dr. Alex Gouaillard\n\n\n  19:55〜20:15\n  Janus: the se
 rver-side WebRTC jack-of-all-trades\n  Lorenzo miniero\n\n\n  20:15〜20:
 35\n  AllThingsRTC.org - a new voice for the real-time communications ind
 ustry\n  Dan Burnett\n\n\n  20:35〜20:45\n  LT1: PythonとWebRTCを頑
 張ってつないだ話\n  @tnoho\n\n\n  20:45〜20:55\n  休憩\n  \n\n
 \n  20:55〜21:15\n  Applications of WebRTC In Gaming\n  Jordan Baucke\n\
 n\n  20:15〜20:35\n  Kranky Geek Latest Show Contents  ML\, VR\,  AI wit
 h WebRTC & More\n  Chris Koehncke\n\n\n  21:35〜21:45\n  LT2: WebRTC で
 ご飯は食べられるのか？\n  @voluntas\n\n\n  21:45〜21:50\n  
 クロージング\n  \n\n\n\n\n※ 当日予告なく時間配分・内
 容が変更になる可能性がございます。\n\n登壇者\n\n\n\nD
 r. Alex Gouaillard\n\nCEO and Founder of CoSMo Software\n\nDr. Alex Gouai
 llard is CEO and Founder of CoSMo Software\, a WebRTC consulting and tool
 ing company. Winner of 3 WebRTC Conference and Expo Industrial Awards (20
 13~2014)\, as well as 1 WebRTC Pioneer Award (2014)\, Co-Leader of the We
 bRTC-in-Webkit Project with Ericsson R&D (2015)\, he is regarded as one o
 f the pioneers of Web Real-Time Communication (WebRTC).\nInvited Expert o
 f the W3C WebRTC Working Group\, he is in charge of the WebRTC test suite
 \, and browsers interoperability. Active member of IETF\, he participates
  to the definition of all WebRTC specifications\, and some more\, like PE
 RC. He is also co-chair of the IMTC WebRTC Interoperability Group.\nDr. A
 lex holds two PhDs from INSA\, France\, and KEIO University\, Japan. He h
 as deep experience in communications\, signal and image processing. In th
 e past\, he has established and led successful research groups at Caltech
  University\, Harvard University\, and the Singaporean Agency for Science
 \, Technology and Research. Dr. Alex was also involved in several innovat
 ive startups in Europe\, North America\, and APAC. He speaks to some leve
 l French\, German\, English\, Japanese\, Chinese\, Thai and Filipino\, al
 l with a French accent.\n\n\n\n\n\n\nLorenzo miniero\n\nChairman and co-f
 ounder of Meetecho\n\nLorenzo Miniero is the chairman and co-founder of M
 eetecho\, a company providing consulting services on everything related t
 o real-time multimedia\, while also regularly providing streaming and rem
 ote participation services for well known events around the world (e.g.\,
  IETF and ACM). Lorenzo received his degree and Ph.D. at the Computer Sci
 ence Department of the University of Napoli Federico II\, where he starte
 d working on multimedia conferencing and met the colleagues with whom he 
 co-founded Meetecho as an academic spin-off. He is an active contributor 
 to the Internet Engineering Task Force (IETF) standardization activities\
 , especially in the framework of real-time multimedia applications. He is
  most known as the author of the Janus WebRTC Server\, an open source Web
 RTC server-side implementation.\n\n\n\n\n\n\nDan Burnett\n\nAllThingsRTC.
 org\, W3C Editor\n\nDr. Burnett has almost 20 years of experience in Web 
 and Internet standards.  As Principal for StandardsPlay\, his consulting 
 firm\, Dan helps companies play the standards game\, both advising client
 s in how they can strengthen their brand and market positions through sta
 ndards leadership and representing them directly in organizations such as
  W3C and the IETF when appropriate.\n\nDan's introduction to standards ca
 me while a researcher in automatic speech recognition technology at Nuanc
 e\, well-known worldwide for its voice recognition technology.  Beginning
  when the World Wide Web Consortium\, the organization responsible for HT
 ML\, was only 5 years old\, Dan co-created VoiceXML\, the still-reigning 
 standard for Interactive Voice Response systems\, receiving two Speech Lu
 minary awards from SpeechTech magazine for his contributions to the indus
 try.  Through roles at Vocalocity\, Voxeo\, Tropo\, and Aspect\, Dan cont
 inued to lead in the development of VoiceXML and its related SRGS\, SSML\
 , SISR\, and other standards.\n\nWhile at Voxeo\, Tropo\, and Aspect\, Da
 n's standards focus gradually added and then transitioned to the developm
 ent of WebRTC\, the JavaScript APIs in major web browsers that provide pl
 ugin-free audio\, video\, and real-time peer-to-peer communications.  Dan
  is the initial and longest-running editor of the W3C's WebRTC and Media 
 Capture and Streams standards specifications.  A frequent speaker at conf
 erences\, Dan is also co-author of the most popular book on WebRTC.\n\nDa
 n's newest project is the nascent work on Verifiable Claims at W3C\, a br
 oadly-backed effort to standardize self-sovereign\, cryptographically-ver
 ifiable claims/credentials/attestations that can fully replace the need f
 or centralized digital identifiers online.  A past Board member of the Vo
 iceXML Forum\, Dan is currently serving as a Director of the IEEE-ISTO.  
 Dan has also recently started AllThingsRTC.org\, a site dedicated to the 
 real-time communications industry.\n\n\n\n\n\n\nJordan Baucke\n\nCo-found
 er and CTO of Evasyst Inc.\n\nJordan Baucke is co-founder and CTO of Evas
 yst Inc. (Irvine\, CA.)\, a start-up focused on producing software tools 
 for competitive eSports players. Evasyst's tools allow gamers to compete 
 more effectively by augmenting their gaming experience through multi-view
  screen sharing. \nEvasyst partners with collegian and professional eSpor
 ts clubs and programs to help gamers\, coaches and analysts game more eff
 ectively. Today Evasyst has raised over $2 million in venture capital fun
 ding and has over 100 collegiate eSports partners. \nEvasyst's software e
 ngineering team is distributed globally with contractors and employees in
  Finland\, Italy\, Singapore\, Hong Kong\, Greece\, Germany\, Spain\, and
  the Netherlands. Evasyst has made a significant investment in understand
 ing and leveraging C++ software (Qt framework) for multiple-gaming platfo
 rms (Desktop\, Console and Mobile). Evasyst is also investing heavily in 
 leveraging WebRTC technology to integrate new streaming experiences for i
 t’s customers.\nJordan holds a BS in Computer Science and Computer Engi
 neering from the University of Colorado\, Boulder. Jordan has worked at 6
 + start-up companies in the Denver/Boulder\, Colorado region\, San Franci
 sco/Bay Area (Silicon Valley)\, and Southern California\, as well as Hong
  Kong\, PRC.\, and Mumbai\, India. \nThese start-ups focused on a variety
  of products and services such as Enterprise CRM (Salesforce)\, sports / 
 entertainment social media presence\, cryptocurrency/blockchain\, venture
  capital\, as well as NGO/NP organizations. \nAn interest in high-frequen
 cy trading and GPU accelerator technology lead to an interest in video ap
 plications as well as cryptocurrency/blockchain technology. Jordan hopes 
 to continue his career connecting engineers and technologists around the 
 globe through open-source software.   \n\n\n\n\n\n\nChris Koehncke\n\nTok
 Bok\, Organizer of The Kranky Geek Event\n\nChris Koehncke is Prolific wr
 iter & commenter on emerging communications technologies.\n\nKRANKY GEEK 
 WEBRTC SHOW \nOur goal is to bring knowledge of WebRTC and related techno
 logies with the practical expertise to anyone with interest at absolutely
  no charge to the viewer. We invite the industry’s most respected pract
 itioners to speak at intimate events where the focus is on the talks. We 
 strictly review\, refine\, and rehearse the content to make sure it is co
 mpelling and useful. We always the needs of the audience before sponsors.
  We make all our content in its entirety is freely available to all. We s
 trive to provide remote and post-event viewers a first-class experience\,
  no matter where or when they happen to be watching.\n\n\n\n\n参加対
 象\n\n\nエンジニア\nデザイナー\nマーケター\n\n\n※ リ
 クルーティング、勧誘など、採用目的のみでのイベン
 ト参加はお断りしております。\n※ 補欠者の方は、ご
 来場いただいてもご入場いただけないことがあります
 。あらかじめご了承ください。\n※ 欠席される場合は
 、お手数ですが速やかにキャンセル処理をお願い致し
 ます。\n\n参加費\n\n無料\n\nハッシュタグ\n\n#webrtcjp\n#tec
 hplayjp\n\nお問い合わせ\n\nイベントに関するお問い合わ
 せはこちらからお願いします。\n\n注意事項\n\nリクル
 ーティング、勧誘、採用活動、人の話を聞かないなど
 、目的に沿わない行為につきまして、主催者が相応し
 くないと判断した場合は退出していただきます。全員
 が気持ちよく過ごすことが出来るよう、ご協力をお願
 い致します。\n
LOCATION:TECH PLAY SHIBUYA 東京都渋谷区宇田川町20-17 NMF渋谷公
 園通りビル 8F
URL:https://techplay.jp/event/637372?utm_medium=referral&utm_source=ics&utm
 _campaign=ics
END:VEVENT
END:VCALENDAR
