BEGIN:VCALENDAR
VERSION:2.0
PRODID:-//https://techplay.jp//JP
CALSCALE:GREGORIAN
METHOD:PUBLISH
X-WR-CALDESC:サムザップテックナイトvol.6
X-WR-CALNAME:サムザップテックナイトvol.6
X-WR-TIMEZONE:Asia/Tokyo
BEGIN:VTIMEZONE
TZID:Asia/Tokyo
BEGIN:STANDARD
DTSTART:19700101T000000
TZOFFSETFROM:+0900
TZOFFSETTO:+0900
TZNAME:JST
END:STANDARD
END:VTIMEZONE
BEGIN:VEVENT
UID:637855@techplay.jp
SUMMARY:サムザップテックナイトvol.6
DTSTART;TZID=Asia/Tokyo:20171116T193000
DTEND;TZID=Asia/Tokyo:20171116T213000
DTSTAMP:20260421T141452Z
CREATED:20171019T081336Z
DESCRIPTION:イベント詳細はこちら\nhttps://techplay.jp/event/63785
 5?utm_medium=referral&utm_source=ics&utm_campaign=ics\n\n【サムザッ
 プテックナイトとは？】\nスマートフォンゲーム業界
 を盛り上げていくことを目的に、テーマに合わせて専
 門性の高い方をお呼びし、「実務で活かせる生の情報
 」を持ち帰っていただけるような勉強会を定期的に開
 催しています。\n【サムザップテックナイトvol.6概要】
 \n第6回は、アマゾン ウェブ サービス ジャパン株式会
 社からソリューションアーキテクトの成田俊（なりた
 ・たかし）氏をお招きし、株式会社サムザップのイン
 フラエンジニア、吉岡賢 (よしおか・すぐる)との対談
 形式で行います。\nサムザップのスマートフォンゲー
 ムを支える大規模インフラのクラウド化の課題につい
 て、ソリューションアーキテクトの立場から、時間の
 許す限り最適解を議論します。\n＜対談テーマ＞\n・シ
 ステム構築・運用する上でのオンプレミスとの差異\n
 ・移設する上での既存システムとの連携\n・AWS マネー
 ジドサービスを最大限に活かす方法・構成(Amazon Aurora
 　など)\n・サーバーレスコンピューティング（AWS Lambda
 など）\n【登壇者】\nアマゾン ウェブ サービス ジャパ
 ン株式会社　成田俊（なりた・たかし）氏\nソリュー
 ションアーキテクト\n\nWeb系IT企業で主にインフラエン
 ジニアとして経験を積み、ソリューションアーキテク
 トとしてWeb系サービスの技術支援やNoSQL系データスト
 ア関連の技術支援を行っている。\nCassandra summit JPN 2014
 、2017スピーカー\n株式会社サムザップ　吉岡賢（よし
 おか・すぐる）\nインフラエンジニア\n\n大学院在学中
 ベンチャー企業にて 社内システムやwebシステムなどを
 開発・運用。\n博士前期課程修了後、株式会社サイバ
 ーエージェントへ入社。\n出向先の株式会社サムザッ
 プでは、オンプレミスの運用保守と改善に取り組みつ
 つ、 パブリッククラウド向けの設計・運用・開発に従
 事している。\n【会場紹介】\n渋谷キャスト　スペース
 \n東京都渋谷区渋谷1-23-21\nhttp://shibuyacast.jp/access/\n【タ
 イムスケジュール】\n※当日の状況により多少前後す
 ることがございます。\n19:00～　開場\n19:30～19:35　司会
 挨拶(5分）\n19:35～20:20　対談（45分）\n20:20～20:35　質疑
 応答(15分)\n20:35～20:45　休憩（10分）\n20:45～21:30　懇親
 会
LOCATION:渋谷キャスト スペース 東京都渋谷区渋谷1-23-21	
URL:https://techplay.jp/event/637855?utm_medium=referral&utm_source=ics&utm
 _campaign=ics
END:VEVENT
END:VCALENDAR
